Workbook

Sheet Tabelle1
H1: Alter | I1: Altersmod. | J1: Positionsmod. | N1: Wert | O1: Stärke
H2: =RIGHT(D2,3) | I2: =VLOOKUP(H3,Alter!$A$1:$B$25,2,FALSE) -> #N/A | J2: =VLOOKUP(C3,Positionen!$A$1:$B$13,2,0) -> #N/A | K2: =RIGHT(G2,8) | L2: =LEFT(G2,3) | M2: =IF(K2="Mio. € ",L2*1000000,L2*1000) -> #VALUE! | N2: =M2*(1+(I2-1)+(J2-1)) -> #VALUE! | O2: =VLOOKUP(N2/1000000,Werte!$A$1:$B$41,2,1) -> #VALUE!
H3: =LEFT(H2,2) | I3: =VLOOKUP(H4,Alter!$A$1:$B$25,2,FALSE) -> #N/A | K3: =RIGHT(G3,8) | L3: =LEFT(G3,3) | N3: =M3*(1+(I3-1)+(J3-1)) -> #N/A | O3: =VLOOKUP(N3/1000000,Werte!$A$1:$B$41,2,1) -> #N/A
H4: =RIGHT(D4,3) | I4: =VLOOKUP(H5,Alter!$A$1:$B$25,2,FALSE) -> #N/A | J4: =VLOOKUP(C5,Positionen!$A$1:$B$13,2,0) -> #N/A | K4: =RIGHT(G4,8) | L4: =LEFT(G4,3) | M4: =IF(K4="Mio. € ",L4*1000000,L4*1000) -> #VALUE! | N4: =M4*(1+(I4-1)+(J4-1)) -> #VALUE! | O4: =VLOOKUP(N4/1000000,Werte!$A$1:$B$41,2,1) -> #VALUE!
H5: =LEFT(H4,2) | I5: =VLOOKUP(H6,Alter!$A$1:$B$25,2,FALSE) -> #N/A | K5: =RIGHT(G5,8) | L5: =LEFT(G5,3) | N5: =M5*(1+(I5-1)+(J5-1)) -> #N/A | O5: =VLOOKUP(N5/1000000,Werte!$A$1:$B$41,2,1) -> #N/A
H6: =RIGHT(D6,3) | I6: =VLOOKUP(H7,Alter!$A$1:$B$25,2,FALSE) -> #N/A | J6: =VLOOKUP(C7,Positionen!$A$1:$B$13,2,0) -> #N/A | K6: =RIGHT(G6,8) | L6: =LEFT(G6,3) | M6: =IF(K6="Mio. € ",L6*1000000,L6*1000) -> #VALUE! | N6: =M6*(1+(I6-1)+(J6-1)) -> #VALUE! | O6: =VLOOKUP(N6/1000000,Werte!$A$1:$B$41,2,1) -> #VALUE!
H7: =LEFT(H6,2) | I7: =VLOOKUP(H8,Alter!$A$1:$B$25,2,FALSE) -> #N/A | K7: =RIGHT(G7,8) | L7: =LEFT(G7,3) | N7: =M7*(1+(I7-1)+(J7-1)) -> #N/A | O7: =VLOOKUP(N7/1000000,Werte!$A$1:$B$41,2,1) -> #N/A
H8: =RIGHT(D8,3) | I8: =VLOOKUP(H9,Alter!$A$1:$B$25,2,FALSE) -> #N/A | J8: =VLOOKUP(C9,Positionen!$A$1:$B$13,2,0) -> #N/A | K8: =RIGHT(G8,8) | L8: =LEFT(G8,3) | M8: =IF(K8="Mio. € ",L8*1000000,L8*1000) -> #VALUE! | N8: =M8*(1+(I8-1)+(J8-1)) -> #VALUE! | O8: =VLOOKUP(N8/1000000,Werte!$A$1:$B$41,2,1) -> #VALUE!
H9: =LEFT(H8,2) | I9: =VLOOKUP(H10,Alter!$A$1:$B$25,2,FALSE) -> #N/A | K9: =RIGHT(G9,8) | L9: =LEFT(G9,3) | N9: =M9*(1+(I9-1)+(J9-1)) -> #N/A | O9: =VLOOKUP(N9/1000000,Werte!$A$1:$B$41,2,1) -> #N/A
H10: =RIGHT(D10,3) | I10: =VLOOKUP(H11,Alter!$A$1:$B$25,2,FALSE) -> #N/A | J10: =VLOOKUP(C11,Positionen!$A$1:$B$13,2,0) -> #N/A | K10: =RIGHT(G10,8) | L10: =LEFT(G10,3) | M10: =IF(K10="Mio. € ",L10*1000000,L10*1000) -> #VALUE! | N10: =M10*(1+(I10-1)+(J10-1)) -> #VALUE! | O10: =VLOOKUP(N10/1000000,Werte!$A$1:$B$41,2,1) -> #VALUE!
H11: =LEFT(H10,2) | I11: =VLOOKUP(H12,Alter!$A$1:$B$25,2,FALSE) -> #N/A | K11: =RIGHT(G11,8) | L11: =LEFT(G11,3) | N11: =M11*(1+(I11-1)+(J11-1)) -> #N/A | O11: =VLOOKUP(N11/1000000,Werte!$A$1:$B$41,2,1) -> #N/A
H12: =RIGHT(D12,3) | I12: =VLOOKUP(H13,Alter!$A$1:$B$25,2,FALSE) -> #N/A | J12: =VLOOKUP(C13,Positionen!$A$1:$B$13,2,0) -> #N/A | K12: =RIGHT(G12,8) | L12: =LEFT(G12,3) | M12: =IF(K12="Mio. € ",L12*1000000,L12*1000) -> #VALUE! | N12: =M12*(1+(I12-1)+(J12-1)) -> #VALUE! | O12: =VLOOKUP(N12/1000000,Werte!$A$1:$B$41,2,1) -> #VALUE!
H13: =LEFT(H12,2) | I13: =VLOOKUP(H14,Alter!$A$1:$B$25,2,FALSE) -> #N/A | K13: =RIGHT(G13,8) | L13: =LEFT(G13,3) | N13: =M13*(1+(I13-1)+(J13-1)) -> #N/A | O13: =VLOOKUP(N13/1000000,Werte!$A$1:$B$41,2,1) -> #N/A
H14: =RIGHT(D14,3) | I14: =VLOOKUP(H15,Alter!$A$1:$B$25,2,FALSE) -> #N/A | J14: =VLOOKUP(C15,Positionen!$A$1:$B$13,2,0) -> #N/A | K14: =RIGHT(G14,8) | L14: =LEFT(G14,3) | M14: =IF(K14="Mio. € ",L14*1000000,L14*1000) -> #VALUE! | N14: =M14*(1+(I14-1)+(J14-1)) -> #VALUE! | O14: =VLOOKUP(N14/1000000,Werte!$A$1:$B$41,2,1) -> #VALUE!
H15: =LEFT(H14,2) | I15: =VLOOKUP(H16,Alter!$A$1:$B$25,2,FALSE) -> #N/A | K15: =RIGHT(G15,8) | L15: =LEFT(G15,3) | N15: =M15*(1+(I15-1)+(J15-1)) -> #N/A | O15: =VLOOKUP(N15/1000000,Werte!$A$1:$B$41,2,1) -> #N/A
H16: =RIGHT(D16,3) | I16: =VLOOKUP(H17,Alter!$A$1:$B$25,2,FALSE) -> #N/A | J16: =VLOOKUP(C17,Positionen!$A$1:$B$13,2,0) -> #N/A | K16: =RIGHT(G16,8) | L16: =LEFT(G16,3) | M16: =IF(K16="Mio. € ",L16*1000000,L16*1000) -> #VALUE! | N16: =M16*(1+(I16-1)+(J16-1)) -> #VALUE! | O16: =VLOOKUP(N16/1000000,Werte!$A$1:$B$41,2,1) -> #VALUE!
H17: =LEFT(H16,2) | I17: =VLOOKUP(H18,Alter!$A$1:$B$25,2,FALSE) -> #N/A | K17: =RIGHT(G17,8) | L17: =LEFT(G17,3) | N17: =M17*(1+(I17-1)+(J17-1)) -> #N/A | O17: =VLOOKUP(N17/1000000,Werte!$A$1:$B$41,2,1) -> #N/A
H18: =RIGHT(D18,3) | I18: =VLOOKUP(H19,Alter!$A$1:$B$25,2,FALSE) -> #N/A | J18: =VLOOKUP(C19,Positionen!$A$1:$B$13,2,0) -> #N/A | K18: =RIGHT(G18,8) | L18: =LEFT(G18,3) | M18: =IF(K18="Mio. € ",L18*1000000,L18*1000) -> #VALUE! | N18: =M18*(1+(I18-1)+(J18-1)) -> #VALUE! | O18: =VLOOKUP(N18/1000000,Werte!$A$1:$B$41,2,1) -> #VALUE!
H19: =LEFT(H18,2) | I19: =VLOOKUP(H20,Alter!$A$1:$B$25,2,FALSE) -> #N/A | K19: =RIGHT(G19,8) | L19: =LEFT(G19,3) | N19: =M19*(1+(I19-1)+(J19-1)) -> #N/A | O19: =VLOOKUP(N19/1000000,Werte!$A$1:$B$41,2,1) -> #N/A
H20: =RIGHT(D20,3) | I20: =VLOOKUP(H21,Alter!$A$1:$B$25,2,FALSE) -> #N/A | J20: =VLOOKUP(C21,Positionen!$A$1:$B$13,2,0) -> #N/A | K20: =RIGHT(G20,8) | L20: =LEFT(G20,3) | M20: =IF(K20="Mio. € ",L20*1000000,L20*1000) -> #VALUE! | N20: =M20*(1+(I20-1)+(J20-1)) -> #VALUE! | O20: =VLOOKUP(N20/1000000,Werte!$A$1:$B$41,2,1) -> #VALUE!
H21: =LEFT(H20,2) | I21: =VLOOKUP(H22,Alter!$A$1:$B$25,2,FALSE) -> #N/A | K21: =RIGHT(G21,8) | L21: =LEFT(G21,3) | N21: =M21*(1+(I21-1)+(J21-1)) -> #N/A | O21: =VLOOKUP(N21/1000000,Werte!$A$1:$B$41,2,1) -> #N/A
H22: =RIGHT(D22,3) | I22: =VLOOKUP(H23,Alter!$A$1:$B$25,2,FALSE) -> #N/A | J22: =VLOOKUP(C23,Positionen!$A$1:$B$13,2,0) -> #N/A | K22: =RIGHT(G22,8) | L22: =LEFT(G22,3) | M22: =IF(K22="Mio. € ",L22*1000000,L22*1000) -> #VALUE! | N22: =M22*(1+(I22-1)+(J22-1)) -> #VALUE! | O22: =VLOOKUP(N22/1000000,Werte!$A$1:$B$41,2,1) -> #VALUE!
H23: =LEFT(H22,2) | I23: =VLOOKUP(H24,Alter!$A$1:$B$25,2,FALSE) -> #N/A | K23: =RIGHT(G23,8) | L23: =LEFT(G23,3) | N23: =M23*(1+(I23-1)+(J23-1)) -> #N/A | O23: =VLOOKUP(N23/1000000,Werte!$A$1:$B$41,2,1) -> #N/A
H24: =RIGHT(D24,3) | I24: =VLOOKUP(H25,Alter!$A$1:$B$25,2,FALSE) -> #N/A | J24: =VLOOKUP(C25,Positionen!$A$1:$B$13,2,0) -> #N/A | K24: =RIGHT(G24,8) | L24: =LEFT(G24,3) | M24: =IF(K24="Mio. € ",L24*1000000,L24*1000) -> #VALUE! | N24: =M24*(1+(I24-1)+(J24-1)) -> #VALUE! | O24: =VLOOKUP(N24/1000000,Werte!$A$1:$B$41,2,1) -> #VALUE!
H25: =LEFT(H24,2) | I25: =VLOOKUP(H26,Alter!$A$1:$B$25,2,FALSE) -> #N/A | K25: =RIGHT(G25,8) | L25: =LEFT(G25,3) | N25: =M25*(1+(I25-1)+(J25-1)) -> #N/A | O25: =VLOOKUP(N25/1000000,Werte!$A$1:$B$41,2,1) -> #N/A
H26: =RIGHT(D26,3) | I26: =VLOOKUP(H27,Alter!$A$1:$B$25,2,FALSE) -> #N/A | J26: =VLOOKUP(C27,Positionen!$A$1:$B$13,2,0) -> #N/A | K26: =RIGHT(G26,8) | L26: =LEFT(G26,3) | M26: =IF(K26="Mio. € ",L26*1000000,L26*1000) -> #VALUE! | N26: =M26*(1+(I26-1)+(J26-1)) -> #VALUE! | O26: =VLOOKUP(N26/1000000,Werte!$A$1:$B$41,2,1) -> #VALUE!
H27: =LEFT(H26,2) | I27: =VLOOKUP(H28,Alter!$A$1:$B$25,2,FALSE) -> #N/A | K27: =RIGHT(G27,8) | L27: =LEFT(G27,3) | N27: =M27*(1+(I27-1)+(J27-1)) -> #N/A | O27: =VLOOKUP(N27/1000000,Werte!$A$1:$B$41,2,1) -> #N/A
H28: =RIGHT(D28,3) | I28: =VLOOKUP(H29,Alter!$A$1:$B$25,2,FALSE) -> #N/A | J28: =VLOOKUP(C29,Positionen!$A$1:$B$13,2,0) -> #N/A | K28: =RIGHT(G28,8) | L28: =LEFT(G28,3) | M28: =IF(K28="Mio. € ",L28*1000000,L28*1000) -> #VALUE! | N28: =M28*(1+(I28-1)+(J28-1)) -> #VALUE! | O28: =VLOOKUP(N28/1000000,Werte!$A$1:$B$41,2,1) -> #VALUE!
H29: =LEFT(H28,2) | I29: =VLOOKUP(H30,Alter!$A$1:$B$25,2,FALSE) -> #N/A | K29: =RIGHT(G29,8) | L29: =LEFT(G29,3) | N29: =M29*(1+(I29-1)+(J29-1)) -> #N/A | O29: =VLOOKUP(N29/1000000,Werte!$A$1:$B$41,2,1) -> #N/A
H30: =RIGHT(D30,3) | I30: =VLOOKUP(H31,Alter!$A$1:$B$25,2,FALSE) -> #N/A | J30: =VLOOKUP(C31,Positionen!$A$1:$B$13,2,0) -> #N/A | K30: =RIGHT(G30,8) | L30: =LEFT(G30,3) | M30: =IF(K30="Mio. € ",L30*1000000,L30*1000) -> #VALUE! | N30: =M30*(1+(I30-1)+(J30-1)) -> #VALUE! | O30: =VLOOKUP(N30/1000000,Werte!$A$1:$B$41,2,1) -> #VALUE!
H31: =LEFT(H30,2) | I31: =VLOOKUP(H32,Alter!$A$1:$B$25,2,FALSE) -> #N/A | K31: =RIGHT(G31,8) | L31: =LEFT(G31,3) | N31: =M31*(1+(I31-1)+(J31-1)) -> #N/A | O31: =VLOOKUP(N31/1000000,Werte!$A$1:$B$41,2,1) -> #N/A
H32: =RIGHT(D32,3) | I32: =VLOOKUP(H33,Alter!$A$1:$B$25,2,FALSE) -> #N/A | J32: =VLOOKUP(C33,Positionen!$A$1:$B$13,2,0) -> #N/A | K32: =RIGHT(G32,8) | L32: =LEFT(G32,3) | M32: =IF(K32="Mio. € ",L32*1000000,L32*1000) -> #VALUE! | N32: =M32*(1+(I32-1)+(J32-1)) -> #VALUE! | O32: =VLOOKUP(N32/1000000,Werte!$A$1:$B$41,2,1) -> #VALUE!
H33: =LEFT(H32,2) | I33: =VLOOKUP(H34,Alter!$A$1:$B$25,2,FALSE) -> #N/A | K33: =RIGHT(G33,8) | L33: =LEFT(G33,3) | N33: =M33*(1+(I33-1)+(J33-1)) -> #N/A | O33: =VLOOKUP(N33/1000000,Werte!$A$1:$B$41,2,1) -> #N/A
H34: =RIGHT(D34,3) | I34: =VLOOKUP(H35,Alter!$A$1:$B$25,2,FALSE) -> #N/A | J34: =VLOOKUP(C35,Positionen!$A$1:$B$13,2,0) -> #N/A | K34: =RIGHT(G34,8) | L34: =LEFT(G34,3) | M34: =IF(K34="Mio. € ",L34*1000000,L34*1000) -> #VALUE! | N34: =M34*(1+(I34-1)+(J34-1)) -> #VALUE! | O34: =VLOOKUP(N34/1000000,Werte!$A$1:$B$41,2,1) -> #VALUE!
H35: =LEFT(H34,2) | I35: =VLOOKUP(H36,Alter!$A$1:$B$25,2,FALSE) -> #N/A | K35: =RIGHT(G35,8) | L35: =LEFT(G35,3) | N35: =M35*(1+(I35-1)+(J35-1)) -> #N/A | O35: =VLOOKUP(N35/1000000,Werte!$A$1:$B$41,2,1) -> #N/A
H36: =RIGHT(D36,3) | I36: =VLOOKUP(H37,Alter!$A$1:$B$25,2,FALSE) -> #N/A | J36: =VLOOKUP(C37,Positionen!$A$1:$B$13,2,0) -> #N/A | K36: =RIGHT(G36,8) | L36: =LEFT(G36,3) | M36: =IF(K36="Mio. € ",L36*1000000,L36*1000) -> #VALUE! | N36: =M36*(1+(I36-1)+(J36-1)) -> #VALUE! | O36: =VLOOKUP(N36/1000000,Werte!$A$1:$B$41,2,1) -> #VALUE!
H37: =LEFT(H36,2) | I37: =VLOOKUP(H38,Alter!$A$1:$B$25,2,FALSE) -> #N/A | K37: =RIGHT(G37,8) | L37: =LEFT(G37,3) | N37: =M37*(1+(I37-1)+(J37-1)) -> #N/A | O37: =VLOOKUP(N37/1000000,Werte!$A$1:$B$41,2,1) -> #N/A
H38: =RIGHT(D38,3) | I38: =VLOOKUP(H39,Alter!$A$1:$B$25,2,FALSE) -> #N/A | J38: =VLOOKUP(C39,Positionen!$A$1:$B$13,2,0) -> #N/A | K38: =RIGHT(G38,8) | L38: =LEFT(G38,3) | M38: =IF(K38="Mio. € ",L38*1000000,L38*1000) -> #VALUE! | N38: =M38*(1+(I38-1)+(J38-1)) -> #VALUE! | O38: =VLOOKUP(N38/1000000,Werte!$A$1:$B$41,2,1) -> #VALUE!
H39: =LEFT(H38,2) | I39: =VLOOKUP(H40,Alter!$A$1:$B$25,2,FALSE) -> #N/A | K39: =RIGHT(G39,8) | L39: =LEFT(G39,3) | N39: =M39*(1+(I39-1)+(J39-1)) -> #N/A | O39: =VLOOKUP(N39/1000000,Werte!$A$1:$B$41,2,1) -> #N/A
H40: =RIGHT(D40,3) | I40: =VLOOKUP(H41,Alter!$A$1:$B$25,2,FALSE) -> #N/A | J40: =VLOOKUP(C41,Positionen!$A$1:$B$13,2,0) -> #N/A | K40: =RIGHT(G40,8) | L40: =LEFT(G40,3) | M40: =IF(K40="Mio. € ",L40*1000000,L40*1000) -> #VALUE! | N40: =M40*(1+(I40-1)+(J40-1)) -> #VALUE! | O40: =VLOOKUP(N40/1000000,Werte!$A$1:$B$41,2,1) -> #VALUE!
...

Sheet Positionen
A1: Offensives Mittelfeld | B1: 1
A2: Linksaußen | B2: 0.8
A3: Rechtsaußen | B3: 0.8
A4: Hängende Spitze | B4: 0.8
A5: Mittelstürmer | B5: 0.8
A6: Defensives Mittelfeld | B6: 1.25
A7: Zentrales Mittelfeld | B7: 1.25
A8: Rechtes Mittelfeld | B8: 1.25
A9: Linkes Mittelfeld | B9: 1.25
A10: Torwart | B10: 1.75
A11: Innenverteidiger | B11: 1.5
A12: Linker Verteidiger | B12: 1.5
A13: Rechter Verteidiger | B13: 1.5

Sheet Werte
A1: 0 | B1: 1
A2: 0.0025 | B2: 1.5
A3: 0.005 | B3: 2
A4: 0.01 | B4: 2.5
A5: 0.015 | B5: 3
A6: 0.025 | B6: 3.5
A7: 0.05 | B7: 4
A8: 0.075 | B8: 4.5
A9: 0.1 | B9: 5
A10: 0.15 | B10: 5.5
A11: 0.25 | B11: 6
A12: 0.3 | B12: 6.5
... A41: 300 | B41: 21

Sheet Alter
A1: 16 | B1: 0.3
A2: 17 | B2: 0.31
A3: 18 | B3: 0.32
A4: 19 | B4: 0.33
A5: 20 | B5: 0.34
A6: 21 | B6: 0.35
A7: 22 | B7: 0.4
A8: 23 | B8: 0.45
A9: 24 | B9: 0.5
A10: 25 | B10: 0.6
A11: 26 | B11: 0.7
A12: 27 | B12: 0.8
... A25: 40 | B25: 5.5
