Workbook

Sheet Tabelle1
H1: Alter | I1: Altersmod. | J1: Positionsmod. | N1: Wert | O1: Stärke
H2: =RIGHT(D2,3) | I2: =VLOOKUP(H3,Alter!$A$1:$B$25,2,FALSE) -> #N/A | J2: =VLOOKUP(C3,Positionen!$A$1:$B$13,2,0) -> #N/A | K2: =RIGHT(G2,8) | L2: =LEFT(G2,3) | M2: =IF(K2="Mio. € ",L2*1000000,L2*1000) -> #VALUE! | N2: =M2*(1+(I2-1)+(J2-1)) -> #VALUE! | O2: =VLOOKUP(N2/1000000,Werte!$A$1:$B$41,2,1) -> #VALUE!
H3: =LEFT(H2,2) | I3: =VLOOKUP(H4,Alter!$A$1:$B$25,2,FALSE) -> #N/A | K3: =RIGHT(G3,8) | L3: =LEFT(G3,3) | N3: =M3*(1+(I3-1)+(J3-1)) -> #N/A | O3: =VLOOKUP(N3/1000000,Werte!$A$1:$B$41,2,1) -> #N/A
H4: =RIGHT(D4,3) | I4: =VLOOKUP(H5,Alter!$A$1:$B$25,2,FALSE) -> #N/A | J4: =VLOOKUP(C5,Positionen!$A$1:$B$13,2,0) -> #N/A | K4: =RIGHT(G4,8) | L4: =LEFT(G4,3) | M4: =IF(K4="Mio. € ",L4*1000000,L4*1000) -> #VALUE! | N4: =M4*(1+(I4-1)+(J4-1)) -> #VALUE! | O4: =VLOOKUP(N4/1000000,Werte!$A$1:$B$41,2,1) -> #VALUE!
H5: =LEFT(H4,2) | I5: =VLOOKUP(H6,Alter!$A$1:$B$25,2,FALSE) -> #N/A | K5: =RIGHT(G5,8) | L5: =LEFT(G5,3) | N5: =M5*(1+(I5-1)+(J5-1)) -> #N/A | O5: =VLOOKUP(N5/1000000,Werte!$A$1:$B$41,2,1) -> #N/A
H6: =RIGHT(D6,3) | I6: =VLOOKUP(H7,Alter!$A$1:$B$25,2,FALSE) -> #N/A | J6: =VLOOKUP(C7,Positionen!$A$1:$B$13,2,0) -> #N/A | K6: =RIGHT(G6,8) | L6: =LEFT(G6,3) | M6: =IF(K6="Mio. € ",L6*1000000,L6*1000) -> #VALUE! | N6: =M6*(1+(I6-1)+(J6-1)) -> #VALUE! | O6: =VLOOKUP(N6/1000000,Werte!$A$1:$B$41,2,1) -> #VALUE!
H7: =LEFT(H6,2) | I7: =VLOOKUP(H8,Alter!$A$1:$B$25,2,FALSE) -> #N/A | K7: =RIGHT(G7,8) | L7: =LEFT(G7,3) | N7: =M7*(1+(I7-1)+(J7-1)) -> #N/A | O7: =VLOOKUP(N7/1000000,Werte!$A$1:$B$41,2,1) -> #N/A
H8: =RIGHT(D8,3) | I8: =VLOOKUP(H9,Alter!$A$1:$B$25,2,FALSE) -> #N/A | J8: =VLOOKUP(C9,Positionen!$A$1:$B$13,2,0) -> #N/A | K8: =RIGHT(G8,8) | L8: =LEFT(G8,3) | M8: =IF(K8="Mio. € ",L8*1000000,L8*1000) -> #VALUE! | N8: =M8*(1+(I8-1)+(J8-1)) -> #VALUE! | O8: =VLOOKUP(N8/1000000,Werte!$A$1:$B$41,2,1) -> #VALUE!
H9: =LEFT(H8,2) | I9: =VLOOKUP(H10,Alter!$A$1:$B$25,2,FALSE) -> #N/A | K9: =RIGHT(G9,8) | L9: =LEFT(G9,3) | N9: =M9*(1+(I9-1)+(J9-1)) -> #N/A | O9: =VLOOKUP(N9/1000000,Werte!$A$1:$B$41,2,1) -> #N/A
H10: =RIGHT(D10,3) | I10: =VLOOKUP(H11,Alter!$A$1:$B$25,2,FALSE) -> #N/A | J10: =VLOOKUP(C11,Positionen!$A$1:$B$13,2,0) -> #N/A | K10: =RIGHT(G10,8) | L10: =LEFT(G10,3) | M10: =IF(K10="Mio. € ",L10*1000000,L10*1000) -> #VALUE! | N10: =M10*(1+(I10-1)+(J10-1)) -> #VALUE! | O10: =VLOOKUP(N10/1000000,Werte!$A$1:$B$41,2,1) -> #VALUE!
H11: =LEFT(H10,2) | I11: =VLOOKUP(H12,Alter!$A$1:$B$25,2,FALSE) -> #N/A | K11: =RIGHT(G11,8) | L11: =LEFT(G11,3) | N11: =M11*(1+(I11-1)+(J11-1)) -> #N/A | O11: =VLOOKUP(N11/1000000,Werte!$A$1:$B$41,2,1) -> #N/A
H12: =RIGHT(D12,3) | I12: =VLOOKUP(H13,Alter!$A$1:$B$25,2,FALSE) -> #N/A | J12: =VLOOKUP(C13,Positionen!$A$1:$B$13,2,0) -> #N/A | K12: =RIGHT(G12,8) | L12: =LEFT(G12,3) | M12: =IF(K12="Mio. € ",L12*1000000,L12*1000) -> #VALUE! | N12: =M12*(1+(I12-1)+(J12-1)) -> #VALUE! | O12: =VLOOKUP(N12/1000000,Werte!$A$1:$B$41,2,1) -> #VALUE!
H13: =LEFT(H12,2) | I13: =VLOOKUP(H14,Alter!$A$1:$B$25,2,FALSE) -> #N/A | K13: =RIGHT(G13,8) | L13: =LEFT(G13,3) | N13: =M13*(1+(I13-1)+(J13-1)) -> #N/A | O13: =VLOOKUP(N13/1000000,Werte!$A$1:$B$41,2,1) -> #N/A
H14: =RIGHT(D14,3) | I14: =VLOOKUP(H15,Alter!$A$1:$B$25,2,FALSE) -> #N/A | J14: =VLOOKUP(C15,Positionen!$A$1:$B$13,2,0) -> #N/A | K14: =RIGHT(G14,8) | L14: =LEFT(G14,3) | M14: =IF(K14="Mio. € ",L14*1000000,L14*1000) -> #VALUE! | N14: =M14*(1+(I14-1)+(J14-1)) -> #VALUE! | O14: =VLOOKUP(N14/1000000,Werte!$A$1:$B$41,2,1) -> #VALUE!
H15: =LEFT(H14,2) | I15: =VLOOKUP(H16,Alter!$A$1:$B$25,2,FALSE) -> #N/A | K15: =RIGHT(G15,8) | L15: =LEFT(G15,3) | N15: =M15*(1+(I15-1)+(J15-1)) -> #N/A | O15: =VLOOKUP(N15/1000000,Werte!$A$1:$B$41,2,1) -> #N/A
H16: =RIGHT(D16,3) | I16: =VLOOKUP(H17,Alter!$A$1:$B$25,2,FALSE) -> #N/A | J16: =VLOOKUP(C17,Positionen!$A$1:$B$13,2,0) -> #N/A | K16: =RIGHT(G16,8) | L16: =LEFT(G16,3) | M16: =IF(K16="Mio. € ",L16*1000000,L16*1000) -> #VALUE! | N16: =M16*(1+(I16-1)+(J16-1)) -> #VALUE! | O16: =VLOOKUP(N16/1000000,Werte!$A$1:$B$41,2,1) -> #VALUE!
H17: =LEFT(H16,2) | I17: =VLOOKUP(H18,Alter!$A$1:$B$25,2,FALSE) -> #N/A | K17: =RIGHT(G17,8) | L17: =LEFT(G17,3) | N17: =M17*(1+(I17-1)+(J17-1)) -> #N/A | O17: =VLOOKUP(N17/1000000,Werte!$A$1:$B$41,2,1) -> #N/A
H18: =RIGHT(D18,3) | I18: =VLOOKUP(H19,Alter!$A$1:$B$25,2,FALSE) -> #N/A | J18: =VLOOKUP(C19,Positionen!$A$1:$B$13,2,0) -> #N/A | K18: =RIGHT(G18,8) | L18: =LEFT(G18,3) | M18: =IF(K18="Mio. € ",L18*1000000,L18*1000) -> #VALUE! | N18: =M18*(1+(I18-1)+(J18-1)) -> #VALUE! | O18: =VLOOKUP(N18/1000000,Werte!$A$1:$B$41,2,1) -> #VALUE!
H19: =LEFT(H18,2) | I19: =VLOOKUP(H20,Alter!$A$1:$B$25,2,FALSE) -> #N/A | K19: =RIGHT(G19,8) | L19: =LEFT(G19,3) | N19: =M19*(1+(I19-1)+(J19-1)) -> #N/A | O19: =VLOOKUP(N19/1000000,Werte!$A$1:$B$41,2,1) -> #N/A
H20: =RIGHT(D20,3) | I20: =VLOOKUP(H21,Alter!$A$1:$B$25,2,FALSE) -> #N/A | J20: =VLOOKUP(C21,Positionen!$A$1:$B$13,2,0) -> #N/A | K20: =RIGHT(G20,8) | L20: =LEFT(G20,3) | M20: =IF(K20="Mio. € ",L20*1000000,L20*1000) -> #VALUE! | N20: =M20*(1+(I20-1)+(J20-1)) -> #VALUE! | O20: =VLOOKUP(N20/1000000,Werte!$A$1:$B$41,2,1) -> #VALUE!
H21: =LEFT(H20,2) | I21: =VLOOKUP(H22,Alter!$A$1:$B$25,2,FALSE) -> #N/A | K21: =RIGHT(G21,8) | L21: =LEFT(G21,3) | N21: =M21*(1+(I21-1)+(J21-1)) -> #N/A | O21: =VLOOKUP(N21/1000000,Werte!$A$1:$B$41,2,1) -> #N/A
H22: =RIGHT(D22,3) | I22: =VLOOKUP(H23,Alter!$A$1:$B$25,2,FALSE) -> #N/A | J22: =VLOOKUP(C23,Positionen!$A$1:$B$13,2,0) -> #N/A | K22: =RIGHT(G22,8) | L22: =LEFT(G22,3) | M22: =IF(K22="Mio. € ",L22*1000000,L22*1000) -> #VALUE! | N22: =M22*(1+(I22-1)+(J22-1)) -> #VALUE! | O22: =VLOOKUP(N22/1000000,Werte!$A$1:$B$41,2,1) -> #VALUE!
H23: =LEFT(H22,2) | I23: =VLOOKUP(H24,Alter!$A$1:$B$25,2,FALSE) -> #N/A | K23: =RIGHT(G23,8) | L23: =LEFT(G23,3) | N23: =M23*(1+(I23-1)+(J23-1)) -> #N/A | O23: =VLOOKUP(N23/1000000,Werte!$A$1:$B$41,2,1) -> #N/A
H24: =RIGHT(D24,3) | I24: =VLOOKUP(H25,Alter!$A$1:$B$25,2,FALSE) -> #N/A | J24: =VLOOKUP(C25,Positionen!$A$1:$B$13,2,0) -> #N/A | K24: =RIGHT(G24,8) | L24: =LEFT(G24,3) | M24: =IF(K24="Mio. € ",L24*1000000,L24*1000) -> #VALUE! | N24: =M24*(1+(I24-1)+(J24-1)) -> #VALUE! | O24: =VLOOKUP(N24/1000000,Werte!$A$1:$B$41,2,1) -> #VALUE!
H25: =LEFT(H24,2) | I25: =VLOOKUP(H26,Alter!$A$1:$B$25,2,FALSE) -> #N/A | K25: =RIGHT(G25,8) | L25: =LEFT(G25,3) | N25: =M25*(1+(I25-1)+(J25-1)) -> #N/A | O25: =VLOOKUP(N25/1000000,Werte!$A$1:$B$41,2,1) -> #N/A
H26: =RIGHT(D26,3) | I26: =VLOOKUP(H27,Alter!$A$1:$B$25,2,FALSE) -> #N/A | J26: =VLOOKUP(C27,Positionen!$A$1:$B$13,2,0) -> #N/A | K26: =RIGHT(G26,8) | L26: =LEFT(G26,3) | M26: =IF(K26="Mio. € ",L26*1000000,L26*1000) -> #VALUE! | N26: =M26*(1+(I26-1)+(J26-1)) -> #VALUE! | O26: =VLOOKUP(N26/1000000,Werte!$A$1:$B$41,2,1) -> #VALUE!
H27: =LEFT(H26,2) | I27: =VLOOKUP(H28,Alter!$A$1:$B$25,2,FALSE) -> #N/A | K27: =RIGHT(G27,8) | L27: =LEFT(G27,3) | N27: =M27*(1+(I27-1)+(J27-1)) -> #N/A | O27: =VLOOKUP(N27/1000000,Werte!$A$1:$B$41,2,1) -> #N/A
H28: =RIGHT(D28,3) | I28: =VLOOKUP(H29,Alter!$A$1:$B$25,2,FALSE) -> #N/A | J28: =VLOOKUP(C29,Positionen!$A$1:$B$13,2,0) -> #N/A | K28: =RIGHT(G28,8) | L28: =LEFT(G28,3) | M28: =IF(K28="Mio. € ",L28*1000000,L28*1000) -> #VALUE! | N28: =M28*(1+(I28-1)+(J28-1)) -> #VALUE! | O28: =VLOOKUP(N28/1000000,Werte!$A$1:$B$41,2,1) -> #VALUE!
H29: =LEFT(H28,2) | I29: =VLOOKUP(H30,Alter!$A$1:$B$25,2,FALSE) -> #N/A | K29: =RIGHT(G29,8) | L29: =LEFT(G29,3) | N29: =M29*(1+(I29-1)+(J29-1)) -> #N/A | O29: =VLOOKUP(N29/1000000,Werte!$A$1:$B$41,2,1) -> #N/A
H30: =RIGHT(D30,3) | I30: =VLOOKUP(H31,Alter!$A$1:$B$25,2,FALSE) -> #N/A | J30: =VLOOKUP(C31,Positionen!$A$1:$B$13,2,0) -> #N/A | K30: =RIGHT(G30,8) | L30: =LEFT(G30,3) | M30: =IF(K30="Mio. € ",L30*1000000,L30*1000) -> #VALUE! | N30: =M30*(1+(I30-1)+(J30-1)) -> #VALUE! | O30: =VLOOKUP(N30/1000000,Werte!$A$1:$B$41,2,1) -> #VALUE!
H31: =LEFT(H30,2) | I31: =VLOOKUP(H32,Alter!$A$1:$B$25,2,FALSE) -> #N/A | K31: =RIGHT(G31,8) | L31: =LEFT(G31,3) | N31: =M31*(1+(I31-1)+(J31-1)) -> #N/A | O31: =VLOOKUP(N31/1000000,Werte!$A$1:$B$41,2,1) -> #N/A
H32: =RIGHT(D32,3) | I32: =VLOOKUP(H33,Alter!$A$1:$B$25,2,FALSE) -> #N/A | J32: =VLOOKUP(C33,Positionen!$A$1:$B$13,2,0) -> #N/A | K32: =RIGHT(G32,8) | L32: =LEFT(G32,3) | M32: =IF(K32="Mio. € ",L32*1000000,L32*1000) -> #VALUE! | N32: =M32*(1+(I32-1)+(J32-1)) -> #VALUE! | O32: =VLOOKUP(N32/1000000,Werte!$A$1:$B$41,2,1) -> #VALUE!
H33: =LEFT(H32,2) | I33: =VLOOKUP(H34,Alter!$A$1:$B$25,2,FALSE) -> #N/A | K33: =RIGHT(G33,8) | L33: =LEFT(G33,3) | N33: =M33*(1+(I33-1)+(J33-1)) -> #N/A | O33: =VLOOKUP(N33/1000000,Werte!$A$1:$B$41,2,1) -> #N/A
H34: =RIGHT(D34,3) | I34: =VLOOKUP(H35,Alter!$A$1:$B$25,2,FALSE) -> #N/A | J34: =VLOOKUP(C35,Positionen!$A$1:$B$13,2,0) -> #N/A | K34: =RIGHT(G34,8) | L34: =LEFT(G34,3) | M34: =IF(K34="Mio. € ",L34*1000000,L34*1000) -> #VALUE! | N34: =M34*(1+(I34-1)+(J34-1)) -> #VALUE! | O34: =VLOOKUP(N34/1000000,Werte!$A$1:$B$41,2,1) -> #VALUE!
H35: =LEFT(H34,2) | I35: =VLOOKUP(H36,Alter!$A$1:$B$25,2,FALSE) -> #N/A | K35: =RIGHT(G35,8) | L35: =LEFT(G35,3) | N35: =M35*(1+(I35-1)+(J35-1)) -> #N/A | O35: =VLOOKUP(N35/1000000,Werte!$A$1:$B$41,2,1) -> #N/A
H36: =RIGHT(D36,3) | I36: =VLOOKUP(H37,Alter!$A$1:$B$25,2,FALSE) -> #N/A | J36: =VLOOKUP(C37,Positionen!$A$1:$B$13,2,0) -> #N/A | K36: =RIGHT(G36,8) | L36: =LEFT(G36,3) | M36: =IF(K36="Mio. € ",L36*1000000,L36*1000) -> #VALUE! | N36: =M36*(1+(I36-1)+(J36-1)) -> #VALUE! | O36: =VLOOKUP(N36/1000000,Werte!$A$1:$B$41,2,1) -> #VALUE!
H37: =LEFT(H36,2) | I37: =VLOOKUP(H38,Alter!$A$1:$B$25,2,FALSE) -> #N/A | K37: =RIGHT(G37,8) | L37: =LEFT(G37,3) | N37: =M37*(1+(I37-1)+(J37-1)) -> #N/A | O37: =VLOOKUP(N37/1000000,Werte!$A$1:$B$41,2,1) -> #N/A
H38: =RIGHT(D38,3) | I38: =VLOOKUP(H39,Alter!$A$1:$B$25,2,FALSE) -> #N/A | J38: =VLOOKUP(C39,Positionen!$A$1:$B$13,2,0) -> #N/A | K38: =RIGHT(G38,8) | L38: =LEFT(G38,3) | M38: =IF(K38="Mio. € ",L38*1000000,L38*1000) -> #VALUE! | N38: =M38*(1+(I38-1)+(J38-1)) -> #VALUE! | O38: =VLOOKUP(N38/1000000,Werte!$A$1:$B$41,2,1) -> #VALUE!
H39: =LEFT(H38,2) | I39: =VLOOKUP(H40,Alter!$A$1:$B$25,2,FALSE) -> #N/A | K39: =RIGHT(G39,8) | L39: =LEFT(G39,3) | N39: =M39*(1+(I39-1)+(J39-1)) -> #N/A | O39: =VLOOKUP(N39/1000000,Werte!$A$1:$B$41,2,1) -> #N/A
H40: =RIGHT(D40,3) | I40: =VLOOKUP(H41,Alter!$A$1:$B$25,2,FALSE) -> #N/A | J40: =VLOOKUP(C41,Positionen!$A$1:$B$13,2,0) -> #N/A | K40: =RIGHT(G40,8) | L40: =LEFT(G40,3) | M40: =IF(K40="Mio. € ",L40*1000000,L40*1000) -> #VALUE! | N40: =M40*(1+(I40-1)+(J40-1)) -> #VALUE! | O40: =VLOOKUP(N40/1000000,Werte!$A$1:$B$41,2,1) -> #VALUE!
H41: =LEFT(H40,2) | I41: =VLOOKUP(H42,Alter!$A$1:$B$25,2,FALSE) -> #N/A | K41: =RIGHT(G41,8) | L41: =LEFT(G41,3) | N41: =M41*(1+(I41-1)+(J41-1)) -> #N/A | O41: =VLOOKUP(N41/1000000,Werte!$A$1:$B$41,2,1) -> #N/A
H42: =RIGHT(D42,3) | I42: =VLOOKUP(H43,Alter!$A$1:$B$25,2,FALSE) -> #N/A | J42: =VLOOKUP(C43,Positionen!$A$1:$B$13,2,0) -> #N/A | K42: =RIGHT(G42,8) | L42: =LEFT(G42,3) | M42: =IF(K42="Mio. € ",L42*1000000,L42*1000) -> #VALUE! | N42: =M42*(1+(I42-1)+(J42-1)) -> #VALUE! | O42: =VLOOKUP(N42/1000000,Werte!$A$1:$B$41,2,1) -> #VALUE!
H43: =LEFT(H42,2) | I43: =VLOOKUP(H44,Alter!$A$1:$B$25,2,FALSE) -> #N/A | K43: =RIGHT(G43,8) | L43: =LEFT(G43,3) | N43: =M43*(1+(I43-1)+(J43-1)) -> #N/A | O43: =VLOOKUP(N43/1000000,Werte!$A$1:$B$41,2,1) -> #N/A
H44: =RIGHT(D44,3) | I44: =VLOOKUP(H45,Alter!$A$1:$B$25,2,FALSE) -> #N/A | J44: =VLOOKUP(C45,Positionen!$A$1:$B$13,2,0) -> #N/A | K44: =RIGHT(G44,8) | L44: =LEFT(G44,3) | M44: =IF(K44="Mio. € ",L44*1000000,L44*1000) -> #VALUE! | N44: =M44*(1+(I44-1)+(J44-1)) -> #VALUE! | O44: =VLOOKUP(N44/1000000,Werte!$A$1:$B$41,2,1) -> #VALUE!
H45: =LEFT(H44,2) | I45: =VLOOKUP(H46,Alter!$A$1:$B$25,2,FALSE) -> #N/A | K45: =RIGHT(G45,8) | L45: =LEFT(G45,3) | N45: =M45*(1+(I45-1)+(J45-1)) -> #N/A | O45: =VLOOKUP(N45/1000000,Werte!$A$1:$B$41,2,1) -> #N/A
H46: =RIGHT(D46,3) | I46: =VLOOKUP(H47,Alter!$A$1:$B$25,2,FALSE) -> #N/A | J46: =VLOOKUP(C47,Positionen!$A$1:$B$13,2,0) -> #N/A | K46: =RIGHT(G46,8) | L46: =LEFT(G46,3) | M46: =IF(K46="Mio. € ",L46*1000000,L46*1000) -> #VALUE! | N46: =M46*(1+(I46-1)+(J46-1)) -> #VALUE! | O46: =VLOOKUP(N46/1000000,Werte!$A$1:$B$41,2,1) -> #VALUE!
H47: =LEFT(H46,2) | I47: =VLOOKUP(H48,Alter!$A$1:$B$25,2,FALSE) -> #N/A | K47: =RIGHT(G47,8) | L47: =LEFT(G47,3) | N47: =M47*(1+(I47-1)+(J47-1)) -> #N/A | O47: =VLOOKUP(N47/1000000,Werte!$A$1:$B$41,2,1) -> #N/A
H48: =RIGHT(D48,3) | I48: =VLOOKUP(H49,Alter!$A$1:$B$25,2,FALSE) -> #N/A | J48: =VLOOKUP(C49,Positionen!$A$1:$B$13,2,0) -> #N/A | K48: =RIGHT(G48,8) | L48: =LEFT(G48,3) | M48: =IF(K48="Mio. € ",L48*1000000,L48*1000) -> #VALUE! | N48: =M48*(1+(I48-1)+(J48-1)) -> #VALUE! | O48: =VLOOKUP(N48/1000000,Werte!$A$1:$B$41,2,1) -> #VALUE!
H49: =LEFT(H48,2) | I49: =VLOOKUP(H50,Alter!$A$1:$B$25,2,FALSE) -> #N/A | K49: =RIGHT(G49,8) | L49: =LEFT(G49,3) | N49: =M49*(1+(I49-1)+(J49-1)) -> #N/A | O49: =VLOOKUP(N49/1000000,Werte!$A$1:$B$41,2,1) -> #N/A
H50: =RIGHT(D50,3) | I50: =VLOOKUP(H51,Alter!$A$1:$B$25,2,FALSE) -> #N/A | J50: =VLOOKUP(C51,Positionen!$A$1:$B$13,2,0) -> #N/A | K50: =RIGHT(G50,8) | L50: =LEFT(G50,3) | M50: =IF(K50="Mio. € ",L50*1000000,L50*1000) -> #VALUE! | N50: =M50*(1+(I50-1)+(J50-1)) -> #VALUE! | O50: =VLOOKUP(N50/1000000,Werte!$A$1:$B$41,2,1) -> #VALUE!
H51: =LEFT(H50,2) | I51: =VLOOKUP(H52,Alter!$A$1:$B$25,2,FALSE) -> #N/A | K51: =RIGHT(G51,8) | L51: =LEFT(G51,3) | N51: =M51*(1+(I51-1)+(J51-1)) -> #N/A | O51: =VLOOKUP(N51/1000000,Werte!$A$1:$B$41,2,1) -> #N/A
H52: =RIGHT(D52,3) | I52: =VLOOKUP(H53,Alter!$A$1:$B$25,2,FALSE) -> #N/A | J52: =VLOOKUP(C53,Positionen!$A$1:$B$13,2,0) -> #N/A | K52: =RIGHT(G52,8) | L52: =LEFT(G52,3) | M52: =IF(K52="Mio. € ",L52*1000000,L52*1000) -> #VALUE! | N52: =M52*(1+(I52-1)+(J52-1)) -> #VALUE! | O52: =VLOOKUP(N52/1000000,Werte!$A$1:$B$41,2,1) -> #VALUE!
H53: =LEFT(H52,2) | I53: =VLOOKUP(H54,Alter!$A$1:$B$25,2,FALSE) -> #N/A | K53: =RIGHT(G53,8) | L53: =LEFT(G53,3) | N53: =M53*(1+(I53-1)+(J53-1)) -> #N/A | O53: =VLOOKUP(N53/1000000,Werte!$A$1:$B$41,2,1) -> #N/A
H54: =RIGHT(D54,3) | I54: =VLOOKUP(H55,Alter!$A$1:$B$25,2,FALSE) -> #N/A | J54: =VLOOKUP(C55,Positionen!$A$1:$B$13,2,0) -> #N/A | K54: =RIGHT(G54,8) | L54: =LEFT(G54,3) | M54: =IF(K54="Mio. € ",L54*1000000,L54*1000) -> #VALUE! | N54: =M54*(1+(I54-1)+(J54-1)) -> #VALUE! | O54: =VLOOKUP(N54/1000000,Werte!$A$1:$B$41,2,1) -> #VALUE!
H55: =LEFT(H54,2) | I55: =VLOOKUP(H56,Alter!$A$1:$B$25,2,FALSE) -> #N/A | K55: =RIGHT(G55,8) | L55: =LEFT(G55,3) | N55: =M55*(1+(I55-1)+(J55-1)) -> #N/A | O55: =VLOOKUP(N55/1000000,Werte!$A$1:$B$41,2,1) -> #N/A
H56: =RIGHT(D56,3) | I56: =VLOOKUP(H57,Alter!$A$1:$B$25,2,FALSE) -> #N/A | J56: =VLOOKUP(C57,Positionen!$A$1:$B$13,2,0) -> #N/A | K56: =RIGHT(G56,8) | L56: =LEFT(G56,3) | M56: =IF(K56="Mio. € ",L56*1000000,L56*1000) -> #VALUE! | N56: =M56*(1+(I56-1)+(J56-1)) -> #VALUE! | O56: =VLOOKUP(N56/1000000,Werte!$A$1:$B$41,2,1) -> #VALUE!
H57: =LEFT(H56,2) | I57: =VLOOKUP(H58,Alter!$A$1:$B$25,2,FALSE) -> #N/A | K57: =RIGHT(G57,8) | L57: =LEFT(G57,3) | N57: =M57*(1+(I57-1)+(J57-1)) -> #N/A | O57: =VLOOKUP(N57/1000000,Werte!$A$1:$B$41,2,1) -> #N/A
H58: =RIGHT(D58,3) | I58: =VLOOKUP(H59,Alter!$A$1:$B$25,2,FALSE) -> #N/A | J58: =VLOOKUP(C59,Positionen!$A$1:$B$13,2,0) -> #N/A | K58: =RIGHT(G58,8) | L58: =LEFT(G58,3) | M58: =IF(K58="Mio. € ",L58*1000000,L58*1000) -> #VALUE! | N58: =M58*(1+(I58-1)+(J58-1)) -> #VALUE! | O58: =VLOOKUP(N58/1000000,Werte!$A$1:$B$41,2,1) -> #VALUE!
H59: =LEFT(H58,2) | I59: =VLOOKUP(H60,Alter!$A$1:$B$25,2,FALSE) -> #N/A | K59: =RIGHT(G59,8) | L59: =LEFT(G59,3) | N59: =M59*(1+(I59-1)+(J59-1)) -> #N/A | O59: =VLOOKUP(N59/1000000,Werte!$A$1:$B$41,2,1) -> #N/A
H60: =RIGHT(D60,3) | I60: =VLOOKUP(H61,Alter!$A$1:$B$25,2,FALSE) -> #N/A | J60: =VLOOKUP(C61,Positionen!$A$1:$B$13,2,0) -> #N/A | K60: =RIGHT(G60,8) | L60: =LEFT(G60,3) | M60: =IF(K60="Mio. € ",L60*1000000,L60*1000) -> #VALUE! | N60: =M60*(1+(I60-1)+(J60-1)) -> #VALUE! | O60: =VLOOKUP(N60/1000000,Werte!$A$1:$B$41,2,1) -> #VALUE!
H61: =LEFT(H60,2) | I61: =VLOOKUP(H62,Alter!$A$1:$B$25,2,FALSE) -> #N/A | K61: =RIGHT(G61,8) | L61: =LEFT(G61,3) | N61: =M61*(1+(I61-1)+(J61-1)) -> #N/A | O61: =VLOOKUP(N61/1000000,Werte!$A$1:$B$41,2,1) -> #N/A
H62: =RIGHT(D62,3) | I62: =VLOOKUP(H63,Alter!$A$1:$B$25,2,FALSE) -> #N/A | J62: =VLOOKUP(C63,Positionen!$A$1:$B$13,2,0) -> #N/A | K62: =RIGHT(G62,8) | L62: =LEFT(G62,3) | M62: =IF(K62="Mio. € ",L62*1000000,L62*1000) -> #VALUE! | N62: =M62*(1+(I62-1)+(J62-1)) -> #VALUE! | O62: =VLOOKUP(N62/1000000,Werte!$A$1:$B$41,2,1) -> #VALUE!
H63: =LEFT(H62,2) | I63: =VLOOKUP(H64,Alter!$A$1:$B$25,2,FALSE) -> #N/A | K63: =RIGHT(G63,8) | L63: =LEFT(G63,3) | N63: =M63*(1+(I63-1)+(J63-1)) -> #N/A | O63: =VLOOKUP(N63/1000000,Werte!$A$1:$B$41,2,1) -> #N/A
H64: =RIGHT(D64,3) | I64: =VLOOKUP(H65,Alter!$A$1:$B$25,2,FALSE) -> #N/A | J64: =VLOOKUP(C65,Positionen!$A$1:$B$13,2,0) -> #N/A | K64: =RIGHT(G64,8) | L64: =LEFT(G64,3) | M64: =IF(K64="Mio. € ",L64*1000000,L64*1000) -> #VALUE! | N64: =M64*(1+(I64-1)+(J64-1)) -> #VALUE! | O64: =VLOOKUP(N64/1000000,Werte!$A$1:$B$41,2,1) -> #VALUE!
H65: =LEFT(H64,2) | I65: =VLOOKUP(H66,Alter!$A$1:$B$25,2,FALSE) -> #N/A | K65: =RIGHT(G65,8) | L65: =LEFT(G65,3) | N65: =M65*(1+(I65-1)+(J65-1)) -> #N/A | O65: =VLOOKUP(N65/1000000,Werte!$A$1:$B$41,2,1) -> #N/A
H66: =RIGHT(D66,3) | I66: =VLOOKUP(H67,Alter!$A$1:$B$25,2,FALSE) -> #N/A | J66: =VLOOKUP(C67,Positionen!$A$1:$B$13,2,0) -> #N/A | K66: =RIGHT(G66,8) | L66: =LEFT(G66,3) | M66: =IF(K66="Mio. € ",L66*1000000,L66*1000) -> #VALUE! | N66: =M66*(1+(I66-1)+(J66-1)) -> #VALUE! | O66: =VLOOKUP(N66/1000000,Werte!$A$1:$B$41,2,1) -> #VALUE!
H67: =LEFT(H66,2) | I67: =VLOOKUP(H68,Alter!$A$1:$B$25,2,FALSE) -> #N/A | K67: =RIGHT(G67,8) | L67: =LEFT(G67,3) | N67: =M67*(1+(I67-1)+(J67-1)) -> #N/A | O67: =VLOOKUP(N67/1000000,Werte!$A$1:$B$41,2,1) -> #N/A
H68: =RIGHT(D68,3) | I68: =VLOOKUP(H69,Alter!$A$1:$B$25,2,FALSE) -> #N/A | J68: =VLOOKUP(C69,Positionen!$A$1:$B$13,2,0) -> #N/A | K68: =RIGHT(G68,8) | L68: =LEFT(G68,3) | M68: =IF(K68="Mio. € ",L68*1000000,L68*1000) -> #VALUE! | N68: =M68*(1+(I68-1)+(J68-1)) -> #VALUE! | O68: =VLOOKUP(N68/1000000,Werte!$A$1:$B$41,2,1) -> #VALUE!
H69: =LEFT(H68,2) | I69: =VLOOKUP(H70,Alter!$A$1:$B$25,2,FALSE) -> #N/A | K69: =RIGHT(G69,8) | L69: =LEFT(G69,3) | N69: =M69*(1+(I69-1)+(J69-1)) -> #N/A | O69: =VLOOKUP(N69/1000000,Werte!$A$1:$B$41,2,1) -> #N/A
H70: =RIGHT(D70,3) | I70: =VLOOKUP(H71,Alter!$A$1:$B$25,2,FALSE) -> #N/A | J70: =VLOOKUP(C71,Positionen!$A$1:$B$13,2,0) -> #N/A | K70: =RIGHT(G70,8) | L70: =LEFT(G70,3) | M70: =IF(K70="Mio. € ",L70*1000000,L70*1000) -> #VALUE! | N70: =M70*(1+(I70-1)+(J70-1)) -> #VALUE! | O70: =VLOOKUP(N70/1000000,Werte!$A$1:$B$41,2,1) -> #VALUE!
H71: =LEFT(H70,2) | I71: =VLOOKUP(H72,Alter!$A$1:$B$25,2,FALSE) -> #N/A | K71: =RIGHT(G71,8) | L71: =LEFT(G71,3) | N71: =M71*(1+(I71-1)+(J71-1)) -> #N/A | O71: =VLOOKUP(N71/1000000,Werte!$A$1:$B$41,2,1) -> #N/A
H72: =RIGHT(D72,3) | I72: =VLOOKUP(H73,Alter!$A$1:$B$25,2,FALSE) -> #N/A | J72: =VLOOKUP(C73,Positionen!$A$1:$B$13,2,0) -> #N/A | K72: =RIGHT(G72,8) | L72: =LEFT(G72,3) | M72: =IF(K72="Mio. € ",L72*1000000,L72*1000) -> #VALUE! | N72: =M72*(1+(I72-1)+(J72-1)) -> #VALUE! | O72: =VLOOKUP(N72/1000000,Werte!$A$1:$B$41,2,1) -> #VALUE!
H73: =LEFT(H72,2) | I73: =VLOOKUP(H74,Alter!$A$1:$B$25,2,FALSE) -> #N/A | K73: =RIGHT(G73,8) | L73: =LEFT(G73,3) | N73: =M73*(1+(I73-1)+(J73-1)) -> #N/A | O73: =VLOOKUP(N73/1000000,Werte!$A$1:$B$41,2,1) -> #N/A
H74: =RIGHT(D74,3) | I74: =VLOOKUP(H75,Alter!$A$1:$B$25,2,FALSE) -> #N/A | J74: =VLOOKUP(C75,Positionen!$A$1:$B$13,2,0) -> #N/A | K74: =RIGHT(G74,8) | L74: =LEFT(G74,3) | M74: =IF(K74="Mio. € ",L74*1000000,L74*1000) -> #VALUE! | N74: =M74*(1+(I74-1)+(J74-1)) -> #VALUE! | O74: =VLOOKUP(N74/1000000,Werte!$A$1:$B$41,2,1) -> #VALUE!
H75: =LEFT(H74,2) | I75: =VLOOKUP(H76,Alter!$A$1:$B$25,2,FALSE) -> #N/A | K75: =RIGHT(G75,8) | L75: =LEFT(G75,3) | N75: =M75*(1+(I75-1)+(J75-1)) -> #N/A | O75: =VLOOKUP(N75/1000000,Werte!$A$1:$B$41,2,1) -> #N/A
H76: =RIGHT(D76,3) | I76: =VLOOKUP(H77,Alter!$A$1:$B$25,2,FALSE) -> #N/A | J76: =VLOOKUP(C77,Positionen!$A$1:$B$13,2,0) -> #N/A | K76: =RIGHT(G76,8) | L76: =LEFT(G76,3) | M76: =IF(K76="Mio. € ",L76*1000000,L76*1000) -> #VALUE! | N76: =M76*(1+(I76-1)+(J76-1)) -> #VALUE! | O76: =VLOOKUP(N76/1000000,Werte!$A$1:$B$41,2,1) -> #VALUE!
H77: =LEFT(H76,2) | I77: =VLOOKUP(H78,Alter!$A$1:$B$25,2,FALSE) -> #N/A | K77: =RIGHT(G77,8) | L77: =LEFT(G77,3) | N77: =M77*(1+(I77-1)+(J77-1)) -> #N/A | O77: =VLOOKUP(N77/1000000,Werte!$A$1:$B$41,2,1) -> #N/A
H78: =RIGHT(D78,3) | I78: =VLOOKUP(H79,Alter!$A$1:$B$25,2,FALSE) -> #N/A | J78: =VLOOKUP(C79,Positionen!$A$1:$B$13,2,0) -> #N/A | K78: =RIGHT(G78,8) | L78: =LEFT(G78,3) | M78: =IF(K78="Mio. € ",L78*1000000,L78*1000) -> #VALUE! | N78: =M78*(1+(I78-1)+(J78-1)) -> #VALUE! | O78: =VLOOKUP(N78/1000000,Werte!$A$1:$B$41,2,1) -> #VALUE!
H79: =LEFT(H78,2) | I79: =VLOOKUP(H80,Alter!$A$1:$B$25,2,FALSE) -> #N/A | K79: =RIGHT(G79,8) | L79: =LEFT(G79,3) | N79: =M79*(1+(I79-1)+(J79-1)) -> #N/A | O79: =VLOOKUP(N79/1000000,Werte!$A$1:$B$41,2,1) -> #N/A
H80: =RIGHT(D80,3) | I80: =VLOOKUP(H81,Alter!$A$1:$B$25,2,FALSE) -> #N/A | J80: =VLOOKUP(C81,Positionen!$A$1:$B$13,2,0) -> #N/A | K80: =RIGHT(G80,8) | L80: =LEFT(G80,3) | M80: =IF(K80="Mio. € ",L80*1000000,L80*1000) -> #VALUE! | N80: =M80*(1+(I80-1)+(J80-1)) -> #VALUE! | O80: =VLOOKUP(N80/1000000,Werte!$A$1:$B$41,2,1) -> #VALUE!
H81: =LEFT(H80,2) | I81: =VLOOKUP(H82,Alter!$A$1:$B$25,2,FALSE) -> #N/A | K81: =RIGHT(G81,8) | L81: =LEFT(G81,3) | N81: =M81*(1+(I81-1)+(J81-1)) -> #N/A | O81: =VLOOKUP(N81/1000000,Werte!$A$1:$B$41,2,1) -> #N/A
H82: =RIGHT(D82,3) | I82: =VLOOKUP(H83,Alter!$A$1:$B$25,2,FALSE) -> #N/A | J82: =VLOOKUP(C83,Positionen!$A$1:$B$13,2,0) -> #N/A | K82: =RIGHT(G82,8) | L82: =LEFT(G82,3) | M82: =IF(K82="Mio. € ",L82*1000000,L82*1000) -> #VALUE! | N82: =M82*(1+(I82-1)+(J82-1)) -> #VALUE! | O82: =VLOOKUP(N82/1000000,Werte!$A$1:$B$41,2,1) -> #VALUE!
H83: =LEFT(H82,2) | I83: =VLOOKUP(H84,Alter!$A$1:$B$25,2,FALSE) -> #N/A | K83: =RIGHT(G83,8) | L83: =LEFT(G83,3) | N83: =M83*(1+(I83-1)+(J83-1)) -> #N/A | O83: =VLOOKUP(N83/1000000,Werte!$A$1:$B$41,2,1) -> #N/A
H84: =RIGHT(D84,3) | I84: =VLOOKUP(H85,Alter!$A$1:$B$25,2,FALSE) -> #N/A | J84: =VLOOKUP(C85,Positionen!$A$1:$B$13,2,0) -> #N/A | K84: =RIGHT(G84,8) | L84: =LEFT(G84,3) | M84: =IF(K84="Mio. € ",L84*1000000,L84*1000) -> #VALUE! | N84: =M84*(1+(I84-1)+(J84-1)) -> #VALUE! | O84: =VLOOKUP(N84/1000000,Werte!$A$1:$B$41,2,1) -> #VALUE!
H85: =LEFT(H84,2) | I85: =VLOOKUP(H86,Alter!$A$1:$B$25,2,FALSE) -> #N/A | K85: =RIGHT(G85,8) | L85: =LEFT(G85,3) | N85: =M85*(1+(I85-1)+(J85-1)) -> #N/A | O85: =VLOOKUP(N85/1000000,Werte!$A$1:$B$41,2,1) -> #N/A
H86: =RIGHT(D86,3) | I86: =VLOOKUP(H87,Alter!$A$1:$B$25,2,FALSE) -> #N/A | J86: =VLOOKUP(C87,Positionen!$A$1:$B$13,2,0) -> #N/A | K86: =RIGHT(G86,8) | L86: =LEFT(G86,3) | M86: =IF(K86="Mio. € ",L86*1000000,L86*1000) -> #VALUE! | N86: =M86*(1+(I86-1)+(J86-1)) -> #VALUE! | O86: =VLOOKUP(N86/1000000,Werte!$A$1:$B$41,2,1) -> #VALUE!
H87: =LEFT(H86,2) | I87: =VLOOKUP(H88,Alter!$A$1:$B$25,2,FALSE) -> #N/A | K87: =RIGHT(G87,8) | L87: =LEFT(G87,3) | N87: =M87*(1+(I87-1)+(J87-1)) -> #N/A | O87: =VLOOKUP(N87/1000000,Werte!$A$1:$B$41,2,1) -> #N/A
H88: =RIGHT(D88,3) | I88: =VLOOKUP(H89,Alter!$A$1:$B$25,2,FALSE) -> #N/A | J88: =VLOOKUP(C89,Positionen!$A$1:$B$13,2,0) -> #N/A | K88: =RIGHT(G88,8) | L88: =LEFT(G88,3) | M88: =IF(K88="Mio. € ",L88*1000000,L88*1000) -> #VALUE! | N88: =M88*(1+(I88-1)+(J88-1)) -> #VALUE! | O88: =VLOOKUP(N88/1000000,Werte!$A$1:$B$41,2,1) -> #VALUE!
H89: =LEFT(H88,2) | I89: =VLOOKUP(H90,Alter!$A$1:$B$25,2,FALSE) -> #N/A | K89: =RIGHT(G89,8) | L89: =LEFT(G89,3) | N89: =M89*(1+(I89-1)+(J89-1)) -> #N/A | O89: =VLOOKUP(N89/1000000,Werte!$A$1:$B$41,2,1) -> #N/A
H90: =RIGHT(D90,3) | I90: =VLOOKUP(H91,Alter!$A$1:$B$25,2,FALSE) -> #N/A | J90: =VLOOKUP(C91,Positionen!$A$1:$B$13,2,0) -> #N/A | K90: =RIGHT(G90,8) | L90: =LEFT(G90,3) | M90: =IF(K90="Mio. € ",L90*1000000,L90*1000) -> #VALUE! | N90: =M90*(1+(I90-1)+(J90-1)) -> #VALUE! | O90: =VLOOKUP(N90/1000000,Werte!$A$1:$B$41,2,1) -> #VALUE!
H91: =LEFT(H90,2) | I91: =VLOOKUP(H92,Alter!$A$1:$B$25,2,FALSE) -> #N/A | K91: =RIGHT(G91,8) | L91: =LEFT(G91,3) | N91: =M91*(1+(I91-1)+(J91-1)) -> #N/A | O91: =VLOOKUP(N91/1000000,Werte!$A$1:$B$41,2,1) -> #N/A
H92: =RIGHT(D92,3) | I92: =VLOOKUP(H93,Alter!$A$1:$B$25,2,FALSE) -> #N/A | J92: =VLOOKUP(C93,Positionen!$A$1:$B$13,2,0) -> #N/A | K92: =RIGHT(G92,8) | L92: =LEFT(G92,3) | M92: =IF(K92="Mio. € ",L92*1000000,L92*1000) -> #VALUE! | N92: =M92*(1+(I92-1)+(J92-1)) -> #VALUE! | O92: =VLOOKUP(N92/1000000,Werte!$A$1:$B$41,2,1) -> #VALUE!
H93: =LEFT(H92,2) | I93: =VLOOKUP(H94,Alter!$A$1:$B$25,2,FALSE) -> #N/A | K93: =RIGHT(G93,8) | L93: =LEFT(G93,3) | N93: =M93*(1+(I93-1)+(J93-1)) -> #N/A | O93: =VLOOKUP(N93/1000000,Werte!$A$1:$B$41,2,1) -> #N/A
H94: =RIGHT(D94,3) | I94: =VLOOKUP(H95,Alter!$A$1:$B$25,2,FALSE) -> #N/A | J94: =VLOOKUP(C95,Positionen!$A$1:$B$13,2,0) -> #N/A | K94: =RIGHT(G94,8) | L94: =LEFT(G94,3) | M94: =IF(K94="Mio. € ",L94*1000000,L94*1000) -> #VALUE! | N94: =M94*(1+(I94-1)+(J94-1)) -> #VALUE! | O94: =VLOOKUP(N94/1000000,Werte!$A$1:$B$41,2,1) -> #VALUE!
H95: =LEFT(H94,2) | I95: =VLOOKUP(H96,Alter!$A$1:$B$25,2,FALSE) -> #N/A | K95: =RIGHT(G95,8) | L95: =LEFT(G95,3) | N95: =M95*(1+(I95-1)+(J95-1)) -> #N/A | O95: =VLOOKUP(N95/1000000,Werte!$A$1:$B$41,2,1) -> #N/A
H96: =RIGHT(D96,3) | I96: =VLOOKUP(H97,Alter!$A$1:$B$25,2,FALSE) -> #N/A | J96: =VLOOKUP(C97,Positionen!$A$1:$B$13,2,0) -> #N/A | K96: =RIGHT(G96,8) | L96: =LEFT(G96,3) | M96: =IF(K96="Mio. € ",L96*1000000,L96*1000) -> #VALUE! | N96: =M96*(1+(I96-1)+(J96-1)) -> #VALUE! | O96: =VLOOKUP(N96/1000000,Werte!$A$1:$B$41,2,1) -> #VALUE!
H97: =LEFT(H96,2) | I97: =VLOOKUP(H98,Alter!$A$1:$B$25,2,FALSE) -> #N/A | K97: =RIGHT(G97,8) | L97: =LEFT(G97,3) | N97: =M97*(1+(I97-1)+(J97-1)) -> #N/A | O97: =VLOOKUP(N97/1000000,Werte!$A$1:$B$41,2,1) -> #N/A
H98: =RIGHT(D98,3) | I98: =VLOOKUP(H99,Alter!$A$1:$B$25,2,FALSE) -> #N/A | J98: =VLOOKUP(C99,Positionen!$A$1:$B$13,2,0) -> #N/A | K98: =RIGHT(G98,8) | L98: =LEFT(G98,3) | M98: =IF(K98="Mio. € ",L98*1000000,L98*1000) -> #VALUE! | N98: =M98*(1+(I98-1)+(J98-1)) -> #VALUE! | O98: =VLOOKUP(N98/1000000,Werte!$A$1:$B$41,2,1) -> #VALUE!
H99: =LEFT(H98,2) | I99: =VLOOKUP(H100,Alter!$A$1:$B$25,2,FALSE) -> #N/A | K99: =RIGHT(G99,8) | L99: =LEFT(G99,3) | N99: =M99*(1+(I99-1)+(J99-1)) -> #N/A | O99: =VLOOKUP(N99/1000000,Werte!$A$1:$B$41,2,1) -> #N/A
H100: =RIGHT(D100,3) | I100: =VLOOKUP(H101,Alter!$A$1:$B$25,2,FALSE) -> #N/A | J100: =VLOOKUP(C101,Positionen!$A$1:$B$13,2,0) -> #N/A | K100: =RIGHT(G100,8) | L100: =LEFT(G100,3) | M100: =IF(K100="Mio. € ",L100*1000000,L100*1000) -> #VALUE! | N100: =M100*(1+(I100-1)+(J100-1)) -> #VALUE! | O100: =VLOOKUP(N100/1000000,Werte!$A$1:$B$41,2,1) -> #VALUE!

Sheet Positionen
A1: Offensives Mittelfeld | B1: 1
A2: Linksaußen | B2: 0.8
A3: Rechtsaußen | B3: 0.8
A4: Hängende Spitze | B4: 0.8
A5: Mittelstürmer | B5: 0.8
A6: Defensives Mittelfeld | B6: 1.25
A7: Zentrales Mittelfeld | B7: 1.25
A8: Rechtes Mittelfeld | B8: 1.25
A9: Linkes Mittelfeld | B9: 1.25
A10: Torwart | B10: 1.75
A11: Innenverteidiger | B11: 1.5
A12: Linker Verteidiger | B12: 1.5
A13: Rechter Verteidiger | B13: 1.5

Sheet Werte
A1: 0 | B1: 1
A2: 0.0025 | B2: 1.5
A3: 0.005 | B3: 2
A4: 0.01 | B4: 2.5
A5: 0.015 | B5: 3
A6: 0.025 | B6: 3.5
A7: 0.05 | B7: 4
A8: 0.075 | B8: 4.5
A9: 0.1 | B9: 5
A10: 0.15 | B10: 5.5
A11: 0.25 | B11: 6
A12: 0.3 | B12: 6.5
... A41: 300 | B41: 21

Sheet Alter
A1: 16 | B1: 0.3
A2: 17 | B2: 0.31
A3: 18 | B3: 0.32
A4: 19 | B4: 0.33
A5: 20 | B5: 0.34
A6: 21 | B6: 0.35
A7: 22 | B7: 0.4
A8: 23 | B8: 0.45
A9: 24 | B9: 0.5
A10: 25 | B10: 0.6
A11: 26 | B11: 0.7
A12: 27 | B12: 0.8
... A25: 40 | B25: 5.5
