Workbook

Sheet Attributenberechnung
C1: Antritt | D1: Schnelligkeit | E1: Robustheit | F1: Beweglichkeit | G1: Ausdauer | H1: Zweikampf (defensiv) | Ball festhalten | I1: Zweikampf (offensiv) | Strafraumbeherrschung | J1: Zweikampf (Luft) | Flugparaden | K1: Tackling | Mann gegen Mann | L1: Deckung | Reflexe | M1: Passen (kurz) | N1: Passen (lang) | O1: Passen (hoch) | P1: Ballkontrolle | Q1: Kopfball | Fausten | R1: Abschluss | Abwurf | S1: Schusskraft | Abschläge | T1: Fernschüsse | Abstöße | U1: Standartsituationen | V1: Effet | W1: Übersicht | X1: Stellungspiel | Y1: Reaktion | Z1: Trickreichtum | AA1: Taktisches Verständnis
A2: Basiswert | C2: =IF($B$2="TW",Beeinflussung!B4,Beeinflussung!B3) -> 15 | D2: =IF($B$2="TW",Beeinflussung!C4,Beeinflussung!C3) -> 15 | E2: =IF($B$2="TW",Beeinflussung!D4,Beeinflussung!D3) -> 15 | F2: =IF($B$2="TW",Beeinflussung!E4,Beeinflussung!E3) -> 15 | G2: =IF($B$2="TW",Beeinflussung!F4,Beeinflussung!F3) -> 15 | H2: =IF($B$2="TW",Beeinflussung!G4,Beeinflussung!G3) -> 15 | I2: =IF($B$2="TW",Beeinflussung!H4,Beeinflussung!H3) -> 15 | J2: =IF($B$2="TW",Beeinflussung!I4,Beeinflussung!I3) -> 15 | ... AA2: =IF($B$2="TW",Beeinflussung!Z4,Beeinflussung!Z3) -> 20
A3: Grundstärke | B3: 1 | C3: =$B$3*Beeinflussung!B2 -> 1 | D3: =$B$3*Beeinflussung!$C2 -> 1 | E3: =$B$3*Beeinflussung!$D2 -> 1 | F3: =$B$3*Beeinflussung!$E2 -> 0 | G3: =$B$3*Beeinflussung!$F2 -> 1 | H3: =$B$3*Beeinflussung!$G2 -> 2 | I3: =$B$3*Beeinflussung!$H2 -> 2 | J3: =$B$3*Beeinflussung!$I2 -> 1 | K3: =$B$3*Beeinflussung!$J2 -> 2 | L3: =$B$3*Beeinflussung!$K2 -> 2 | M3: =$B$3*Beeinflussung!$L2 -> 2 | N3: =$B$3*Beeinflussung!$M2 -> 2 | O3: =$B$3*Beeinflussung!$N2 -> 2 | P3: =$B$3*Beeinflussung!$O2 -> 2 | Q3: =$B$3*Beeinflussung!$P2 -> 2 | R3: =$B$3*Beeinflussung!$Q2 -> 2 | S3: =$B$3*Beeinflussung!$R2 -> 1 | T3: =$B$3*Beeinflussung!$S2 -> 2 | U3: =$B$3*Beeinflussung!$T2 -> 2 | V3: =$B$3*Beeinflussung!$U2 -> 2 | W3: =$B$3*Beeinflussung!$V2 -> 1 | X3: =$B$3*Beeinflussung!$W2 -> 1 | Y3: =$B$3*Beeinflussung!$X2 -> 1 | Z3: =$B$3*Beeinflussung!$Y2 -> 1 | AA3: =$B$3*Beeinflussung!$Z2 -> 1
A4: Form (+/-) 0-20 ( | B4: 10 | C4: =C3/$B$3/10*$B$4 -> 1 | D4: =D3/$B$3/10*$B$4 -> 1 | E4: =E3/$B$3/10*$B$4 -> 1 | F4: =F3/$B$3/10*$B$4 -> 0 | G4: =G3/$B$3/10*$B$4 -> 1 | H4: =H3/$B$3/10*$B$4 -> 2 | I4: =I3/$B$3/10*$B$4 -> 2 | J4: =J3/$B$3/10*$B$4 -> 1 | ... AA4: =AA3/$B$3/10*$B$4 -> 1
A5: Motivation (x) 0-120 | B5: 100 | C5: =IF($B$5<111,C3/100*$B$5,C3/100*(110-($B$5-110))) -> 1 | D5: =IF($B$5<111,D3/100*$B$5,D3/100*(110-($B$5-110))) -> 1 | E5: =IF($B$5<111,E3/100*$B$5,E3/100*(110-($B$5-110))) -> 1 | F5: =IF($B$5<111,F3/100*$B$5,F3/100*(110-($B$5-110))) -> 0 | G5: =IF($B$5<111,G3/100*$B$5,G3/100*(110-($B$5-110))) -> 1 | H5: =IF($B$5<111,H3/100*$B$5,H3/100*(110-($B$5-110))) -> 2 | I5: =IF($B$5<111,I3/100*$B$5,I3/100*(110-($B$5-110))) -> 2 | J5: =IF($B$5<111,J3/100*$B$5,J3/100*(110-($B$5-110))) -> 1 | ... AA5: =IF($B$5<111,AA3/100*$B$5,AA3/100*(110-($B$5-110))) -> 1
A6: ES und Grundwerte Attribute | B6: =IF($B$5<111,(B3-1+(B4/10))/100*$B$5,(B3-1+(B4/10)/100*(110-($B$5-110)))) -> 1 | C6: =C2+C4+C5 -> 17 | D6: =D2+D4+D5 -> 17 | E6: =E2+E4+E5 -> 17 | F6: =F2+F4+F5 -> 15 | G6: =G2+G4+G5 -> 17 | H6: =H2+H4+H5 -> 19 | I6: =I2+I4+I5 -> 19 | J6: =J2+J4+J5 -> 17 | ... AA6: =AA2+AA4+AA5 -> 22
A7: Größe: | B7: Normal | C7: =VLOOKUP(CONCATENATE("Größe: ",$B$7),Beeinflussung!$A$9:$Z$13,2,FALSE) -> 0 | D7: =VLOOKUP(CONCATENATE("Größe: ",$B$7),Beeinflussung!$A$9:$Z$13,3,FALSE) -> 0 | E7: =VLOOKUP(CONCATENATE("Größe: ",$B$7),Beeinflussung!$A$9:$Z$13,4,FALSE) -> 0 | F7: =VLOOKUP(CONCATENATE("Größe: ",$B$7),Beeinflussung!$A$9:$Z$13,5,FALSE) -> 15 | G7: =VLOOKUP(CONCATENATE("Größe: ",$B$7),Beeinflussung!$A$9:$Z$13,6,FALSE) -> 0 | H7: =VLOOKUP(CONCATENATE("Größe: ",$B$7),Beeinflussung!$A$9:$Z$13,7,FALSE) -> 0 | I7: =VLOOKUP(CONCATENATE("Größe: ",$B$7),Beeinflussung!$A$9:$Z$13,8,FALSE) -> 0 | J7: =VLOOKUP(CONCATENATE("Größe: ",$B$7),Beeinflussung!$A$9:$Z$13,9,FALSE) -> 15 | K7: =VLOOKUP(CONCATENATE("Größe: ",$B$7),Beeinflussung!$A$9:$Z$13,10,FALSE) -> 0 | L7: =VLOOKUP(CONCATENATE("Größe: ",$B$7),Beeinflussung!$A$9:$Z$13,11,FALSE) -> 0 | M7: =VLOOKUP(CONCATENATE("Größe: ",$B$7),Beeinflussung!$A$9:$Z$13,12,FALSE) -> 0 | N7: =VLOOKUP(CONCATENATE("Größe: ",$B$7),Beeinflussung!$A$9:$Z$13,13,FALSE) -> 0 | O7: =VLOOKUP(CONCATENATE("Größe: ",$B$7),Beeinflussung!$A$9:$Z$13,14,FALSE) -> 0 | P7: =VLOOKUP(CONCATENATE("Größe: ",$B$7),Beeinflussung!$A$9:$Z$13,15,FALSE) -> 0 | Q7: =VLOOKUP(CONCATENATE("Größe: ",$B$7),Beeinflussung!$A$9:$Z$13,16,FALSE) -> 0 | R7: =VLOOKUP(CONCATENATE("Größe: ",$B$7),Beeinflussung!$A$9:$Z$13,17,FALSE) -> 0 | S7: =VLOOKUP(CONCATENATE("Größe: ",$B$7),Beeinflussung!$A$9:$Z$13,18,FALSE) -> 0 | T7: =VLOOKUP(CONCATENATE("Größe: ",$B$7),Beeinflussung!$A$9:$Z$13,19,FALSE) -> 0 | U7: =VLOOKUP(CONCATENATE("Größe: ",$B$7),Beeinflussung!$A$9:$Z$13,20,FALSE) -> 0 | V7: =VLOOKUP(CONCATENATE("Größe: ",$B$7),Beeinflussung!$A$9:$Z$13,21,FALSE) -> 0 | W7: =VLOOKUP(CONCATENATE("Größe: ",$B$7),Beeinflussung!$A$9:$Z$13,22,FALSE) -> 0 | X7: =VLOOKUP(CONCATENATE("Größe: ",$B$7),Beeinflussung!$A$9:$Z$13,23,FALSE) -> 0 | Y7: =VLOOKUP(CONCATENATE("Größe: ",$B$7),Beeinflussung!$A$9:$Z$13,24,FALSE) -> 0 | Z7: =VLOOKUP(CONCATENATE("Größe: ",$B$7),Beeinflussung!$A$9:$Z$13,25,FALSE) -> 0 | AA7: =VLOOKUP(CONCATENATE("Größe: ",$B$7),Beeinflussung!$A$9:$Z$13,26,FALSE) -> 0
A8: Statur: | B8: Normal | C8: =VLOOKUP(CONCATENATE("Statur: ",$B$8),Beeinflussung!$A$5:$Z$8,2,FALSE) -> 20 | D8: =VLOOKUP(CONCATENATE("Statur: ",$B$8),Beeinflussung!$A$5:$Z$8,3,FALSE) -> 20 | E8: =VLOOKUP(CONCATENATE("Statur: ",$B$8),Beeinflussung!$A$5:$Z$8,4,FALSE) -> 20 | F8: =VLOOKUP(CONCATENATE("Statur: ",$B$8),Beeinflussung!$A$5:$Z$8,5,FALSE) -> 20 | G8: =VLOOKUP(CONCATENATE("Statur: ",$B$8),Beeinflussung!$A$5:$Z$8,6,FALSE) -> 0 | H8: =VLOOKUP(CONCATENATE("Statur: ",$B$8),Beeinflussung!$A$5:$Z$8,7,FALSE) -> 0 | I8: =VLOOKUP(CONCATENATE("Statur: ",$B$8),Beeinflussung!$A$5:$Z$8,8,FALSE) -> 0 | J8: =VLOOKUP(CONCATENATE("Statur: ",$B$8),Beeinflussung!$A$5:$Z$8,9,FALSE) -> 0 | K8: =VLOOKUP(CONCATENATE("Statur: ",$B$8),Beeinflussung!$A$5:$Z$8,10,FALSE) -> 0 | L8: =VLOOKUP(CONCATENATE("Statur: ",$B$8),Beeinflussung!$A$5:$Z$8,11,FALSE) -> 0 | M8: =VLOOKUP(CONCATENATE("Statur: ",$B$8),Beeinflussung!$A$5:$Z$8,12,FALSE) -> 0 | N8: =VLOOKUP(CONCATENATE("Statur: ",$B$8),Beeinflussung!$A$5:$Z$8,13,FALSE) -> 0 | O8: =VLOOKUP(CONCATENATE("Statur: ",$B$8),Beeinflussung!$A$5:$Z$8,14,FALSE) -> 0 | P8: =VLOOKUP(CONCATENATE("Statur: ",$B$8),Beeinflussung!$A$5:$Z$8,15,FALSE) -> 0 | Q8: =VLOOKUP(CONCATENATE("Statur: ",$B$8),Beeinflussung!$A$5:$Z$8,16,FALSE) -> 0 | R8: =VLOOKUP(CONCATENATE("Statur: ",$B$8),Beeinflussung!$A$5:$Z$8,17,FALSE) -> 0 | S8: =VLOOKUP(CONCATENATE("Statur: ",$B$8),Beeinflussung!$A$5:$Z$8,18,FALSE) -> 20 | T8: =VLOOKUP(CONCATENATE("Statur: ",$B$8),Beeinflussung!$A$5:$Z$8,19,FALSE) -> 0 | U8: =VLOOKUP(CONCATENATE("Statur: ",$B$8),Beeinflussung!$A$5:$Z$8,20,FALSE) -> 0 | V8: =VLOOKUP(CONCATENATE("Statur: ",$B$8),Beeinflussung!$A$5:$Z$8,21,FALSE) -> 0 | W8: =VLOOKUP(CONCATENATE("Statur: ",$B$8),Beeinflussung!$A$5:$Z$8,22,FALSE) -> 0 | X8: =VLOOKUP(CONCATENATE("Statur: ",$B$8),Beeinflussung!$A$5:$Z$8,23,FALSE) -> 0 | Y8: =VLOOKUP(CONCATENATE("Statur: ",$B$8),Beeinflussung!$A$5:$Z$8,24,FALSE) -> 0 | Z8: =VLOOKUP(CONCATENATE("Statur: ",$B$8),Beeinflussung!$A$5:$Z$8,25,FALSE) -> 0 | AA8: =VLOOKUP(CONCATENATE("Statur: ",$B$8),Beeinflussung!$A$5:$Z$8,26,FALSE) -> 0
A9: Alter: | B9: 16 | C9: =VLOOKUP(CONCATENATE("Alter: ",$B$9),Beeinflussung!$A$14:$Z$43,2,FALSE) -> 16 | D9: =VLOOKUP(CONCATENATE("Alter: ",$B$9),Beeinflussung!$A$14:$Z$43,3,FALSE) -> 16 | E9: =VLOOKUP(CONCATENATE("Alter: ",$B$9),Beeinflussung!$A$14:$Z$43,4,FALSE) -> 8 | F9: =VLOOKUP(CONCATENATE("Alter: ",$B$9),Beeinflussung!$A$14:$Z$43,5,FALSE) -> 16 | G9: =VLOOKUP(CONCATENATE("Alter: ",$B$9),Beeinflussung!$A$14:$Z$43,6,FALSE) -> 40 | H9: =VLOOKUP(CONCATENATE("Alter: ",$B$9),Beeinflussung!$A$14:$Z$43,7,FALSE) -> 0 | I9: =VLOOKUP(CONCATENATE("Alter: ",$B$9),Beeinflussung!$A$14:$Z$43,8,FALSE) -> 0 | J9: =VLOOKUP(CONCATENATE("Alter: ",$B$9),Beeinflussung!$A$14:$Z$43,9,FALSE) -> 0 | K9: =VLOOKUP(CONCATENATE("Alter: ",$B$9),Beeinflussung!$A$14:$Z$43,10,FALSE) -> 0 | L9: =VLOOKUP(CONCATENATE("Alter: ",$B$9),Beeinflussung!$A$14:$Z$43,11,FALSE) -> 0 | M9: =VLOOKUP(CONCATENATE("Alter: ",$B$9),Beeinflussung!$A$14:$Z$43,12,FALSE) -> 0 | N9: =VLOOKUP(CONCATENATE("Alter: ",$B$9),Beeinflussung!$A$14:$Z$43,13,FALSE) -> 0 | O9: =VLOOKUP(CONCATENATE("Alter: ",$B$9),Beeinflussung!$A$14:$Z$43,14,FALSE) -> 0 | P9: =VLOOKUP(CONCATENATE("Alter: ",$B$9),Beeinflussung!$A$14:$Z$43,15,FALSE) -> 0 | Q9: =VLOOKUP(CONCATENATE("Alter: ",$B$9),Beeinflussung!$A$14:$Z$43,16,FALSE) -> 0 | R9: =VLOOKUP(CONCATENATE("Alter: ",$B$9),Beeinflussung!$A$14:$Z$43,17,FALSE) -> 0 | S9: =VLOOKUP(CONCATENATE("Alter: ",$B$9),Beeinflussung!$A$14:$Z$43,18,FALSE) -> 0 | T9: =VLOOKUP(CONCATENATE("Alter: ",$B$9),Beeinflussung!$A$14:$Z$43,19,FALSE) -> 0 | U9: =VLOOKUP(CONCATENATE("Alter: ",$B$9),Beeinflussung!$A$14:$Z$43,20,FALSE) -> 0 | V9: =VLOOKUP(CONCATENATE("Alter: ",$B$9),Beeinflussung!$A$14:$Z$43,21,FALSE) -> 0 | W9: =VLOOKUP(CONCATENATE("Alter: ",$B$9),Beeinflussung!$A$14:$Z$43,22,FALSE) -> 20 | X9: =VLOOKUP(CONCATENATE("Alter: ",$B$9),Beeinflussung!$A$14:$Z$43,23,FALSE) -> 0 | Y9: =VLOOKUP(CONCATENATE("Alter: ",$B$9),Beeinflussung!$A$14:$Z$43,24,FALSE) -> 0 | Z9: =VLOOKUP(CONCATENATE("Alter: ",$B$9),Beeinflussung!$A$14:$Z$43,25,FALSE) -> 0 | AA9: =VLOOKUP(CONCATENATE("Alter: ",$B$9),Beeinflussung!$A$14:$Z$43,26,FALSE) -> 16
A10: Attribute durch Körper | C10: =C7+C8+C9 -> 36 | D10: =D7+D8+D9 -> 36 | E10: =E7+E8+E9 -> 28 | F10: =F7+F8+F9 -> 51 | G10: =G7+G8+G9 -> 40 | H10: =H7+H8+H9 -> 0 | I10: =I7+I8+I9 -> 0 | J10: =J7+J8+J9 -> 15 | ... AA10: =AA7+AA8+AA9 -> 16
A11: ES und Attribute nach Körper | B11: =B6 -> 1 | C11: =C6+C10 -> 53 | D11: =D6+D10 -> 53 | E11: =E6+E10 -> 45 | F11: =F6+F10 -> 66 | G11: =G6+G10 -> 57 | H11: =H6+H10 -> 19 | I11: =I6+I10 -> 19 | J11: =J6+J10 -> 32 | ... AA11: =AA6+AA10 -> 38
A12: Fähigkeit: | C12: =VLOOKUP($A12,Beeinflussung!$A$44:$Z$110,2,FALSE) -> 0 | D12: =VLOOKUP($A12,Beeinflussung!$A$44:$Z$110,3,FALSE) -> 0 | E12: =VLOOKUP($A12,Beeinflussung!$A$44:$Z$110,4,FALSE) -> 0 | F12: =VLOOKUP($A12,Beeinflussung!$A$44:$Z$110,5,FALSE) -> 0 | G12: =VLOOKUP($A12,Beeinflussung!$A$44:$Z$110,6,FALSE) -> 0 | H12: =VLOOKUP($A12,Beeinflussung!$A$44:$Z$110,7,FALSE) -> 0 | I12: =VLOOKUP($A12,Beeinflussung!$A$44:$Z$110,8,FALSE) -> 0 | J12: =VLOOKUP($A12,Beeinflussung!$A$44:$Z$110,9,FALSE) -> 0 | K12: =VLOOKUP($A12,Beeinflussung!$A$44:$Z$110,10,FALSE) -> 0 | L12: =VLOOKUP($A12,Beeinflussung!$A$44:$Z$110,11,FALSE) -> 0 | M12: =VLOOKUP($A12,Beeinflussung!$A$44:$Z$110,12,FALSE) -> 0 | N12: =VLOOKUP($A12,Beeinflussung!$A$44:$Z$110,13,FALSE) -> 0 | O12: =VLOOKUP($A12,Beeinflussung!$A$44:$Z$110,14,FALSE) -> 0 | P12: =VLOOKUP($A12,Beeinflussung!$A$44:$Z$110,15,FALSE) -> 0 | Q12: =VLOOKUP($A12,Beeinflussung!$A$44:$Z$110,16,FALSE) -> 0 | R12: =VLOOKUP($A12,Beeinflussung!$A$44:$Z$110,17,FALSE) -> 0 | S12: =VLOOKUP($A12,Beeinflussung!$A$44:$Z$110,18,FALSE) -> 0 | T12: =VLOOKUP($A12,Beeinflussung!$A$44:$Z$110,19,FALSE) -> 0 | U12: =VLOOKUP($A12,Beeinflussung!$A$44:$Z$110,20,FALSE) -> 0 | V12: =VLOOKUP($A12,Beeinflussung!$A$44:$Z$110,21,FALSE) -> 0 | W12: =VLOOKUP($A12,Beeinflussung!$A$44:$Z$110,22,FALSE) -> 0 | X12: =VLOOKUP($A12,Beeinflussung!$A$44:$Z$110,23,FALSE) -> 0 | Y12: =VLOOKUP($A12,Beeinflussung!$A$44:$Z$110,24,FALSE) -> 0 | Z12: =VLOOKUP($A12,Beeinflussung!$A$44:$Z$110,25,FALSE) -> 0 | AA12: =VLOOKUP($A12,Beeinflussung!$A$44:$Z$110,26,FALSE) -> 0
A13: Fähigkeit: | C13: =VLOOKUP($A13,Beeinflussung!$A$44:$Z$110,2,FALSE) -> 0 | D13: =VLOOKUP($A13,Beeinflussung!$A$44:$Z$110,3,FALSE) -> 0 | E13: =VLOOKUP($A13,Beeinflussung!$A$44:$Z$110,4,FALSE) -> 0 | F13: =VLOOKUP($A13,Beeinflussung!$A$44:$Z$110,5,FALSE) -> 0 | G13: =VLOOKUP($A13,Beeinflussung!$A$44:$Z$110,6,FALSE) -> 0 | H13: =VLOOKUP($A13,Beeinflussung!$A$44:$Z$110,7,FALSE) -> 0 | I13: =VLOOKUP($A13,Beeinflussung!$A$44:$Z$110,8,FALSE) -> 0 | J13: =VLOOKUP($A13,Beeinflussung!$A$44:$Z$110,9,FALSE) -> 0 | K13: =VLOOKUP($A13,Beeinflussung!$A$44:$Z$110,10,FALSE) -> 0 | L13: =VLOOKUP($A13,Beeinflussung!$A$44:$Z$110,11,FALSE) -> 0 | M13: =VLOOKUP($A13,Beeinflussung!$A$44:$Z$110,12,FALSE) -> 0 | N13: =VLOOKUP($A13,Beeinflussung!$A$44:$Z$110,13,FALSE) -> 0 | O13: =VLOOKUP($A13,Beeinflussung!$A$44:$Z$110,14,FALSE) -> 0 | P13: =VLOOKUP($A13,Beeinflussung!$A$44:$Z$110,15,FALSE) -> 0 | Q13: =VLOOKUP($A13,Beeinflussung!$A$44:$Z$110,16,FALSE) -> 0 | R13: =VLOOKUP($A13,Beeinflussung!$A$44:$Z$110,17,FALSE) -> 0 | S13: =VLOOKUP($A13,Beeinflussung!$A$44:$Z$110,18,FALSE) -> 0 | T13: =VLOOKUP($A13,Beeinflussung!$A$44:$Z$110,19,FALSE) -> 0 | U13: =VLOOKUP($A13,Beeinflussung!$A$44:$Z$110,20,FALSE) -> 0 | V13: =VLOOKUP($A13,Beeinflussung!$A$44:$Z$110,21,FALSE) -> 0 | W13: =VLOOKUP($A13,Beeinflussung!$A$44:$Z$110,22,FALSE) -> 0 | X13: =VLOOKUP($A13,Beeinflussung!$A$44:$Z$110,23,FALSE) -> 0 | Y13: =VLOOKUP($A13,Beeinflussung!$A$44:$Z$110,24,FALSE) -> 0 | Z13: =VLOOKUP($A13,Beeinflussung!$A$44:$Z$110,25,FALSE) -> 0 | AA13: =VLOOKUP($A13,Beeinflussung!$A$44:$Z$110,26,FALSE) -> 0
A14: Fähigkeit: | C14: =VLOOKUP($A14,Beeinflussung!$A$44:$Z$110,2,FALSE) -> 0 | D14: =VLOOKUP($A14,Beeinflussung!$A$44:$Z$110,3,FALSE) -> 0 | E14: =VLOOKUP($A14,Beeinflussung!$A$44:$Z$110,4,FALSE) -> 0 | F14: =VLOOKUP($A14,Beeinflussung!$A$44:$Z$110,5,FALSE) -> 0 | G14: =VLOOKUP($A14,Beeinflussung!$A$44:$Z$110,6,FALSE) -> 0 | H14: =VLOOKUP($A14,Beeinflussung!$A$44:$Z$110,7,FALSE) -> 0 | I14: =VLOOKUP($A14,Beeinflussung!$A$44:$Z$110,8,FALSE) -> 0 | J14: =VLOOKUP($A14,Beeinflussung!$A$44:$Z$110,9,FALSE) -> 0 | K14: =VLOOKUP($A14,Beeinflussung!$A$44:$Z$110,10,FALSE) -> 0 | L14: =VLOOKUP($A14,Beeinflussung!$A$44:$Z$110,11,FALSE) -> 0 | M14: =VLOOKUP($A14,Beeinflussung!$A$44:$Z$110,12,FALSE) -> 0 | N14: =VLOOKUP($A14,Beeinflussung!$A$44:$Z$110,13,FALSE) -> 0 | O14: =VLOOKUP($A14,Beeinflussung!$A$44:$Z$110,14,FALSE) -> 0 | P14: =VLOOKUP($A14,Beeinflussung!$A$44:$Z$110,15,FALSE) -> 0 | Q14: =VLOOKUP($A14,Beeinflussung!$A$44:$Z$110,16,FALSE) -> 0 | R14: =VLOOKUP($A14,Beeinflussung!$A$44:$Z$110,17,FALSE) -> 0 | S14: =VLOOKUP($A14,Beeinflussung!$A$44:$Z$110,18,FALSE) -> 0 | T14: =VLOOKUP($A14,Beeinflussung!$A$44:$Z$110,19,FALSE) -> 0 | U14: =VLOOKUP($A14,Beeinflussung!$A$44:$Z$110,20,FALSE) -> 0 | V14: =VLOOKUP($A14,Beeinflussung!$A$44:$Z$110,21,FALSE) -> 0 | W14: =VLOOKUP($A14,Beeinflussung!$A$44:$Z$110,22,FALSE) -> 0 | X14: =VLOOKUP($A14,Beeinflussung!$A$44:$Z$110,23,FALSE) -> 0 | Y14: =VLOOKUP($A14,Beeinflussung!$A$44:$Z$110,24,FALSE) -> 0 | Z14: =VLOOKUP($A14,Beeinflussung!$A$44:$Z$110,25,FALSE) -> 0 | AA14: =VLOOKUP($A14,Beeinflussung!$A$44:$Z$110,26,FALSE) -> 0
A15: Attribute durch Fähigkeiten | C15: =SUM(C12:C14) -> 0 | D15: =SUM(D12:D14) -> 0 | E15: =SUM(E12:E14) -> 0 | F15: =SUM(F12:F14) -> 0 | G15: =SUM(G12:G14) -> 0 | H15: =SUM(H12:H14) -> 0 | I15: =SUM(I12:I14) -> 0 | J15: =SUM(J12:J14) -> 0 | ... AA15: =SUM(AA12:AA14) -> 0
A16: Atrribute vor Charakter / Eigenschaften | C16: =C11+C15 -> 53 | D16: =D11+D15 -> 53 | E16: =E11+E15 -> 45 | F16: =F11+F15 -> 66 | G16: =G11+G15 -> 57 | H16: =H11+H15 -> 19 | I16: =I11+I15 -> 19 | J16: =J11+J15 -> 32 | ... AA16: =AA11+AA15 -> 38
A17: Charaktereigenschaft: | C17: =VLOOKUP($A17,Beeinflussung!$A$111:$Z$122,2,FALSE) -> 0 | D17: =VLOOKUP($A17,Beeinflussung!$A$111:$Z$122,3,FALSE) -> 0 | E17: =VLOOKUP($A17,Beeinflussung!$A$111:$Z$122,4,FALSE) -> 0 | F17: =VLOOKUP($A17,Beeinflussung!$A$111:$Z$122,5,FALSE) -> 0 | G17: =VLOOKUP($A17,Beeinflussung!$A$111:$Z$122,6,FALSE) -> 0 | H17: =VLOOKUP($A17,Beeinflussung!$A$111:$Z$122,7,FALSE) -> 0 | I17: =VLOOKUP($A17,Beeinflussung!$A$111:$Z$122,8,FALSE) -> 0 | J17: =VLOOKUP($A17,Beeinflussung!$A$111:$Z$122,9,FALSE) -> 0 | K17: =VLOOKUP($A17,Beeinflussung!$A$111:$Z$122,10,FALSE) -> 0 | L17: =VLOOKUP($A17,Beeinflussung!$A$111:$Z$122,11,FALSE) -> 0 | M17: =VLOOKUP($A17,Beeinflussung!$A$111:$Z$122,12,FALSE) -> 0 | N17: =VLOOKUP($A17,Beeinflussung!$A$111:$Z$122,13,FALSE) -> 0 | O17: =VLOOKUP($A17,Beeinflussung!$A$111:$Z$122,14,FALSE) -> 0 | P17: =VLOOKUP($A17,Beeinflussung!$A$111:$Z$122,15,FALSE) -> 0 | Q17: =VLOOKUP($A17,Beeinflussung!$A$111:$Z$122,16,FALSE) -> 0 | R17: =VLOOKUP($A17,Beeinflussung!$A$111:$Z$122,17,FALSE) -> 0 | S17: =VLOOKUP($A17,Beeinflussung!$A$111:$Z$122,18,FALSE) -> 0 | T17: =VLOOKUP($A17,Beeinflussung!$A$111:$Z$122,19,FALSE) -> 0 | U17: =VLOOKUP($A17,Beeinflussung!$A$111:$Z$122,20,FALSE) -> 0 | V17: =VLOOKUP($A17,Beeinflussung!$A$111:$Z$122,21,FALSE) -> 0 | W17: =VLOOKUP($A17,Beeinflussung!$A$111:$Z$122,22,FALSE) -> 0 | X17: =VLOOKUP($A17,Beeinflussung!$A$111:$Z$122,23,FALSE) -> 0 | Y17: =VLOOKUP($A17,Beeinflussung!$A$111:$Z$122,24,FALSE) -> 0 | Z17: =VLOOKUP($A17,Beeinflussung!$A$111:$Z$122,25,FALSE) -> 0 | AA17: =VLOOKUP($A17,Beeinflussung!$A$111:$Z$122,26,FALSE) -> 0
A18: Charaktereigenschaft: | C18: =VLOOKUP($A18,Beeinflussung!$A$111:$Z$122,2,FALSE) -> 0 | D18: =VLOOKUP($A18,Beeinflussung!$A$111:$Z$122,3,FALSE) -> 0 | E18: =VLOOKUP($A18,Beeinflussung!$A$111:$Z$122,4,FALSE) -> 0 | F18: =VLOOKUP($A18,Beeinflussung!$A$111:$Z$122,5,FALSE) -> 0 | G18: =VLOOKUP($A18,Beeinflussung!$A$111:$Z$122,6,FALSE) -> 0 | H18: =VLOOKUP($A18,Beeinflussung!$A$111:$Z$122,7,FALSE) -> 0 | I18: =VLOOKUP($A18,Beeinflussung!$A$111:$Z$122,8,FALSE) -> 0 | J18: =VLOOKUP($A18,Beeinflussung!$A$111:$Z$122,9,FALSE) -> 0 | K18: =VLOOKUP($A18,Beeinflussung!$A$111:$Z$122,10,FALSE) -> 0 | L18: =VLOOKUP($A18,Beeinflussung!$A$111:$Z$122,11,FALSE) -> 0 | M18: =VLOOKUP($A18,Beeinflussung!$A$111:$Z$122,12,FALSE) -> 0 | N18: =VLOOKUP($A18,Beeinflussung!$A$111:$Z$122,13,FALSE) -> 0 | O18: =VLOOKUP($A18,Beeinflussung!$A$111:$Z$122,14,FALSE) -> 0 | P18: =VLOOKUP($A18,Beeinflussung!$A$111:$Z$122,15,FALSE) -> 0 | Q18: =VLOOKUP($A18,Beeinflussung!$A$111:$Z$122,16,FALSE) -> 0 | R18: =VLOOKUP($A18,Beeinflussung!$A$111:$Z$122,17,FALSE) -> 0 | S18: =VLOOKUP($A18,Beeinflussung!$A$111:$Z$122,18,FALSE) -> 0 | T18: =VLOOKUP($A18,Beeinflussung!$A$111:$Z$122,19,FALSE) -> 0 | U18: =VLOOKUP($A18,Beeinflussung!$A$111:$Z$122,20,FALSE) -> 0 | V18: =VLOOKUP($A18,Beeinflussung!$A$111:$Z$122,21,FALSE) -> 0 | W18: =VLOOKUP($A18,Beeinflussung!$A$111:$Z$122,22,FALSE) -> 0 | X18: =VLOOKUP($A18,Beeinflussung!$A$111:$Z$122,23,FALSE) -> 0 | Y18: =VLOOKUP($A18,Beeinflussung!$A$111:$Z$122,24,FALSE) -> 0 | Z18: =VLOOKUP($A18,Beeinflussung!$A$111:$Z$122,25,FALSE) -> 0 | AA18: =VLOOKUP($A18,Beeinflussung!$A$111:$Z$122,26,FALSE) -> 0
A19: Charaktereigenschaft: | C19: =VLOOKUP($A19,Beeinflussung!$A$111:$Z$122,2,FALSE) -> 0 | D19: =VLOOKUP($A19,Beeinflussung!$A$111:$Z$122,3,FALSE) -> 0 | E19: =VLOOKUP($A19,Beeinflussung!$A$111:$Z$122,4,FALSE) -> 0 | F19: =VLOOKUP($A19,Beeinflussung!$A$111:$Z$122,5,FALSE) -> 0 | G19: =VLOOKUP($A19,Beeinflussung!$A$111:$Z$122,6,FALSE) -> 0 | H19: =VLOOKUP($A19,Beeinflussung!$A$111:$Z$122,7,FALSE) -> 0 | I19: =VLOOKUP($A19,Beeinflussung!$A$111:$Z$122,8,FALSE) -> 0 | J19: =VLOOKUP($A19,Beeinflussung!$A$111:$Z$122,9,FALSE) -> 0 | K19: =VLOOKUP($A19,Beeinflussung!$A$111:$Z$122,10,FALSE) -> 0 | L19: =VLOOKUP($A19,Beeinflussung!$A$111:$Z$122,11,FALSE) -> 0 | M19: =VLOOKUP($A19,Beeinflussung!$A$111:$Z$122,12,FALSE) -> 0 | N19: =VLOOKUP($A19,Beeinflussung!$A$111:$Z$122,13,FALSE) -> 0 | O19: =VLOOKUP($A19,Beeinflussung!$A$111:$Z$122,14,FALSE) -> 0 | P19: =VLOOKUP($A19,Beeinflussung!$A$111:$Z$122,15,FALSE) -> 0 | Q19: =VLOOKUP($A19,Beeinflussung!$A$111:$Z$122,16,FALSE) -> 0 | R19: =VLOOKUP($A19,Beeinflussung!$A$111:$Z$122,17,FALSE) -> 0 | S19: =VLOOKUP($A19,Beeinflussung!$A$111:$Z$122,18,FALSE) -> 0 | T19: =VLOOKUP($A19,Beeinflussung!$A$111:$Z$122,19,FALSE) -> 0 | U19: =VLOOKUP($A19,Beeinflussung!$A$111:$Z$122,20,FALSE) -> 0 | V19: =VLOOKUP($A19,Beeinflussung!$A$111:$Z$122,21,FALSE) -> 0 | W19: =VLOOKUP($A19,Beeinflussung!$A$111:$Z$122,22,FALSE) -> 0 | X19: =VLOOKUP($A19,Beeinflussung!$A$111:$Z$122,23,FALSE) -> 0 | Y19: =VLOOKUP($A19,Beeinflussung!$A$111:$Z$122,24,FALSE) -> 0 | Z19: =VLOOKUP($A19,Beeinflussung!$A$111:$Z$122,25,FALSE) -> 0 | AA19: =VLOOKUP($A19,Beeinflussung!$A$111:$Z$122,26,FALSE) -> 0
A20: Charaktereigenschaft: | C20: =VLOOKUP($A20,Beeinflussung!$A$111:$Z$122,2,FALSE) -> 0 | D20: =VLOOKUP($A20,Beeinflussung!$A$111:$Z$122,3,FALSE) -> 0 | E20: =VLOOKUP($A20,Beeinflussung!$A$111:$Z$122,4,FALSE) -> 0 | F20: =VLOOKUP($A20,Beeinflussung!$A$111:$Z$122,5,FALSE) -> 0 | G20: =VLOOKUP($A20,Beeinflussung!$A$111:$Z$122,6,FALSE) -> 0 | H20: =VLOOKUP($A20,Beeinflussung!$A$111:$Z$122,7,FALSE) -> 0 | I20: =VLOOKUP($A20,Beeinflussung!$A$111:$Z$122,8,FALSE) -> 0 | J20: =VLOOKUP($A20,Beeinflussung!$A$111:$Z$122,9,FALSE) -> 0 | K20: =VLOOKUP($A20,Beeinflussung!$A$111:$Z$122,10,FALSE) -> 0 | L20: =VLOOKUP($A20,Beeinflussung!$A$111:$Z$122,11,FALSE) -> 0 | M20: =VLOOKUP($A20,Beeinflussung!$A$111:$Z$122,12,FALSE) -> 0 | N20: =VLOOKUP($A20,Beeinflussung!$A$111:$Z$122,13,FALSE) -> 0 | O20: =VLOOKUP($A20,Beeinflussung!$A$111:$Z$122,14,FALSE) -> 0 | P20: =VLOOKUP($A20,Beeinflussung!$A$111:$Z$122,15,FALSE) -> 0 | Q20: =VLOOKUP($A20,Beeinflussung!$A$111:$Z$122,16,FALSE) -> 0 | R20: =VLOOKUP($A20,Beeinflussung!$A$111:$Z$122,17,FALSE) -> 0 | S20: =VLOOKUP($A20,Beeinflussung!$A$111:$Z$122,18,FALSE) -> 0 | T20: =VLOOKUP($A20,Beeinflussung!$A$111:$Z$122,19,FALSE) -> 0 | U20: =VLOOKUP($A20,Beeinflussung!$A$111:$Z$122,20,FALSE) -> 0 | V20: =VLOOKUP($A20,Beeinflussung!$A$111:$Z$122,21,FALSE) -> 0 | W20: =VLOOKUP($A20,Beeinflussung!$A$111:$Z$122,22,FALSE) -> 0 | X20: =VLOOKUP($A20,Beeinflussung!$A$111:$Z$122,23,FALSE) -> 0 | Y20: =VLOOKUP($A20,Beeinflussung!$A$111:$Z$122,24,FALSE) -> 0 | Z20: =VLOOKUP($A20,Beeinflussung!$A$111:$Z$122,25,FALSE) -> 0 | AA20: =VLOOKUP($A20,Beeinflussung!$A$111:$Z$122,26,FALSE) -> 0
A21: Attribute durch Charakter | C21: =SUM(C17:C20) -> 0 | D21: =SUM(D17:D20) -> 0 | E21: =SUM(E17:E20) -> 0 | F21: =SUM(F17:F20) -> 0 | G21: =SUM(G17:G20) -> 0 | H21: =SUM(H17:H20) -> 0 | I21: =SUM(I17:I20) -> 0 | J21: =SUM(J17:J20) -> 0 | ... AA21: =SUM(AA17:AA20) -> 0
A22: Attribute Hauptposition | B22: =B11 -> 1 | C22: =SUM(C16:C20) -> 53 | D22: =SUM(D16:D20) -> 53 | E22: =SUM(E16:E20) -> 45 | F22: =SUM(F16:F20) -> 66 | G22: =SUM(G16:G20) -> 57 | H22: =SUM(H16:H20) -> 19 | I22: =SUM(I16:I20) -> 19 | J22: =SUM(J16:J20) -> 32 | ... AA22: =SUM(AA16:AA20) -> 38
A23: Nebenposition 90% | B23: =B22*0.9 -> 0.9 | C23: =C$22 -> 53 | D23: =D$22 -> 53 | E23: =E$22 -> 45 | F23: =F$22 -> 66 | G23: =G$22*0.8 -> 45.6 | H23: =H$6*0.9+H$10+H$15+H$21 -> 17.1 | I23: =I$6*0.9+I$10+I$15+I$21 -> 17.1 | J23: =J$6*0.9+J$10+J$15+J$21 -> 30.3 | K23: =K$6*0.9+K$10+K$15+K$21 -> 17.1 | L23: =L$6*0.9+L$10+L$15+L$21 -> 26.1 | M23: =M$6*0.9+M$10+M$15+M$21 -> 21.6 | N23: =N$6*0.9+N$10+N$15+N$21 -> 21.6 | O23: =O$6*0.9+O$10+O$15+O$21 -> 21.6 | ... AA23: =AA$6*0.9+AA$10+AA$15+AA$21 -> 35.8
A24: Allrounder/Gespiegelte Pos.80% | B24: =B22*0.8 -> 0.8 | C24: =C$22 -> 53 | D24: =D$22 -> 53 | E24: =E$22 -> 45 | F24: =F$22 -> 66 | G24: =G$22*0.8 -> 45.6 | H24: =H$6*0.8+H$10+H$15+H$21 -> 15.2 | I24: =I$6*0.8+I$10+I$15+I$21 -> 15.2 | J24: =J$6*0.8+J$10+J$15+J$21 -> 28.6 | K24: =K$6*0.8+K$10+K$15+K$21 -> 15.2 | L24: =L$6*0.8+L$10+L$15+L$21 -> 23.2 | M24: =M$6*0.8+M$10+M$15+M$21 -> 19.2 | N24: =N$6*0.8+N$10+N$15+N$21 -> 19.2 | O24: =O$6*0.8+O$10+O$15+O$21 -> 19.2 | ... AA24: =AA$6*0.8+AA$10+AA$15+AA$21 -> 33.6
A25: Fremde Position Grad 1 70% | B25: =B22*0.7 -> 0.7 | C25: =C$22 -> 53 | D25: =D$22 -> 53 | E25: =E$22 -> 45 | F25: =F$22 -> 66 | G25: =G$22*0.8 -> 45.6 | H25: =H$6*0.7+H$10+H$15+H$21 -> 13.3 | I25: =I$6*0.7+I$10+I$15+I$21 -> 13.3 | J25: =J$6*0.7+J$10+J$15+J$21 -> 26.9 | K25: =K$6*0.7+K$10+K$15+K$21 -> 13.3 | L25: =L$6*0.7+L$10+L$15+L$21 -> 20.3 | M25: =M$6*0.7+M$10+M$15+M$21 -> 16.8 | N25: =N$6*0.7+N$10+N$15+N$21 -> 16.8 | O25: =O$6*0.7+O$10+O$15+O$21 -> 16.8 | ... AA25: =AA$6*0.7+AA$10+AA$15+AA$21 -> 31.4
A26: Fremde Position Grad 2 50% | B26: =B22*0.5 -> 0.5 | C26: =C$22 -> 53 | D26: =D$22 -> 53 | E26: =E$22 -> 45 | F26: =F$22 -> 66 | G26: =G$22*0.8 -> 45.6 | H26: =H$6*0.5+H$10+H$15+H$21 -> 9.5 | I26: =I$6*0.5+I$10+I$15+I$21 -> 9.5 | J26: =J$6*0.5+J$10+J$15+J$21 -> 23.5 | K26: =K$6*0.5+K$10+K$15+K$21 -> 9.5 | L26: =L$6*0.5+L$10+L$15+L$21 -> 14.5 | M26: =M$6*0.5+M$10+M$15+M$21 -> 12 | N26: =N$6*0.5+N$10+N$15+N$21 -> 12 | O26: =O$6*0.5+O$10+O$15+O$21 -> 12 | ... AA26: =AA$6*0.5+AA$10+AA$15+AA$21 -> 27
A27: Torwart <-> Feldspieler 20 % | B27: =B22*0.2 -> 0.2 | C27: =C$22 -> 53 | D27: =D$22 -> 53 | E27: =E$22 -> 45 | F27: =F$22 -> 66 | G27: =G$22*0.8 -> 45.6 | H27: =H$6*0.2+H$10+H$15+H$21 -> 3.8 | I27: =I$6*0.2+I$10+I$15+I$21 -> 3.8 | J27: =J$6*0.2+J$10+J$15+J$21 -> 18.4 | K27: =K$6*0.2+K$10+K$15+K$21 -> 3.8 | L27: =L$6*0.2+L$10+L$15+L$21 -> 5.8 | M27: =M$6*0.2+M$10+M$15+M$21 -> 4.8 | N27: =N$6*0.2+N$10+N$15+N$21 -> 4.8 | O27: =O$6*0.2+O$10+O$15+O$21 -> 4.8 | ... AA27: =AA$6*0.2+AA$10+AA$15+AA$21 -> 20.4

Sheet Übersicht
A1: Übersicht: Talente und Stärke
A3: Bezeichnung | B3: Sterne | C3: Maximalstärke
A4: Sternenstunde | B4: «««««« | C4: 21
A5: Weltklasse Pozential | B5: ««««« | C5: 20
B6: ««««« | C6: 19
A7: Hochbegabt | B7: ««««¶ | C7: 18
B8: ««««¶ | C8: 17
A9: Begabt | B9: «««« | C9: 16
B10: «««« | C10: 15
A11: Gehobener Durchschnitt | B11: «««¶ | C11: 14
B12: «««¶ | C12: 13
A13: Durchschnitt | B13: ««« | C13: 12
B14: ««« | C14: 11
A15: Unterdurchschnittlich | B15: ««¶ | C15: 10
B16: ««¶ | C16: 9
A17: Limitiert | B17: «« | C17: 8
B18: «« | C18: 7
A19: Stark Limitiert | B19: «¶ | C19: 6
B20: «¶ | C20: 5
A21: Kein Talent | B21: « | C21: 4
B22: « | C22: 3
A23: Fußballer? | B23: ¶ | C23: 2
B24: ¶ | C24: 1

Sheet Beeinflussung
B1: Antritt | C1: Schnelligkeit | D1: Robustheit | E1: Beweglichkeit | F1: Ausdauer | G1: Zweikampf (defensiv) | Ball festhalten | H1: Zweikampf (offensiv) | Strafraumbeherrschung | I1: Zweikampf (Luft) | Flugparaden | J1: Tackling | Mann gegen Mann | K1: Deckung | Reflexe | L1: Passen (kurz) | M1: Passen (lang) | N1: Passen (hoch) | O1: Ballkontrolle | P1: Kopfball | Fausten | Q1: Abschluss | Abwurf | R1: Schusskraft | Abschläge | S1: Fernschüsse | Abstöße | T1: Standartsituationen | U1: Effet | V1: Übersicht | W1: Stellungspiel | X1: Reaktion | Y1: Trickreichtum | Z1: Taktisches Verständnis
A2: Pro Grundstärke | B2: 1 | C2: 1 | D2: 1 | E2: 0 | F2: 1 | G2: 2 | H2: 2 | I2: 1 | J2: 2 | K2: 2 | L2: 2 | M2: 2 | N2: 2 | O2: 2 | P2: 2 | Q2: 2 | R2: 1 | S2: 2 | T2: 2 | U2: 2 | V2: 1 | W2: 1 | X2: 1 | Y2: 1 | Z2: 1 | AA2: =SUM(B2:Z2) -> 37 | AB2: Die Grundstärke ist angedacht, um die Effekte von negativen Fähigkeiten oder Eigenschaften auszuglichen und das Fallen eines Attributes auf 0 zu vermeiden - würde elegantere Lösungen geben.
A3: Basiswert: Feldspieler | B3: 15 | C3: 15 | D3: 15 | E3: 15 | F3: 15 | G3: 15 | H3: 15 | I3: 15 | J3: 15 | K3: 25 | L3: 20 | M3: 20 | N3: 20 | O3: 25 | P3: 25 | Q3: 20 | R3: 15 | S3: 15 | T3: 15 | U3: 15 | V3: 15 | W3: 20 | X3: 35 | Y3: 10 | Z3: 20 | AA3: =SUM(B3:Z3) -> 450
A4: Basiswert: Torwart | B4: 15 | C4: 15 | D4: 15 | E4: 15 | F4: 15 | G4: 15 | H4: 15 | I4: 15 | J4: 15 | K4: 25 | L4: 20 | M4: 20 | N4: 20 | O4: 25 | P4: 25 | Q4: 20 | R4: 15 | S4: 15 | T4: 15 | U4: 15 | V4: 15 | W4: 20 | X4: 35 | Y4: 10 | Z4: 20 | AA4: =SUM(B4:Z4) -> 450
A5: Statur: Normal | B5: 20 | C5: 20 | D5: 20 | E5: 20 | F5: 0 | G5: 0 | H5: 0 | I5: 0 | J5: 0 | K5: 0 | L5: 0 | M5: 0 | N5: 0 | O5: 0 | P5: 0 | Q5: 0 | R5: 20 | S5: 0 | T5: 0 | U5: 0 | V5: 0 | W5: 0 | X5: 0 | Y5: 0 | Z5: 0 | AA5: =SUM(B5:Z5) -> 100
A6: Statur: Athletisch | B6: 25 | C6: 25 | D6: 15 | E6: 20 | F6: 0 | G6: 0 | H6: 0 | I6: 0 | J6: 0 | K6: 0 | L6: 0 | M6: 0 | N6: 0 | O6: 0 | P6: 0 | Q6: 0 | R6: 15 | S6: 0 | T6: 0 | U6: 0 | V6: 0 | W6: 0 | X6: 0 | Y6: 0 | Z6: 0 | AA6: =SUM(B6:Z6) -> 100
A7: Statur: Kräftig | B7: 15 | C7: 15 | D7: 25 | E7: 20 | F7: 0 | G7: 0 | H7: 0 | I7: 0 | J7: 0 | K7: 0 | L7: 0 | M7: 0 | N7: 0 | O7: 0 | P7: 0 | Q7: 0 | R7: 25 | S7: 0 | T7: 0 | U7: 0 | V7: 0 | W7: 0 | X7: 0 | Y7: 0 | Z7: 0 | AA7: =SUM(B7:Z7) -> 100
A8: Statur: Schmächtig | B8: 25 | C8: 20 | D8: 15 | E8: 25 | F8: 0 | G8: 0 | H8: 0 | I8: 0 | J8: 0 | K8: 0 | L8: 0 | M8: 0 | N8: 0 | O8: 0 | P8: 0 | Q8: 0 | R8: 15 | S8: 0 | T8: 0 | U8: 0 | V8: 0 | W8: 0 | X8: 0 | Y8: 0 | Z8: 0 | AA8: =SUM(B8:Z8) -> 100
A9: Größe: Sehr klein | B9: 0 | C9: 0 | D9: 0 | E9: 25 | F9: 0 | G9: 0 | H9: 0 | I9: 5 | J9: 0 | K9: 0 | L9: 0 | M9: 0 | N9: 0 | O9: 0 | P9: 0 | Q9: 0 | R9: 0 | S9: 0 | T9: 0 | U9: 0 | V9: 0 | W9: 0 | X9: 0 | Y9: 0 | Z9: 0 | AA9: =SUM(B9:Z9) -> 30
A10: Größe: Klein | B10: 0 | C10: 0 | D10: 0 | E10: 20 | F10: 0 | G10: 0 | H10: 0 | I10: 10 | J10: 0 | K10: 0 | L10: 0 | M10: 0 | N10: 0 | O10: 0 | P10: 0 | Q10: 0 | R10: 0 | S10: 0 | T10: 0 | U10: 0 | V10: 0 | W10: 0 | X10: 0 | Y10: 0 | Z10: 0 | AA10: =SUM(B10:Z10) -> 30
A11: Größe: Normal | B11: 0 | C11: 0 | D11: 0 | E11: 15 | F11: 0 | G11: 0 | H11: 0 | I11: 15 | J11: 0 | K11: 0 | L11: 0 | M11: 0 | N11: 0 | O11: 0 | P11: 0 | Q11: 0 | R11: 0 | S11: 0 | T11: 0 | U11: 0 | V11: 0 | W11: 0 | X11: 0 | Y11: 0 | Z11: 0 | AA11: =SUM(B11:Z11) -> 30
A12: Größe: Groß | B12: 0 | C12: 0 | D12: 0 | E12: 10 | F12: 0 | G12: 0 | H12: 0 | I12: 20 | J12: 0 | K12: 0 | L12: 0 | M12: 0 | N12: 0 | O12: 0 | P12: 0 | Q12: 0 | R12: 0 | S12: 0 | T12: 0 | U12: 0 | V12: 0 | W12: 0 | X12: 0 | Y12: 0 | Z12: 0 | AA12: =SUM(B12:Z12) -> 30
A13: Größe: Sehr groß | B13: 0 | C13: 0 | D13: 0 | E13: 5 | F13: 0 | G13: 0 | H13: 0 | I13: 25 | J13: 0 | K13: 0 | L13: 0 | M13: 0 | N13: 0 | O13: 0 | P13: 0 | Q13: 0 | R13: 0 | S13: 0 | T13: 0 | U13: 0 | V13: 0 | W13: 0 | X13: 0 | Y13: 0 | Z13: 0 | AA13: =SUM(B13:Z13) -> 30
A14: Alter: 16 | B14: 16 | C14: 16 | D14: 8 | E14: 16 | F14: 40 | G14: 0 | H14: 0 | I14: 0 | J14: 0 | K14: 0 | L14: 0 | M14: 0 | N14: 0 | O14: 0 | P14: 0 | Q14: 0 | R14: 0 | S14: 0 | T14: 0 | U14: 0 | V14: 20 | W14: 0 | X14: 0 | Y14: 0 | Z14: 16 | AA14: =SUM(B14:Z14) -> 132
... A111: Charaktereigenschaft: | B111: 0 | C111: 0 | D111: 0 | E111: 0 | F111: 0 | G111: 0 | H111: 0 | I111: 0 | J111: 0 | K111: 0 | L111: 0 | M111: 0 | N111: 0 | O111: 0 | P111: 0 | Q111: 0 | R111: 0 | S111: 0 | T111: 0 | U111: 0 | V111: 0 | W111: 0 | X111: 0 | Y111: 0 | Z111: 0 | AA111: =SUM(B111:Z111) -> 0
A112: Charaktereigenschaft: Kämpfernatur | B112: 0 | C112: 0 | D112: 0 | E112: 0 | F112: 10 | G112: 5 | H112: 5 | I112: 5 | J112: 5 | K112: 0 | L112: 0 | M112: 0 | N112: 0 | O112: 0 | P112: 0 | Q112: 0 | R112: 0 | S112: 0 | T112: 0 | U112: 0 | V112: 0 | W112: 0 | X112: 0 | Y112: 0 | Z112: 0 | AA112: =SUM(B112:Z112) -> 30 | AB112: -> Wenn einmal im Rückstand erhält der Spieler zusätzliche Attribute für den Rest des Spieles
A113: Charaktereigenschaft: Straßenfussballer | B113: 0 | C113: 0 | D113: 0 | E113: 0 | F113: 0 | G113: 0 | H113: 0 | I113: 0 | J113: 0 | K113: 0 | L113: 0 | M113: 0 | N113: 0 | O113: 0 | P113: 0 | Q113: 0 | R113: 0 | S113: 0 | T113: 0 | U113: 0 | V113: 0 | W113: 0 | X113: 0 | Y113: 20 | Z113: -10 | AA113: =SUM(B113:Z113) -> 10 | AB113: -> Begabt am Ball, aber hält sich nicht so wirklich an taktische Vorgaben
A114: Charaktereigenschaft: Starspieler (pos) | B114: 4 | C114: 4 | D114: 4 | E114: 4 | F114: 4 | G114: 4 | H114: 4 | I114: 4 | J114: 4 | K114: 4 | L114: 4 | M114: 4 | N114: 4 | O114: 4 | P114: 4 | Q114: 4 | R114: 4 | S114: 4 | T114: 4 | U114: 4 | V114: 0 | W114: 0 | X114: 0 | Y114: 0 | Z114: 0 | AA114: =SUM(B114:Z114) -> 80 | AB114: -> Ein Spieler für die ganz großen Spieler, da lässt er gerne sein ganzes Können aufblitze!
A115: Charaktereigenschaft: Starspieler (neg) | B115: -5 | C115: -5 | D115: -5 | E115: -5 | F115: -5 | G115: -5 | H115: -5 | I115: -5 | J115: -5 | K115: -5 | L115: -5 | M115: -5 | N115: -5 | O115: -5 | P115: -5 | Q115: -5 | R115: -5 | S115: -5 | T115: -5 | U115: -5 | V115: 0 | W115: 0 | X115: 0 | Y115: 0 | Z115: 0 | AA115: =SUM(B115:Z115) -> -100 | AB115: -> Ist dafür aber bei unwichtigen Spielen auffällig unaufällig.
A116: Charaktereigenschaft: Naturtalent | B116: 0 | C116: 0 | D116: 0 | E116: 0 | F116: 0 | G116: 0 | H116: 5 | I116: 0 | J116: 0 | K116: 0 | L116: 5 | M116: 5 | N116: 5 | O116: 0 | P116: 0 | Q116: 0 | R116: 0 | S116: 0 | T116: 0 | U116: 5 | V116: 0 | W116: 0 | X116: 0 | Y116: 5 | Z116: 0 | AA116: =SUM(B116:Z116) -> 30 | AB116: -> Er behandelt den Ball wie ein Vogelfreund das Rohe Straßenei
A117: Charaktereigenschaft: Raumdeuter | B117: 10 | C117: 10 | D117: 0 | E117: 0 | F117: 0 | G117: 0 | H117: 0 | I117: 0 | J117: 0 | K117: 0 | L117: 0 | M117: 0 | N117: 0 | O117: 0 | P117: 0 | Q117: 5 | R117: 0 | S117: 0 | T117: 0 | U117: 0 | V117: 10 | W117: 10 | X117: 10 | Y117: 0 | Z117: 0 | AA117: =SUM(B117:Z117) -> 55 | AB117: -> So richtig Fußball spielen kann er nicht, aber irgendwie klappt das bei ihm schon.
A118: Charaktereigenschaft: Schnarchnase | B118: 0 | C118: 0 | D118: 0 | E118: 0 | F118: 0 | G118: 0 | H118: 0 | I118: 0 | J118: 0 | K118: -10 | L118: -5 | M118: -5 | N118: -5 | O118: -10 | P118: 0 | Q118: -5 | R118: 0 | S118: 0 | T118: 0 | U118: 0 | V118: -5 | W118: -10 | X118: -10 | Y118: 0 | Z118: 0 | AA118: =SUM(B118:Z118) -> -65 | AB118: -> Braucht immer etwas um ins Spiel zu finden, Baut Attribute über die ersten 20 Minuten auf.
A119: Charaktereigenschaft: Treter | B119: 0 | C119: 0 | D119: 5 | E119: 0 | F119: 0 | G119: 5 | H119: 0 | I119: 5 | J119: 5 | K119: 0 | L119: 0 | M119: 0 | N119: 0 | O119: 0 | P119: 0 | Q119: 0 | R119: 0 | S119: 0 | T119: 0 | U119: 0 | V119: 0 | W119: 0 | X119: 0 | Y119: 0 | Z119: 0 | AA119: =SUM(B119:Z119) -> 20 | AB119: -> Spielt gerne mal ein unnötiges Foul, ist aber durchaus stärker im Zweikampf.
A120: Charaktereigenschaft: Freistoßexperte | B120: 0 | C120: 0 | D120: 0 | E120: 0 | F120: 0 | G120: 0 | H120: 0 | I120: 0 | J120: 0 | K120: 0 | L120: 0 | M120: 0 | N120: 0 | O120: 0 | P120: 0 | Q120: 0 | R120: 10 | S120: 10 | T120: 10 | U120: 10 | V120: 0 | W120: 0 | X120: 0 | Y120: 0 | Z120: 0 | AA120: =SUM(B120:Z120) -> 40 | AB120: -> Der Mann für die ruhenden Bälle! (Schwachsinniger Charakter, einfach nur als Platzhalter)
A121: Charaktereigenschaft: Dickkopf | B121: 0 | C121: 0 | D121: 0 | E121: 0 | F121: 0 | G121: 0 | H121: 0 | I121: 0 | J121: 0 | K121: 0 | L121: 0 | M121: 0 | N121: 0 | O121: 0 | P121: 10 | Q121: 0 | R121: 0 | S121: 0 | T121: 0 | U121: 0 | V121: 0 | W121: 0 | X121: 0 | Y121: 0 | Z121: 0 | AA121: =SUM(B121:Z121) -> 10 | AB121: -> Geht am liebsten mit den Kopf durch die Wand! (Wie Freistoßexperter - einfach nur Platzhalter)

Sheet Beschreibung Attribute
A1: Attribute (Feldspieler) | B1: Attribut (Torwart)
A2: Antritt | B2: Antritt | C2: Je höher der Wert, desto schneller kann der Spieler seine maximale Laufgeschwindigkeit erreichen.
A3: Schnelligkeit | B3: Schnelligkeit | C3: Der Wert spiegelt die maximale Laufgeschwindigkeit des Spielers wieder.
A4: Robustheit | B4: Robustheit | C4: Bonuswert auf Zweikämpfe und Wiederstandsfähigkeit gegenüber generischer Tacklings.
A5: Beweglichkeit | B5: Beweglichkeit | C5: Gibt an, wie schnell der Spieler seine Laufrichtung verändern kann.
A6: Ausdauer | B6: Ausdauer | C6: Aktionen Verbrauchen Kondiotion. Die Ausdauer reguliert den Verbrauch.
A7: Zweikampf (defensiv) | B7: Ball halten | C7: Chance, dem Gegner den Ball abzunehmen. | Stärke den Ball festzuhalten und nicht abklatschen zu lassen.
A8: Zweikampf (offensiv) | B8: Strafraumbeherrschung | C8: Chance, im Zweikampf am Gegner vorbei zu kommen. | Herauslaufen bei hohen Pässen und Ecken.
A9: Zweikampf (Luft) | B9: Flugparaden | C9: Vergleichswert für Luftduelle. | Reichweite bei Hechtsprünge zum Ball.
A10: Tackling | B10: Mann gegen Mann | C10: Rustikales Einsteigen zum Klären und Erkämpfen des Balles. | Stärke in 1 gegen 1 Situationen .
A11: Deckung | B11: Reflexe | C11: Raum- und Manndeckungsfähigkeit. | Reflexe bei schüssen aus naher Distanz.
A12: Passen (kurz) | B12: Passen (kurz) | C12: Präzision von kurzen Pässen.
A13: Passen (lang) | B13: Passen (lang) | C13: Präzision von langen Pässen.
... A26: Taktisches Verständnis | B26: Taktisches Verständnis | C26: Vermögen taktische Vorgaben umzusetzten. Zeit bis zum völligen Verständnis einer (komplexen) Taktik.

Sheet Charakterere (einfach Ignorier)
A1: Bezeichnung | B1: Beschreibung | C1: Stärkenberechnung | D1: Verhandlungen | E1: Event
A2: Gefühlsbestimmt | B2: Ein sehr emotionaler Spieler | C2: Einfluss der Motivation auf ES verdoppelt | D2: - | E2: Motivationsbeeinflussung durch Events werden verdoppelt
A3: Verstandsbestimmt | B3: Ein Kühler Kopf, der sich von nichts aus der Ruhe bringen lässt. | C3: Einfluss der Motivation auf ES halbiert | D3: - | E3: Motivationsbeeinflussung durch Events wird halbiert
A4: Stoisch | B4: Hat dieser Mensch überhaupt Gefühle? | C4: Kein Einfluss auf ES durch Motivation | D4: - | E4: Keine Events mit Motivationsbeeinflussung
