Workbook

Sheet Daten
A1: Nummer | B1: Name | C1: Liga | D1: Marktwert | E1: Marktwert 1-12 (13) | F1: Marktwert 1-20 (21) | G1: Marktwert 100 | H1: Stärke 1-12 (13) | I1: Stärke 1-20 (21) | J1: Stärke 100 | L1: Liga | M1: Anzahl | N1: Höchster Wert | O1: Kleinster Wert | P1: Mittelwert | Q1: Median | S1: Marktwert | T1: Anzahl | U1: Anzahl % | V1: Anzahl K% | W1: Gesamtwert | X1: GMW % | Y1: GMW K%
A2: A0001 | B2: Serge Gnabry | C2: 1. Liga Deutschland | D2: 90000000 | E2: =VLOOKUP($D2,Zusammenführung!$S$7:$AD$118,4,0) -> 70000000 | F2: =VLOOKUP($D2,Zusammenführung!$S$7:$AD$118,7,0) -> 80000000 | G2: =VLOOKUP($D2,Zusammenführung!$S$7:$AD$118,10,0) -> 92211982 | H2: =VLOOKUP(E2,Zusammenführung!V$7:X$118,3,0) -> 11 | I2: =VLOOKUP(F2,Zusammenführung!$Y$7:$AA$118,3,0) -> 19 | J2: =VLOOKUP(G2,Zusammenführung!$AB$7:$AD$118,3,0) -> 79 | L2: 1. Liga Deutschland | M2: =COUNTIF(Daten!$C$1:$C$2170,L2) -> 75 | N2: {=MAX(IF(C$2:C$2170=L2,D$2:D$2170))} -> 90000000 | O2: {=MIN(IF(C$2:C$2170=L2,D$2:D$2170))} -> 650000 | P2: =AVERAGEIF(C$2:C$2170,L2,D$2:D$2170) -> 12167000 | Q2: {=MEDIAN(IF(C$2:C$2170=L2,D$2:D$2170))} -> 6500000 | S2: 25000 | T2: =COUNTIF(Daten!$D$1:$D$2170,S2) -> 26 | U2: =T2/$T$114 -> 0.011987091 | V2: =SUM($U$2:U2) -> 0.011987091 | W2: =S2*T2 -> 650000 | X2: =W2/$W$114 -> 8.2984797e-05 | Y2: =SUM($X$2:X2) -> 8.2984797e-05
A3: A0002 | B3: Leroy Sané | C3: 1. Liga Deutschland | D3: 70000000 | E3: =VLOOKUP($D3,Zusammenführung!$S$7:$AD$118,4,0) -> 70000000 | F3: =VLOOKUP($D3,Zusammenführung!$S$7:$AD$118,7,0) -> 60000000 | G3: =VLOOKUP($D3,Zusammenführung!$S$7:$AD$118,10,0) -> 70645161 | H3: =VLOOKUP(E3,Zusammenführung!V$7:X$118,3,0) -> 11 | I3: =VLOOKUP(F3,Zusammenführung!$Y$7:$AA$118,3,0) -> 18 | J3: =VLOOKUP(G3,Zusammenführung!$AB$7:$AD$118,3,0) -> 76 | L3: 2. Liga Deutschland | M3: =COUNTIF(Daten!$C$1:$C$2170,L3) -> 95 | N3: {=MAX(IF(C$2:C$2170=L3,D$2:D$2170))} -> 3500000 | O3: {=MIN(IF(C$2:C$2170=L3,D$2:D$2170))} -> 175000 | P3: =AVERAGEIF(C$2:C$2170,L3,D$2:D$2170) -> 759736.84 | Q3: {=MEDIAN(IF(C$2:C$2170=L3,D$2:D$2170))} -> 600000 | S3: 50000 | T3: =COUNTIF(Daten!$D$1:$D$2170,S3) -> 98 | U3: =T3/$T$114 -> 0.045182112 | V3: =SUM($U$2:U3) -> 0.057169202 | W3: =S3*T3 -> 4900000 | X3: =W3/$W$114 -> 0.0006255777 | Y3: =SUM($X$2:X3) -> 0.0007085625
A4: A0003 | B4: Kingsley Coman | C4: 1. Liga Deutschland | D4: 40000000 | E4: =VLOOKUP($D4,Zusammenführung!$S$7:$AD$118,4,0) -> 30000000 | F4: =VLOOKUP($D4,Zusammenführung!$S$7:$AD$118,7,0) -> 30000000 | G4: =VLOOKUP($D4,Zusammenführung!$S$7:$AD$118,10,0) -> 43179724 | H4: =VLOOKUP(E4,Zusammenführung!V$7:X$118,3,0) -> 10 | I4: =VLOOKUP(F4,Zusammenführung!$Y$7:$AA$118,3,0) -> 17 | J4: =VLOOKUP(G4,Zusammenführung!$AB$7:$AD$118,3,0) -> 72 | L4: 3. Liga Deutschland | M4: =COUNTIF(Daten!$C$1:$C$2170,L4) -> 77 | N4: {=MAX(IF(C$2:C$2170=L4,D$2:D$2170))} -> 600000 | O4: {=MIN(IF(C$2:C$2170=L4,D$2:D$2170))} -> 75000 | P4: =AVERAGEIF(C$2:C$2170,L4,D$2:D$2170) -> 243181.82 | Q4: {=MEDIAN(IF(C$2:C$2170=L4,D$2:D$2170))} -> 225000 | S4: 60000 | T4: =COUNTIF(Daten!$D$1:$D$2170,S4) -> 1 | U4: =T4/$T$114 -> 0.00046104195 | V4: =SUM($U$2:U4) -> 0.057630244 | W4: =S4*T4 -> 60000 | X4: =W4/$W$114 -> 7.6601351e-06 | Y4: =SUM($X$2:X4) -> 0.00071622263
A5: A0004 | B5: Marcel Sabitzer | C5: 1. Liga Deutschland | D5: 35000000 | E5: =VLOOKUP($D5,Zusammenführung!$S$7:$AD$118,4,0) -> 30000000 | F5: =VLOOKUP($D5,Zusammenführung!$S$7:$AD$118,7,0) -> 30000000 | G5: =VLOOKUP($D5,Zusammenführung!$S$7:$AD$118,10,0) -> 36543779 | H5: =VLOOKUP(E5,Zusammenführung!V$7:X$118,3,0) -> 10 | I5: =VLOOKUP(F5,Zusammenführung!$Y$7:$AA$118,3,0) -> 17 | J5: =VLOOKUP(G5,Zusammenführung!$AB$7:$AD$118,3,0) -> 71 | L5: 4. Liga Deutschland Bayern | M5: =COUNTIF(Daten!$C$1:$C$2170,L5) -> 31 | N5: {=MAX(IF(C$2:C$2170=L5,D$2:D$2170))} -> 175000 | O5: {=MIN(IF(C$2:C$2170=L5,D$2:D$2170))} -> 25000 | P5: =AVERAGEIF(C$2:C$2170,L5,D$2:D$2170) -> 76612.903 | Q5: {=MEDIAN(IF(C$2:C$2170=L5,D$2:D$2170))} -> 75000 | S5: 75000 | T5: =COUNTIF(Daten!$D$1:$D$2170,S5) -> 109 | U5: =T5/$T$114 -> 0.050253573 | V5: =SUM($U$2:U5) -> 0.10788382 | W5: =S5*T5 -> 8175000 | X5: =W5/$W$114 -> 0.0010436934 | Y5: =SUM($X$2:X5) -> 0.001759916
A6: A0005 | B6: Marcus Thuram | C6: 1. Liga Deutschland | D6: 32000000 | E6: =VLOOKUP($D6,Zusammenführung!$S$7:$AD$118,4,0) -> 30000000 | F6: =VLOOKUP($D6,Zusammenführung!$S$7:$AD$118,7,0) -> 30000000 | G6: =VLOOKUP($D6,Zusammenführung!$S$7:$AD$118,10,0) -> 30000000 | H6: =VLOOKUP(E6,Zusammenführung!V$7:X$118,3,0) -> 10 | I6: =VLOOKUP(F6,Zusammenführung!$Y$7:$AA$118,3,0) -> 17 | J6: =VLOOKUP(G6,Zusammenführung!$AB$7:$AD$118,3,0) -> 70 | L6: 4. Liga Deutschland Nord | M6: =COUNTIF(Daten!$C$1:$C$2170,L6) -> 57 | N6: {=MAX(IF(C$2:C$2170=L6,D$2:D$2170))} -> 125000 | O6: {=MIN(IF(C$2:C$2170=L6,D$2:D$2170))} -> 25000 | P6: =AVERAGEIF(C$2:C$2170,L6,D$2:D$2170) -> 63596.491 | Q6: {=MEDIAN(IF(C$2:C$2170=L6,D$2:D$2170))} -> 50000 | S6: 100000 | T6: =COUNTIF(Daten!$D$1:$D$2170,S6) -> 120 | U6: =T6/$T$114 -> 0.055325035 | V6: =SUM($U$2:U6) -> 0.16320885 | W6: =S6*T6 -> 12000000 | X6: =W6/$W$114 -> 0.001532027 | Y6: =SUM($X$2:X6) -> 0.0032919431
A7: A0006 | B7: Thorgan Hazard | C7: 1. Liga Deutschland | D7: 32000000 | E7: =VLOOKUP($D7,Zusammenführung!$S$7:$AD$118,4,0) -> 30000000 | F7: =VLOOKUP($D7,Zusammenführung!$S$7:$AD$118,7,0) -> 30000000 | G7: =VLOOKUP($D7,Zusammenführung!$S$7:$AD$118,10,0) -> 30000000 | H7: =VLOOKUP(E7,Zusammenführung!V$7:X$118,3,0) -> 10 | I7: =VLOOKUP(F7,Zusammenführung!$Y$7:$AA$118,3,0) -> 17 | J7: =VLOOKUP(G7,Zusammenführung!$AB$7:$AD$118,3,0) -> 70 | L7: 4. Liga Deutschland NOst | M7: =COUNTIF(Daten!$C$1:$C$2170,L7) -> 58 | N7: {=MAX(IF(C$2:C$2170=L7,D$2:D$2170))} -> 175000 | O7: {=MIN(IF(C$2:C$2170=L7,D$2:D$2170))} -> 25000 | P7: =AVERAGEIF(C$2:C$2170,L7,D$2:D$2170) -> 85344.828 | Q7: {=MEDIAN(IF(C$2:C$2170=L7,D$2:D$2170))} -> 75000 | S7: 125000 | T7: =COUNTIF(Daten!$D$1:$D$2170,S7) -> 36 | U7: =T7/$T$114 -> 0.01659751 | V7: =SUM($U$2:U7) -> 0.17980636 | W7: =S7*T7 -> 4500000 | X7: =W7/$W$114 -> 0.00057451013 | Y7: =SUM($X$2:X7) -> 0.0038664532
A8: A0007 | B8: Alassane Plea | C8: 1. Liga Deutschland | D8: 30000000 | E8: =VLOOKUP($D8,Zusammenführung!$S$7:$AD$118,4,0) -> 30000000 | F8: =VLOOKUP($D8,Zusammenführung!$S$7:$AD$118,7,0) -> 30000000 | G8: =VLOOKUP($D8,Zusammenführung!$S$7:$AD$118,10,0) -> 30000000 | H8: =VLOOKUP(E8,Zusammenführung!V$7:X$118,3,0) -> 10 | I8: =VLOOKUP(F8,Zusammenführung!$Y$7:$AA$118,3,0) -> 17 | J8: =VLOOKUP(G8,Zusammenführung!$AB$7:$AD$118,3,0) -> 70 | L8: 4. Liga Deutschland SWest | M8: =COUNTIF(Daten!$C$1:$C$2170,L8) -> 50 | N8: {=MAX(IF(C$2:C$2170=L8,D$2:D$2170))} -> 225000 | O8: {=MIN(IF(C$2:C$2170=L8,D$2:D$2170))} -> 25000 | P8: =AVERAGEIF(C$2:C$2170,L8,D$2:D$2170) -> 102000 | Q8: {=MEDIAN(IF(C$2:C$2170=L8,D$2:D$2170))} -> 100000 | S8: 150000 | T8: =COUNTIF(Daten!$D$1:$D$2170,S8) -> 93 | U8: =T8/$T$114 -> 0.042876902 | V8: =SUM($U$2:U8) -> 0.22268326 | W8: =S8*T8 -> 13950000 | X8: =W8/$W$114 -> 0.0017809814 | Y8: =SUM($X$2:X8) -> 0.0056474346
A9: A0008 | B9: Wout Weghorst | C9: 1. Liga Deutschland | D9: 30000000 | E9: =VLOOKUP($D9,Zusammenführung!$S$7:$AD$118,4,0) -> 30000000 | F9: =VLOOKUP($D9,Zusammenführung!$S$7:$AD$118,7,0) -> 30000000 | G9: =VLOOKUP($D9,Zusammenführung!$S$7:$AD$118,10,0) -> 30000000 | H9: =VLOOKUP(E9,Zusammenführung!V$7:X$118,3,0) -> 10 | I9: =VLOOKUP(F9,Zusammenführung!$Y$7:$AA$118,3,0) -> 17 | J9: =VLOOKUP(G9,Zusammenführung!$AB$7:$AD$118,3,0) -> 70 | L9: 4. Liga Deutschland West | M9: =COUNTIF(Daten!$C$1:$C$2170,L9) -> 61 | N9: {=MAX(IF(C$2:C$2170=L9,D$2:D$2170))} -> 225000 | O9: {=MIN(IF(C$2:C$2170=L9,D$2:D$2170))} -> 25000 | P9: =AVERAGEIF(C$2:C$2170,L9,D$2:D$2170) -> 83196.721 | Q9: {=MEDIAN(IF(C$2:C$2170=L9,D$2:D$2170))} -> 75000 | S9: 175000 | T9: =COUNTIF(Daten!$D$1:$D$2170,S9) -> 31 | U9: =T9/$T$114 -> 0.014292301 | V9: =SUM($U$2:U9) -> 0.23697556 | W9: =S9*T9 -> 5425000 | X9: =W9/$W$114 -> 0.00069260388 | Y9: =SUM($X$2:X9) -> 0.0063400385
A10: A0009 | B10: Leon Bailey | C10: 1. Liga Deutschland | D10: 29500000 | E10: =VLOOKUP($D10,Zusammenführung!$S$7:$AD$118,4,0) -> 30000000 | F10: =VLOOKUP($D10,Zusammenführung!$S$7:$AD$118,7,0) -> 30000000 | G10: =VLOOKUP($D10,Zusammenführung!$S$7:$AD$118,10,0) -> 30000000 | H10: =VLOOKUP(E10,Zusammenführung!V$7:X$118,3,0) -> 10 | I10: =VLOOKUP(F10,Zusammenführung!$Y$7:$AA$118,3,0) -> 17 | J10: =VLOOKUP(G10,Zusammenführung!$AB$7:$AD$118,3,0) -> 70 | L10: 1. Liga England | M10: =COUNTIF(Daten!$C$1:$C$2170,L10) -> 91 | N10: {=MAX(IF(C$2:C$2170=L10,D$2:D$2170))} -> 128000000 | O10: {=MIN(IF(C$2:C$2170=L10,D$2:D$2170))} -> 400000 | P10: =AVERAGEIF(C$2:C$2170,L10,D$2:D$2170) -> 25792308 | Q10: {=MEDIAN(IF(C$2:C$2170=L10,D$2:D$2170))} -> 16000000 | S10: 200000 | T10: =COUNTIF(Daten!$D$1:$D$2170,S10) -> 109 | U10: =T10/$T$114 -> 0.050253573 | V10: =SUM($U$2:U10) -> 0.28722914 | W10: =S10*T10 -> 21800000 | X10: =W10/$W$114 -> 0.0027831824 | Y10: =SUM($X$2:X10) -> 0.0091232209
A11: A0010 | B11: Andrej Kramaric | C11: 1. Liga Deutschland | D11: 27000000 | E11: =VLOOKUP($D11,Zusammenführung!$S$7:$AD$118,4,0) -> 30000000 | F11: =VLOOKUP($D11,Zusammenführung!$S$7:$AD$118,7,0) -> 30000000 | G11: =VLOOKUP($D11,Zusammenführung!$S$7:$AD$118,10,0) -> 27874016 | H11: =VLOOKUP(E11,Zusammenführung!V$7:X$118,3,0) -> 10 | I11: =VLOOKUP(F11,Zusammenführung!$Y$7:$AA$118,3,0) -> 17 | J11: =VLOOKUP(G11,Zusammenführung!$AB$7:$AD$118,3,0) -> 69 | L11: 2. Liga England | M11: =COUNTIF(Daten!$C$1:$C$2170,L11) -> 100 | N11: {=MAX(IF(C$2:C$2170=L11,D$2:D$2170))} -> 22000000 | O11: {=MIN(IF(C$2:C$2170=L11,D$2:D$2170))} -> 100000 | P11: =AVERAGEIF(C$2:C$2170,L11,D$2:D$2170) -> 2826000 | Q11: {=MEDIAN(IF(C$2:C$2170=L11,D$2:D$2170))} -> 1875000 | S11: 225000 | T11: =COUNTIF(Daten!$D$1:$D$2170,S11) -> 28 | U11: =T11/$T$114 -> 0.012909175 | V11: =SUM($U$2:U11) -> 0.30013831 | W11: =S11*T11 -> 6300000 | X11: =W11/$W$114 -> 0.00080431419 | Y11: =SUM($X$2:X11) -> 0.0099275351
A12: A0011 | B12: Patrik Schick | C12: 1. Liga Deutschland | D12: 25000000 | E12: =VLOOKUP($D12,Zusammenführung!$S$7:$AD$118,4,0) -> 30000000 | F12: =VLOOKUP($D12,Zusammenführung!$S$7:$AD$118,7,0) -> 30000000 | G12: =VLOOKUP($D12,Zusammenführung!$S$7:$AD$118,10,0) -> 25778403 | H12: =VLOOKUP(E12,Zusammenführung!V$7:X$118,3,0) -> 10 | I12: =VLOOKUP(F12,Zusammenführung!$Y$7:$AA$118,3,0) -> 17 | J12: =VLOOKUP(G12,Zusammenführung!$AB$7:$AD$118,3,0) -> 68 | L12: 3. Liga England | M12: =COUNTIF(Daten!$C$1:$C$2170,L12) -> 65 | N12: {=MAX(IF(C$2:C$2170=L12,D$2:D$2170))} -> 2000000 | O12: {=MIN(IF(C$2:C$2170=L12,D$2:D$2170))} -> 50000 | P12: =AVERAGEIF(C$2:C$2170,L12,D$2:D$2170) -> 383461.54 | Q12: {=MEDIAN(IF(C$2:C$2170=L12,D$2:D$2170))} -> 300000 | S12: 250000 | T12: =COUNTIF(Daten!$D$1:$D$2170,S12) -> 87 | U12: =T12/$T$114 -> 0.04011065 | V12: =SUM($U$2:U12) -> 0.34024896 | W12: =S12*T12 -> 21750000 | X12: =W12/$W$114 -> 0.002776799 | Y12: =SUM($X$2:X12) -> 0.012704334
A13: A0012 | B13: Yussuf Poulsen | C13: 1. Liga Deutschland | D13: 25000000 | E13: =VLOOKUP($D13,Zusammenführung!$S$7:$AD$118,4,0) -> 30000000 | F13: =VLOOKUP($D13,Zusammenführung!$S$7:$AD$118,7,0) -> 30000000 | G13: =VLOOKUP($D13,Zusammenführung!$S$7:$AD$118,10,0) -> 25778403 | H13: =VLOOKUP(E13,Zusammenführung!V$7:X$118,3,0) -> 10 | I13: =VLOOKUP(F13,Zusammenführung!$Y$7:$AA$118,3,0) -> 17 | J13: =VLOOKUP(G13,Zusammenführung!$AB$7:$AD$118,3,0) -> 68 | L13: 4. Liga England | M13: =COUNTIF(Daten!$C$1:$C$2170,L13) -> 60 | N13: {=MAX(IF(C$2:C$2170=L13,D$2:D$2170))} -> 600000 | O13: {=MIN(IF(C$2:C$2170=L13,D$2:D$2170))} -> 50000 | P13: =AVERAGEIF(C$2:C$2170,L13,D$2:D$2170) -> 192500 | Q13: {=MEDIAN(IF(C$2:C$2170=L13,D$2:D$2170))} -> 150000 | S13: 275000 | T13: =COUNTIF(Daten!$D$1:$D$2170,S13) -> 12 | U13: =T13/$T$114 -> 0.0055325035 | V13: =SUM($U$2:U13) -> 0.34578147 | W13: =S13*T13 -> 3300000 | X13: =W13/$W$114 -> 0.00042130743 | Y13: =SUM($X$2:X13) -> 0.013125642
... A38: A0037 | B38: Sebastian Andersson | C38: 1. Liga Deutschland | D38: 7000000 | E38: =VLOOKUP($D38,Zusammenführung!$S$7:$AD$118,4,0) -> 10000000 | F38: =VLOOKUP($D38,Zusammenführung!$S$7:$AD$118,7,0) -> 8000000 | G38: =VLOOKUP($D38,Zusammenführung!$S$7:$AD$118,10,0) -> 6492688.4 | H38: =VLOOKUP(E38,Zusammenführung!V$7:X$118,3,0) -> 9 | I38: =VLOOKUP(F38,Zusammenführung!$Y$7:$AA$118,3,0) -> 15 | J38: =VLOOKUP(G38,Zusammenführung!$AB$7:$AD$118,3,0) -> 58 | L38: 1. Liga Schottland | M38: =COUNTIF(Daten!$C$1:$C$2170,L38) -> 50 | N38: {=MAX(IF(C$2:C$2170=L38,D$2:D$2170))} -> 15000000 | O38: {=MIN(IF(C$2:C$2170=L38,D$2:D$2170))} -> 100000 | P38: =AVERAGEIF(C$2:C$2170,L38,D$2:D$2170) -> 1219500 | Q38: {=MEDIAN(IF(C$2:C$2170=L38,D$2:D$2170))} -> 400000 | S38: 1200000 | T38: =COUNTIF(Daten!$D$1:$D$2170,S38) -> 48 | U38: =T38/$T$114 -> 0.022130014 | V38: =SUM($U$2:U38) -> 0.69617335 | W38: =S38*T38 -> 57600000 | X38: =W38/$W$114 -> 0.0073537297 | Y38: =SUM($X$2:X38) -> 0.071885261
A39: A0038 | B39: Marius Wolf | C39: 1. Liga Deutschland | D39: 6500000 | E39: =VLOOKUP($D39,Zusammenführung!$S$7:$AD$118,4,0) -> 3000000 | F39: =VLOOKUP($D39,Zusammenführung!$S$7:$AD$118,7,0) -> 5000000 | G39: =VLOOKUP($D39,Zusammenführung!$S$7:$AD$118,10,0) -> 6492688.4 | H39: =VLOOKUP(E39,Zusammenführung!V$7:X$118,3,0) -> 8 | I39: =VLOOKUP(F39,Zusammenführung!$Y$7:$AA$118,3,0) -> 14 | J39: =VLOOKUP(G39,Zusammenführung!$AB$7:$AD$118,3,0) -> 58 | L39: =CONCATENATE("GESAMT (",COUNTIF(L2:L38,"*"),")") -> GESAMT (37) | M39: =SUM(M2:M38) -> 2169 | P39: =AVERAGE(D2:D2170) -> 3611231 | Q39: =MEDIAN(D2:D2170) -> 500000 | S39: 1300000 | T39: =COUNTIF(Daten!$D$1:$D$2170,S39) -> 12 | U39: =T39/$T$114 -> 0.0055325035 | V39: =SUM($U$2:U39) -> 0.70170586 | W39: =S39*T39 -> 15600000 | X39: =W39/$W$114 -> 0.0019916351 | Y39: =SUM($X$2:X39) -> 0.073876897
A40: A0039 | B40: Patrick Herrmann | C40: 1. Liga Deutschland | D40: 6500000 | E40: =VLOOKUP($D40,Zusammenführung!$S$7:$AD$118,4,0) -> 3000000 | F40: =VLOOKUP($D40,Zusammenführung!$S$7:$AD$118,7,0) -> 5000000 | G40: =VLOOKUP($D40,Zusammenführung!$S$7:$AD$118,10,0) -> 6492688.4 | H40: =VLOOKUP(E40,Zusammenführung!V$7:X$118,3,0) -> 8 | I40: =VLOOKUP(F40,Zusammenführung!$Y$7:$AA$118,3,0) -> 14 | J40: =VLOOKUP(G40,Zusammenführung!$AB$7:$AD$118,3,0) -> 58 | S40: 1400000 | T40: =COUNTIF(Daten!$D$1:$D$2170,S40) -> 11 | U40: =T40/$T$114 -> 0.0050714615 | V40: =SUM($U$2:U40) -> 0.70677732 | W40: =S40*T40 -> 15400000 | X40: =W40/$W$114 -> 0.0019661013 | Y40: =SUM($X$2:X40) -> 0.075842998
A41: A0040 | B41: Vincenzo Grifo | C41: 1. Liga Deutschland | D41: 6500000 | E41: =VLOOKUP($D41,Zusammenführung!$S$7:$AD$118,4,0) -> 3000000 | F41: =VLOOKUP($D41,Zusammenführung!$S$7:$AD$118,7,0) -> 5000000 | G41: =VLOOKUP($D41,Zusammenführung!$S$7:$AD$118,10,0) -> 6492688.4 | H41: =VLOOKUP(E41,Zusammenführung!V$7:X$118,3,0) -> 8 | I41: =VLOOKUP(F41,Zusammenführung!$Y$7:$AA$118,3,0) -> 14 | J41: =VLOOKUP(G41,Zusammenführung!$AB$7:$AD$118,3,0) -> 58 | S41: 1500000 | T41: =COUNTIF(Daten!$D$1:$D$2170,S41) -> 32 | U41: =T41/$T$114 -> 0.014753343 | V41: =SUM($U$2:U41) -> 0.72153066 | W41: =S41*T41 -> 48000000 | X41: =W41/$W$114 -> 0.0061281081 | Y41: =SUM($X$2:X41) -> 0.081971106
A42: A0041 | B42: Admir Mehmedi | C42: 1. Liga Deutschland | D42: 6000000 | E42: =VLOOKUP($D42,Zusammenführung!$S$7:$AD$118,4,0) -> 3000000 | F42: =VLOOKUP($D42,Zusammenführung!$S$7:$AD$118,7,0) -> 5000000 | G42: =VLOOKUP($D42,Zusammenführung!$S$7:$AD$118,10,0) -> 6492688.4 | H42: =VLOOKUP(E42,Zusammenführung!V$7:X$118,3,0) -> 8 | I42: =VLOOKUP(F42,Zusammenführung!$Y$7:$AA$118,3,0) -> 14 | J42: =VLOOKUP(G42,Zusammenführung!$AB$7:$AD$118,3,0) -> 58 | S42: 1600000 | T42: =COUNTIF(Daten!$D$1:$D$2170,S42) -> 29 | U42: =T42/$T$114 -> 0.013370217 | V42: =SUM($U$2:U42) -> 0.73490088 | W42: =S42*T42 -> 46400000 | X42: =W42/$W$114 -> 0.0059238378 | Y42: =SUM($X$2:X42) -> 0.087894944
A43: A0042 | B43: Amin Younes | C43: 1. Liga Deutschland | D43: 5000000 | E43: =VLOOKUP($D43,Zusammenführung!$S$7:$AD$118,4,0) -> 3000000 | F43: =VLOOKUP($D43,Zusammenführung!$S$7:$AD$118,7,0) -> 5000000 | G43: =VLOOKUP($D43,Zusammenführung!$S$7:$AD$118,10,0) -> 4731158.6 | H43: =VLOOKUP(E43,Zusammenführung!V$7:X$118,3,0) -> 8 | I43: =VLOOKUP(F43,Zusammenführung!$Y$7:$AA$118,3,0) -> 14 | J43: =VLOOKUP(G43,Zusammenführung!$AB$7:$AD$118,3,0) -> 57 | S43: 1700000 | T43: =COUNTIF(Daten!$D$1:$D$2170,S43) -> 6 | U43: =T43/$T$114 -> 0.0027662517 | V43: =SUM($U$2:U43) -> 0.73766713 | W43: =S43*T43 -> 10200000 | X43: =W43/$W$114 -> 0.001302223 | Y43: =SUM($X$2:X43) -> 0.089197167
A44: A0043 | B44: Davie Selke | C44: 1. Liga Deutschland | D44: 5000000 | E44: =VLOOKUP($D44,Zusammenführung!$S$7:$AD$118,4,0) -> 3000000 | F44: =VLOOKUP($D44,Zusammenführung!$S$7:$AD$118,7,0) -> 5000000 | G44: =VLOOKUP($D44,Zusammenführung!$S$7:$AD$118,10,0) -> 4731158.6 | H44: =VLOOKUP(E44,Zusammenführung!V$7:X$118,3,0) -> 8 | I44: =VLOOKUP(F44,Zusammenführung!$Y$7:$AA$118,3,0) -> 14 | J44: =VLOOKUP(G44,Zusammenführung!$AB$7:$AD$118,3,0) -> 57 | S44: 1750000 | T44: =COUNTIF(Daten!$D$1:$D$2170,S44) -> 2 | U44: =T44/$T$114 -> 0.00092208391 | V44: =SUM($U$2:U44) -> 0.73858921 | W44: =S44*T44 -> 3500000 | X44: =W44/$W$114 -> 0.00044684122 | Y44: =SUM($X$2:X44) -> 0.089644008
A45: A0044 | B45: Michael Gregoritsch | C45: 1. Liga Deutschland | D45: 4500000 | E45: =VLOOKUP($D45,Zusammenführung!$S$7:$AD$118,4,0) -> 3000000 | F45: =VLOOKUP($D45,Zusammenführung!$S$7:$AD$118,7,0) -> 5000000 | G45: =VLOOKUP($D45,Zusammenführung!$S$7:$AD$118,10,0) -> 4731158.6 | H45: =VLOOKUP(E45,Zusammenführung!V$7:X$118,3,0) -> 8 | I45: =VLOOKUP(F45,Zusammenführung!$Y$7:$AA$118,3,0) -> 14 | J45: =VLOOKUP(G45,Zusammenführung!$AB$7:$AD$118,3,0) -> 57 | S45: 1800000 | T45: =COUNTIF(Daten!$D$1:$D$2170,S45) -> 12 | U45: =T45/$T$114 -> 0.0055325035 | V45: =SUM($U$2:U45) -> 0.74412172 | W45: =S45*T45 -> 21600000 | X45: =W45/$W$114 -> 0.0027576486 | Y45: =SUM($X$2:X45) -> 0.092401657
A46: A0045 | B46: Renato Steffen | C46: 1. Liga Deutschland | D46: 4500000 | E46: =VLOOKUP($D46,Zusammenführung!$S$7:$AD$118,4,0) -> 3000000 | F46: =VLOOKUP($D46,Zusammenführung!$S$7:$AD$118,7,0) -> 5000000 | G46: =VLOOKUP($D46,Zusammenführung!$S$7:$AD$118,10,0) -> 4731158.6 | H46: =VLOOKUP(E46,Zusammenführung!V$7:X$118,3,0) -> 8 | I46: =VLOOKUP(F46,Zusammenführung!$Y$7:$AA$118,3,0) -> 14 | J46: =VLOOKUP(G46,Zusammenführung!$AB$7:$AD$118,3,0) -> 57 | S46: 1900000 | T46: =COUNTIF(Daten!$D$1:$D$2170,S46) -> 3 | U46: =T46/$T$114 -> 0.0013831259 | V46: =SUM($U$2:U46) -> 0.74550484 | W46: =S46*T46 -> 5700000 | X46: =W46/$W$114 -> 0.00072771284 | Y46: =SUM($X$2:X46) -> 0.093129369
A47: A0046 | B47: Florian Kainz | C47: 1. Liga Deutschland | D47: 4000000 | E47: =VLOOKUP($D47,Zusammenführung!$S$7:$AD$118,4,0) -> 3000000 | F47: =VLOOKUP($D47,Zusammenführung!$S$7:$AD$118,7,0) -> 3000000 | G47: =VLOOKUP($D47,Zusammenführung!$S$7:$AD$118,10,0) -> 4731158.6 | H47: =VLOOKUP(E47,Zusammenführung!V$7:X$118,3,0) -> 8 | I47: =VLOOKUP(F47,Zusammenführung!$Y$7:$AA$118,3,0) -> 13 | J47: =VLOOKUP(G47,Zusammenführung!$AB$7:$AD$118,3,0) -> 57 | S47: 2000000 | T47: =COUNTIF(Daten!$D$1:$D$2170,S47) -> 48 | U47: =T47/$T$114 -> 0.022130014 | V47: =SUM($U$2:U47) -> 0.76763485 | W47: =S47*T47 -> 96000000 | X47: =W47/$W$114 -> 0.012256216 | Y47: =SUM($X$2:X47) -> 0.10538559
A48: A0047 | B48: Lucas Höler | C48: 1. Liga Deutschland | D48: 4000000 | E48: =VLOOKUP($D48,Zusammenführung!$S$7:$AD$118,4,0) -> 3000000 | F48: =VLOOKUP($D48,Zusammenführung!$S$7:$AD$118,7,0) -> 3000000 | G48: =VLOOKUP($D48,Zusammenführung!$S$7:$AD$118,10,0) -> 4731158.6 | H48: =VLOOKUP(E48,Zusammenführung!V$7:X$118,3,0) -> 8 | I48: =VLOOKUP(F48,Zusammenführung!$Y$7:$AA$118,3,0) -> 13 | J48: =VLOOKUP(G48,Zusammenführung!$AB$7:$AD$118,3,0) -> 57 | S48: 2100000 | T48: =COUNTIF(Daten!$D$1:$D$2170,S48) -> 1 | U48: =T48/$T$114 -> 0.00046104195 | V48: =SUM($U$2:U48) -> 0.7680959 | W48: =S48*T48 -> 2100000 | X48: =W48/$W$114 -> 0.00026810473 | Y48: =SUM($X$2:X48) -> 0.10565369
A49: A0048 | B49: Sargis Adamyan | C49: 1. Liga Deutschland | D49: 4000000 | E49: =VLOOKUP($D49,Zusammenführung!$S$7:$AD$118,4,0) -> 3000000 | F49: =VLOOKUP($D49,Zusammenführung!$S$7:$AD$118,7,0) -> 3000000 | G49: =VLOOKUP($D49,Zusammenführung!$S$7:$AD$118,10,0) -> 4731158.6 | H49: =VLOOKUP(E49,Zusammenführung!V$7:X$118,3,0) -> 8 | I49: =VLOOKUP(F49,Zusammenführung!$Y$7:$AA$118,3,0) -> 13 | J49: =VLOOKUP(G49,Zusammenführung!$AB$7:$AD$118,3,0) -> 57 | S49: 2200000 | T49: =COUNTIF(Daten!$D$1:$D$2170,S49) -> 4 | U49: =T49/$T$114 -> 0.0018441678 | V49: =SUM($U$2:U49) -> 0.76994006 | W49: =S49*T49 -> 8800000 | X49: =W49/$W$114 -> 0.0011234865 | Y49: =SUM($X$2:X49) -> 0.10677718
A50: A0049 | B50: João Victor | C50: 1. Liga Deutschland | D50: 3500000 | E50: =VLOOKUP($D50,Zusammenführung!$S$7:$AD$118,4,0) -> 3000000 | F50: =VLOOKUP($D50,Zusammenführung!$S$7:$AD$118,7,0) -> 3000000 | G50: =VLOOKUP($D50,Zusammenführung!$S$7:$AD$118,10,0) -> 3000000 | H50: =VLOOKUP(E50,Zusammenführung!V$7:X$118,3,0) -> 8 | I50: =VLOOKUP(F50,Zusammenführung!$Y$7:$AA$118,3,0) -> 13 | J50: =VLOOKUP(G50,Zusammenführung!$AB$7:$AD$118,3,0) -> 56 | S50: 2300000 | T50: =COUNTIF(Daten!$D$1:$D$2170,S50) -> 1 | U50: =T50/$T$114 -> 0.00046104195 | V50: =SUM($U$2:U50) -> 0.77040111 | W50: =S50*T50 -> 2300000 | X50: =W50/$W$114 -> 0.00029363851 | Y50: =SUM($X$2:X50) -> 0.10707082
A51: A0050 | B51: Karim Onisiwo | C51: 1. Liga Deutschland | D51: 3500000 | E51: =VLOOKUP($D51,Zusammenführung!$S$7:$AD$118,4,0) -> 3000000 | F51: =VLOOKUP($D51,Zusammenführung!$S$7:$AD$118,7,0) -> 3000000 | G51: =VLOOKUP($D51,Zusammenführung!$S$7:$AD$118,10,0) -> 3000000 | H51: =VLOOKUP(E51,Zusammenführung!V$7:X$118,3,0) -> 8 | I51: =VLOOKUP(F51,Zusammenführung!$Y$7:$AA$118,3,0) -> 13 | J51: =VLOOKUP(G51,Zusammenführung!$AB$7:$AD$118,3,0) -> 56 | S51: 2400000 | T51: =COUNTIF(Daten!$D$1:$D$2170,S51) -> 15 | U51: =T51/$T$114 -> 0.0069156293 | V51: =SUM($U$2:U51) -> 0.77731674 | W51: =S51*T51 -> 36000000 | X51: =W51/$W$114 -> 0.0045960811 | Y51: =SUM($X$2:X51) -> 0.1116669
... A113: A0112 | B113: Adam Zrelak | C113: 2. Liga Deutschland | D113: 675000 | E113: =VLOOKUP($D113,Zusammenführung!$S$7:$AD$118,4,0) -> 800000 | F113: =VLOOKUP($D113,Zusammenführung!$S$7:$AD$118,7,0) -> 600000 | G113: =VLOOKUP($D113,Zusammenführung!$S$7:$AD$118,10,0) -> 651509.05 | H113: =VLOOKUP(E113,Zusammenführung!V$7:X$118,3,0) -> 6 | I113: =VLOOKUP(F113,Zusammenführung!$Y$7:$AA$118,3,0) -> 8 | J113: =VLOOKUP(G113,Zusammenführung!$AB$7:$AD$118,3,0) -> 39 | S113: 128000000 | T113: =COUNTIF(Daten!$D$1:$D$2170,S113) -> 2 | U113: =T113/$T$114 -> 0.00092208391 | V113: =SUM($U$2:U113) -> 1 | W113: =S113*T113 -> 256000000 | X113: =W113/$W$114 -> 0.032683243 | Y113: =SUM($X$2:X113) -> 1
A114: A0113 | B114: Fabian Schleusener | C114: 2. Liga Deutschland | D114: 675000 | E114: =VLOOKUP($D114,Zusammenführung!$S$7:$AD$118,4,0) -> 800000 | F114: =VLOOKUP($D114,Zusammenführung!$S$7:$AD$118,7,0) -> 600000 | G114: =VLOOKUP($D114,Zusammenführung!$S$7:$AD$118,10,0) -> 651509.05 | H114: =VLOOKUP(E114,Zusammenführung!V$7:X$118,3,0) -> 6 | I114: =VLOOKUP(F114,Zusammenführung!$Y$7:$AA$118,3,0) -> 8 | J114: =VLOOKUP(G114,Zusammenführung!$AB$7:$AD$118,3,0) -> 39 | S114: =CONCATENATE("GESAMT ",COUNTIF(S2:S113,">0")) -> GESAMT 112 | T114: =SUM(T2:T113) -> 2169 | U114: =SUM(U2:U113) -> 1 | W114: =SUM(W2:W113) -> 7832760000 | X114: =SUM(X2:X113) -> 1
A115: A0114 | B115: Havard Nielsen | C115: 2. Liga Deutschland | D115: 675000 | E115: =VLOOKUP($D115,Zusammenführung!$S$7:$AD$118,4,0) -> 800000 | F115: =VLOOKUP($D115,Zusammenführung!$S$7:$AD$118,7,0) -> 600000 | G115: =VLOOKUP($D115,Zusammenführung!$S$7:$AD$118,10,0) -> 651509.05 | H115: =VLOOKUP(E115,Zusammenführung!V$7:X$118,3,0) -> 6 | I115: =VLOOKUP(F115,Zusammenführung!$Y$7:$AA$118,3,0) -> 8 | J115: =VLOOKUP(G115,Zusammenführung!$AB$7:$AD$118,3,0) -> 39
A116: A0115 | B116: Robert Leipertz | C116: 2. Liga Deutschland | D116: 675000 | E116: =VLOOKUP($D116,Zusammenführung!$S$7:$AD$118,4,0) -> 800000 | F116: =VLOOKUP($D116,Zusammenführung!$S$7:$AD$118,7,0) -> 600000 | G116: =VLOOKUP($D116,Zusammenführung!$S$7:$AD$118,10,0) -> 651509.05 | H116: =VLOOKUP(E116,Zusammenführung!V$7:X$118,3,0) -> 6 | I116: =VLOOKUP(F116,Zusammenführung!$Y$7:$AA$118,3,0) -> 8 | J116: =VLOOKUP(G116,Zusammenführung!$AB$7:$AD$118,3,0) -> 39
A117: A0116 | B117: David Atanga | C117: 2. Liga Deutschland | D117: 650000 | E117: =VLOOKUP($D117,Zusammenführung!$S$7:$AD$118,4,0) -> 500000 | F117: =VLOOKUP($D117,Zusammenführung!$S$7:$AD$118,7,0) -> 600000 | G117: =VLOOKUP($D117,Zusammenführung!$S$7:$AD$118,10,0) -> 651509.05 | H117: =VLOOKUP(E117,Zusammenführung!V$7:X$118,3,0) -> 5 | I117: =VLOOKUP(F117,Zusammenführung!$Y$7:$AA$118,3,0) -> 8 | J117: =VLOOKUP(G117,Zusammenführung!$AB$7:$AD$118,3,0) -> 39
A118: A0117 | B118: Jann George | C118: 2. Liga Deutschland | D118: 650000 | E118: =VLOOKUP($D118,Zusammenführung!$S$7:$AD$118,4,0) -> 500000 | F118: =VLOOKUP($D118,Zusammenführung!$S$7:$AD$118,7,0) -> 600000 | G118: =VLOOKUP($D118,Zusammenführung!$S$7:$AD$118,10,0) -> 651509.05 | H118: =VLOOKUP(E118,Zusammenführung!V$7:X$118,3,0) -> 5 | I118: =VLOOKUP(F118,Zusammenführung!$Y$7:$AA$118,3,0) -> 8 | J118: =VLOOKUP(G118,Zusammenführung!$AB$7:$AD$118,3,0) -> 39
A119: A0118 | B119: Ryo Miyaichi | C119: 2. Liga Deutschland | D119: 650000 | E119: =VLOOKUP($D119,Zusammenführung!$S$7:$AD$118,4,0) -> 500000 | F119: =VLOOKUP($D119,Zusammenführung!$S$7:$AD$118,7,0) -> 600000 | G119: =VLOOKUP($D119,Zusammenführung!$S$7:$AD$118,10,0) -> 651509.05 | H119: =VLOOKUP(E119,Zusammenführung!V$7:X$118,3,0) -> 5 | I119: =VLOOKUP(F119,Zusammenführung!$Y$7:$AA$118,3,0) -> 8 | J119: =VLOOKUP(G119,Zusammenführung!$AB$7:$AD$118,3,0) -> 39
A120: A0119 | B120: Bobby Wood | C120: 2. Liga Deutschland | D120: 600000 | E120: =VLOOKUP($D120,Zusammenführung!$S$7:$AD$118,4,0) -> 500000 | F120: =VLOOKUP($D120,Zusammenführung!$S$7:$AD$118,7,0) -> 600000 | G120: =VLOOKUP($D120,Zusammenführung!$S$7:$AD$118,10,0) -> 604426.56 | H120: =VLOOKUP(E120,Zusammenführung!V$7:X$118,3,0) -> 5 | I120: =VLOOKUP(F120,Zusammenführung!$Y$7:$AA$118,3,0) -> 8 | J120: =VLOOKUP(G120,Zusammenführung!$AB$7:$AD$118,3,0) -> 38
A121: A0120 | B121: Daniel-Kofi Kyereh | C121: 2. Liga Deutschland | D121: 600000 | E121: =VLOOKUP($D121,Zusammenführung!$S$7:$AD$118,4,0) -> 500000 | F121: =VLOOKUP($D121,Zusammenführung!$S$7:$AD$118,7,0) -> 600000 | G121: =VLOOKUP($D121,Zusammenführung!$S$7:$AD$118,10,0) -> 604426.56 | H121: =VLOOKUP(E121,Zusammenführung!V$7:X$118,3,0) -> 5 | I121: =VLOOKUP(F121,Zusammenführung!$Y$7:$AA$118,3,0) -> 8 | J121: =VLOOKUP(G121,Zusammenführung!$AB$7:$AD$118,3,0) -> 38
A122: A0121 | B122: Florian Flecker | C122: 2. Liga Deutschland | D122: 600000 | E122: =VLOOKUP($D122,Zusammenführung!$S$7:$AD$118,4,0) -> 500000 | F122: =VLOOKUP($D122,Zusammenführung!$S$7:$AD$118,7,0) -> 600000 | G122: =VLOOKUP($D122,Zusammenführung!$S$7:$AD$118,10,0) -> 604426.56 | H122: =VLOOKUP(E122,Zusammenführung!V$7:X$118,3,0) -> 5 | I122: =VLOOKUP(F122,Zusammenführung!$Y$7:$AA$118,3,0) -> 8 | J122: =VLOOKUP(G122,Zusammenführung!$AB$7:$AD$118,3,0) -> 38
A123: A0122 | B123: Mathias Honsak | C123: 2. Liga Deutschland | D123: 600000 | E123: =VLOOKUP($D123,Zusammenführung!$S$7:$AD$118,4,0) -> 500000 | F123: =VLOOKUP($D123,Zusammenführung!$S$7:$AD$118,7,0) -> 600000 | G123: =VLOOKUP($D123,Zusammenführung!$S$7:$AD$118,10,0) -> 604426.56 | H123: =VLOOKUP(E123,Zusammenführung!V$7:X$118,3,0) -> 5 | I123: =VLOOKUP(F123,Zusammenführung!$Y$7:$AA$118,3,0) -> 8 | J123: =VLOOKUP(G123,Zusammenführung!$AB$7:$AD$118,3,0) -> 38
A124: A0123 | B124: Simon Zoller | C124: 2. Liga Deutschland | D124: 600000 | E124: =VLOOKUP($D124,Zusammenführung!$S$7:$AD$118,4,0) -> 500000 | F124: =VLOOKUP($D124,Zusammenführung!$S$7:$AD$118,7,0) -> 600000 | G124: =VLOOKUP($D124,Zusammenführung!$S$7:$AD$118,10,0) -> 604426.56 | H124: =VLOOKUP(E124,Zusammenführung!V$7:X$118,3,0) -> 5 | I124: =VLOOKUP(F124,Zusammenführung!$Y$7:$AA$118,3,0) -> 8 | J124: =VLOOKUP(G124,Zusammenführung!$AB$7:$AD$118,3,0) -> 38
A125: A0124 | B125: Christian Kühlwetter | C125: 2. Liga Deutschland | D125: 550000 | E125: =VLOOKUP($D125,Zusammenführung!$S$7:$AD$118,4,0) -> 500000 | F125: =VLOOKUP($D125,Zusammenführung!$S$7:$AD$118,7,0) -> 600000 | G125: =VLOOKUP($D125,Zusammenführung!$S$7:$AD$118,10,0) -> 558551.31 | H125: =VLOOKUP(E125,Zusammenführung!V$7:X$118,3,0) -> 5 | I125: =VLOOKUP(F125,Zusammenführung!$Y$7:$AA$118,3,0) -> 8 | J125: =VLOOKUP(G125,Zusammenführung!$AB$7:$AD$118,3,0) -> 37
...

Sheet Zusammenführung
A2: Grundwerte | C2: Für das klassisches Stärkesytem 1-12 (13). Zuordnung erfogt über die kleinste Differenz zu den Zielmarktwerten. | H2: Für ein Stärkesytem 1-20 (21). Zuordnung erfogt über die kleinste Differenz zu den Zielmarktwerten. | M2: Für ein Stärkesytem 1-100. Zuordnung erfogt über die kleinste Differenz zu den Zielmarktwerten.
A4: Marktwert | B4: Anzahl | C4: Stärken | D4: Marktwert | E4: Anzahl | F4: Marktwerte | G4: Anzahl | H4: Stärken | I4: Marktwert | J4: Anzahl | K4: Marktwerte | L4: Anzahl | M4: Stärken | N4: Marktwert | O4: Anzahl | P4: Marktwerte | Q4: Anzahl | R4: Kennung | S4: Marktwert | T4: Anzahl | U4: Stärke | V4: Marktwert | W4: Anzahl | X4: Stärke | Y4: Marktwert | Z4: Anzahl | AA4: Stärke | AB4: Marktwert | AC4: Anzahl | AD4: Stärke | AE4: Erwartung
C5: 1-12(13) | D5: bei Stärke | E5: Spieler | F5: Nach Verteilung | G5: Spieler | H5: 1-20(21) | I5: bei Stärke | J5: Spieler | K5: Nach Verteilung | L5: Spieler | M5: 1-100 | N5: bei Stärke | O5: Spieler | P5: Nach Verteilung | Q5: Spieler | S5: Standard | T5: Standard | U5: Standard | V5: 1-12 (13) | W5: 1-12 (13) | X5: 1-12 (13) | Y5: 1-20(21) | Z5: =Y5 -> 1-20(21) | AA5: =Z5 -> 1-20(21) | AB5: 1-100 | AC5: =AB5 -> 1-100 | AD5: =AC5 -> 1-100
A6: =COUNT(A7:A118) -> 112 | B6: =SUM(B7:B118) -> 2169 | C6: =COUNT(C7:C118) -> 13 | E6: =SUM(E7:E118) -> 2169 | G6: =SUM(G7:G118) -> 2169 | H6: =COUNT(H7:H118) -> 21 | J6: =SUM(J7:J118) -> 2169 | L6: =SUM(L7:L118) -> 2169 | M6: =COUNT(M7:M118) -> 100 | O6: =SUM(O7:O118) -> 2169 | Q6: =SUM(Q7:Q118) -> 2169 | AE6: =AE119 -> 2193
A7: 25000 | B7: 26 | C7: 1 | D7: 25000 | E7: =SUMIF(F$7:F$118,D7,G$7:G$118) -> 26 | F7: {=IF((SMALL(IF(D$7:D$19>=$A7,D$7:D$19),1)-$A7)<(IF($A7-IFERROR(LARGE(IF(D$7:D$19<=$A7,D$7:D$19),1),D$19)<0,$A7+IFERROR(LARGE(IF(D$7:D$19<=$A7,D$7:D$19),1),D$19),$A7-IFERROR(LARGE(IF(D$7:D$19<=$A7,D$7:D$19),1),D$19))),SMALL(IF(D$7:D$19>=$A7,D$7:D$19),1),IFERROR(LARGE(IF(D$7:D$19<=$A7,D$7:D$19),1),D$19))} -> 25000 | G7: =B7 -> 26 | H7: 1 | I7: 25000 | J7: =SUMIF(K$7:K$118,I7,L$7:L$118) -> 26 | K7: {=IF((SMALL(IF(I$7:I$27>=$A7,I$7:I$27),1)-$A7)<(IF($A7-IFERROR(LARGE(IF(I$7:I$27<=$A7,I$7:I$27),1),I$19)<0,$A7+IFERROR(LARGE(IF(I$7:I$27<=$A7,I$7:I$27),1),I$27),$A7-IFERROR(LARGE(IF(I$7:I$27<=$A7,I$7:I$27),1),I$19))),SMALL(IF(I$7:I$27>=$A7,I$7:I$27),1),IFERROR(LARGE(IF(I$7:I$27<=$A7,I$7:I$27),1),I$27))} -> 25000 | L7: =B7 -> 26 | M7: 1 | N7: =N6+((($N$13-$N$6)/SUM($M$7:$M$13)*M7)) -> 892.85714 | O7: =SUMIF(P$7:P$118,N7,Q$7:Q$118) -> 0 | P7: {=IF((SMALL(IF(N$7:N$106>=$A7,N$7:N$106),1)-$A7)<(IF($A7-IFERROR(LARGE(IF(N$7:N$106<=$A7,N$7:N$106),1),N$106)<0,$A7+IFERROR(LARGE(IF(N$7:N$106<=$A7,N$7:N$106),1),N$106),$A7-IFERROR(LARGE(IF(N$7:N$106<=$A7,N$7:N$106),1),N$106))),SMALL(IF(N$7:N$106>=$A7,N$7:N$106),1),IFERROR(LARGE(IF(N$7:N$106<=$A7,N$7:N$106),1),N$106))} -> 25000 | Q7: =G7 -> 26 | R7: 1 | S7: =A7 -> 25000 | T7: =B7 -> 26 | U7: =R7 -> 1 | V7: =F7 -> 25000 | W7: =VLOOKUP(V7,D$7:E$19,2,0)/COUNTIF(V$7:V$118,V7) -> 26 | X7: =INDIRECT("C"&MATCH(V7,$D$7:$D$19,0)+6) -> 1 | Y7: =K7 -> 25000 | Z7: =VLOOKUP(Y7,$I$7:$J$27,2,0)/COUNTIF(Y$7:Y$118,Y7) -> 26 | AA7: =INDIRECT("H"&MATCH(Y7,$I$7:$I$27,0)+6) -> 1 | AB7: =P7 -> 25000 | AC7: =VLOOKUP(AB7,$N$7:$O$106,2,0)/COUNTIF(AB$7:AB$118,AB7) -> 26 | AD7: =INDIRECT("M"&MATCH(AB7,$N$7:$N$106,0)+6) -> 7 | AE7: 66 | AF7: 112
A8: 50000 | B8: 98 | C8: 2 | D8: 50000 | E8: =SUMIF(F$7:F$118,D8,G$7:G$118) -> 208 | F8: {=IF((SMALL(IF(D$7:D$19>=A8,D$7:D$19),1)-A8)<(IF(A8-IFERROR(LARGE(IF(D$7:D$19<=A8,D$7:D$19),1),D$19)<0,A8+IFERROR(LARGE(IF(D$7:D$19<=A8,D$7:D$19),1),D$19),A8-IFERROR(LARGE(IF(D$7:D$19<=A8,D$7:D$19),1),D$19))),SMALL(IF(D$7:D$19>=A8,D$7:D$19),1),IFERROR(LARGE(IF(D$7:D$19<=A8,D$7:D$19),1),D$19))} -> 50000 | G8: =B8 -> 98 | H8: 2 | I8: 50000 | J8: =SUMIF(K$7:K$118,I8,L$7:L$118) -> 208 | K8: {=IF((SMALL(IF(I$7:I$27>=$A8,I$7:I$27),1)-$A8)<(IF($A8-IFERROR(LARGE(IF(I$7:I$27<=$A8,I$7:I$27),1),I$19)<0,$A8+IFERROR(LARGE(IF(I$7:I$27<=$A8,I$7:I$27),1),I$27),$A8-IFERROR(LARGE(IF(I$7:I$27<=$A8,I$7:I$27),1),I$19))),SMALL(IF(I$7:I$27>=$A8,I$7:I$27),1),IFERROR(LARGE(IF(I$7:I$27<=$A8,I$7:I$27),1),I$27))} -> 50000 | L8: =B8 -> 98 | M8: 2 | N8: =N7+((($N$13-$N$6)/SUM($M$7:$M$13)*M8)) -> 2678.5714 | O8: =SUMIF(P$7:P$118,N8,Q$7:Q$118) -> 0 | P8: {=IF((SMALL(IF(N$7:N$106>=$A8,N$7:N$106),1)-$A8)<(IF($A8-IFERROR(LARGE(IF(N$7:N$106<=$A8,N$7:N$106),1),N$106)<0,$A8+IFERROR(LARGE(IF(N$7:N$106<=$A8,N$7:N$106),1),N$106),$A8-IFERROR(LARGE(IF(N$7:N$106<=$A8,N$7:N$106),1),N$106))),SMALL(IF(N$7:N$106>=$A8,N$7:N$106),1),IFERROR(LARGE(IF(N$7:N$106<=$A8,N$7:N$106),1),N$106))} -> 50000 | Q8: =G8 -> 98 | R8: 2 | S8: =A8 -> 50000 | T8: =B8 -> 98 | U8: =R8 -> 2 | V8: =F8 -> 50000 | W8: =VLOOKUP(V8,D$7:E$19,2,0)/COUNTIF(V$7:V$118,V8) -> 69.333333 | X8: =INDIRECT("C"&MATCH(V8,$D$7:$D$19,0)+6) -> 2 | Y8: =K8 -> 50000 | Z8: =VLOOKUP(Y8,$I$7:$J$27,2,0)/COUNTIF(Y$7:Y$118,Y8) -> 69.333333 | AA8: =INDIRECT("H"&MATCH(Y8,$I$7:$I$27,0)+6) -> 2 | AB8: =P8 -> 50000 | AC8: =VLOOKUP(AB8,$N$7:$O$106,2,0)/COUNTIF(AB$7:AB$118,AB8) -> 98 | AD8: =INDIRECT("M"&MATCH(AB8,$N$7:$N$106,0)+6) -> 14 | AE8: =ROUND(AE9+(($AE$7-$AE$118)/SUM($AF$7:$AF$117)*AF8),0) -> 64 | AF8: 111
A9: 60000 | B9: 1 | C9: 3 | D9: 100000 | E9: =SUMIF(F$7:F$118,D9,G$7:G$118) -> 249 | F9: {=IF((SMALL(IF(D$7:D$19>=A9,D$7:D$19),1)-A9)<(IF(A9-IFERROR(LARGE(IF(D$7:D$19<=A9,D$7:D$19),1),D$19)<0,A9+IFERROR(LARGE(IF(D$7:D$19<=A9,D$7:D$19),1),D$19),A9-IFERROR(LARGE(IF(D$7:D$19<=A9,D$7:D$19),1),D$19))),SMALL(IF(D$7:D$19>=A9,D$7:D$19),1),IFERROR(LARGE(IF(D$7:D$19<=A9,D$7:D$19),1),D$19))} -> 50000 | G9: =B9 -> 1 | H9: 3 | I9: 100000 | J9: =SUMIF(K$7:K$118,I9,L$7:L$118) -> 156 | K9: {=IF((SMALL(IF(I$7:I$27>=$A9,I$7:I$27),1)-$A9)<(IF($A9-IFERROR(LARGE(IF(I$7:I$27<=$A9,I$7:I$27),1),I$19)<0,$A9+IFERROR(LARGE(IF(I$7:I$27<=$A9,I$7:I$27),1),I$27),$A9-IFERROR(LARGE(IF(I$7:I$27<=$A9,I$7:I$27),1),I$19))),SMALL(IF(I$7:I$27>=$A9,I$7:I$27),1),IFERROR(LARGE(IF(I$7:I$27<=$A9,I$7:I$27),1),I$27))} -> 50000 | L9: =B9 -> 1 | M9: 3 | N9: =N8+((($N$13-$N$6)/SUM($M$7:$M$13)*M9)) -> 5357.1429 | O9: =SUMIF(P$7:P$118,N9,Q$7:Q$118) -> 0 | P9: {=IF((SMALL(IF(N$7:N$106>=$A9,N$7:N$106),1)-$A9)<(IF($A9-IFERROR(LARGE(IF(N$7:N$106<=$A9,N$7:N$106),1),N$106)<0,$A9+IFERROR(LARGE(IF(N$7:N$106<=$A9,N$7:N$106),1),N$106),$A9-IFERROR(LARGE(IF(N$7:N$106<=$A9,N$7:N$106),1),N$106))),SMALL(IF(N$7:N$106>=$A9,N$7:N$106),1),IFERROR(LARGE(IF(N$7:N$106<=$A9,N$7:N$106),1),N$106))} -> 57475.083 | Q9: =G9 -> 1 | R9: 3 | S9: =A9 -> 60000 | T9: =B9 -> 1 | U9: =R9 -> 3 | V9: =F9 -> 50000 | W9: =VLOOKUP(V9,D$7:E$19,2,0)/COUNTIF(V$7:V$118,V9) -> 69.333333 | X9: =INDIRECT("C"&MATCH(V9,$D$7:$D$19,0)+6) -> 2 | Y9: =K9 -> 50000 | Z9: =VLOOKUP(Y9,$I$7:$J$27,2,0)/COUNTIF(Y$7:Y$118,Y9) -> 69.333333 | AA9: =INDIRECT("H"&MATCH(Y9,$I$7:$I$27,0)+6) -> 2 | AB9: =P9 -> 57475.083 | AC9: =VLOOKUP(AB9,$N$7:$O$106,2,0)/COUNTIF(AB$7:AB$118,AB9) -> 1 | AD9: =INDIRECT("M"&MATCH(AB9,$N$7:$N$106,0)+6) -> 15 | AE9: =ROUND(AE10+(($AE$7-$AE$118)/SUM($AF$7:$AF$117)*AF9),0) -> 63 | AF9: 110
A10: 75000 | B10: 109 | C10: 4 | D10: 200000 | E10: =SUMIF(F$7:F$118,D10,G$7:G$118) -> 455 | F10: {=IF((SMALL(IF(D$7:D$19>=A10,D$7:D$19),1)-A10)<(IF(A10-IFERROR(LARGE(IF(D$7:D$19<=A10,D$7:D$19),1),D$19)<0,A10+IFERROR(LARGE(IF(D$7:D$19<=A10,D$7:D$19),1),D$19),A10-IFERROR(LARGE(IF(D$7:D$19<=A10,D$7:D$19),1),D$19))),SMALL(IF(D$7:D$19>=A10,D$7:D$19),1),IFERROR(LARGE(IF(D$7:D$19<=A10,D$7:D$19),1),D$19))} -> 50000 | G10: =B10 -> 109 | H10: 4 | I10: 150000 | J10: =SUMIF(K$7:K$118,I10,L$7:L$118) -> 124 | K10: {=IF((SMALL(IF(I$7:I$27>=$A10,I$7:I$27),1)-$A10)<(IF($A10-IFERROR(LARGE(IF(I$7:I$27<=$A10,I$7:I$27),1),I$19)<0,$A10+IFERROR(LARGE(IF(I$7:I$27<=$A10,I$7:I$27),1),I$27),$A10-IFERROR(LARGE(IF(I$7:I$27<=$A10,I$7:I$27),1),I$19))),SMALL(IF(I$7:I$27>=$A10,I$7:I$27),1),IFERROR(LARGE(IF(I$7:I$27<=$A10,I$7:I$27),1),I$27))} -> 50000 | L10: =B10 -> 109 | M10: 4 | N10: =N9+((($N$13-$N$6)/SUM($M$7:$M$13)*M10)) -> 8928.5714 | O10: =SUMIF(P$7:P$118,N10,Q$7:Q$118) -> 0 | P10: {=IF((SMALL(IF(N$7:N$106>=$A10,N$7:N$106),1)-$A10)<(IF($A10-IFERROR(LARGE(IF(N$7:N$106<=$A10,N$7:N$106),1),N$106)<0,$A10+IFERROR(LARGE(IF(N$7:N$106<=$A10,N$7:N$106),1),N$106),$A10-IFERROR(LARGE(IF(N$7:N$106<=$A10,N$7:N$106),1),N$106))),SMALL(IF(N$7:N$106>=$A10,N$7:N$106),1),IFERROR(LARGE(IF(N$7:N$106<=$A10,N$7:N$106),1),N$106))} -> 73920.266 | Q10: =G10 -> 109 | R10: 4 | S10: =A10 -> 75000 | T10: =B10 -> 109 | U10: =R10 -> 4 | V10: =F10 -> 50000 | W10: =VLOOKUP(V10,D$7:E$19,2,0)/COUNTIF(V$7:V$118,V10) -> 69.333333 | X10: =INDIRECT("C"&MATCH(V10,$D$7:$D$19,0)+6) -> 2 | Y10: =K10 -> 50000 | Z10: =VLOOKUP(Y10,$I$7:$J$27,2,0)/COUNTIF(Y$7:Y$118,Y10) -> 69.333333 | AA10: =INDIRECT("H"&MATCH(Y10,$I$7:$I$27,0)+6) -> 2 | AB10: =P10 -> 73920.266 | AC10: =VLOOKUP(AB10,$N$7:$O$106,2,0)/COUNTIF(AB$7:AB$118,AB10) -> 109 | AD10: =INDIRECT("M"&MATCH(AB10,$N$7:$N$106,0)+6) -> 17 | AE10: =ROUND(AE11+(($AE$7-$AE$118)/SUM($AF$7:$AF$117)*AF10),0) -> 62 | AF10: 109
A11: 100000 | B11: 120 | C11: 5 | D11: 500000 | E11: =SUMIF(F$7:F$118,D11,G$7:G$118) -> 300 | F11: {=IF((SMALL(IF(D$7:D$19>=A11,D$7:D$19),1)-A11)<(IF(A11-IFERROR(LARGE(IF(D$7:D$19<=A11,D$7:D$19),1),D$19)<0,A11+IFERROR(LARGE(IF(D$7:D$19<=A11,D$7:D$19),1),D$19),A11-IFERROR(LARGE(IF(D$7:D$19<=A11,D$7:D$19),1),D$19))),SMALL(IF(D$7:D$19>=A11,D$7:D$19),1),IFERROR(LARGE(IF(D$7:D$19<=A11,D$7:D$19),1),D$19))} -> 100000 | G11: =B11 -> 120 | H11: 5 | I11: 200000 | J11: =SUMIF(K$7:K$118,I11,L$7:L$118) -> 224 | K11: {=IF((SMALL(IF(I$7:I$27>=$A11,I$7:I$27),1)-$A11)<(IF($A11-IFERROR(LARGE(IF(I$7:I$27<=$A11,I$7:I$27),1),I$19)<0,$A11+IFERROR(LARGE(IF(I$7:I$27<=$A11,I$7:I$27),1),I$27),$A11-IFERROR(LARGE(IF(I$7:I$27<=$A11,I$7:I$27),1),I$19))),SMALL(IF(I$7:I$27>=$A11,I$7:I$27),1),IFERROR(LARGE(IF(I$7:I$27<=$A11,I$7:I$27),1),I$27))} -> 100000 | L11: =B11 -> 120 | M11: 5 | N11: =N10+((($N$13-$N$6)/SUM($M$7:$M$13)*M11)) -> 13392.857 | O11: =SUMIF(P$7:P$118,N11,Q$7:Q$118) -> 0 | P11: {=IF((SMALL(IF(N$7:N$106>=$A11,N$7:N$106),1)-$A11)<(IF($A11-IFERROR(LARGE(IF(N$7:N$106<=$A11,N$7:N$106),1),N$106)<0,$A11+IFERROR(LARGE(IF(N$7:N$106<=$A11,N$7:N$106),1),N$106),$A11-IFERROR(LARGE(IF(N$7:N$106<=$A11,N$7:N$106),1),N$106))),SMALL(IF(N$7:N$106>=$A11,N$7:N$106),1),IFERROR(LARGE(IF(N$7:N$106<=$A11,N$7:N$106),1),N$106))} -> 102325.58 | Q11: =G11 -> 120 | R11: 5 | S11: =A11 -> 100000 | T11: =B11 -> 120 | U11: =R11 -> 5 | V11: =F11 -> 100000 | W11: =VLOOKUP(V11,D$7:E$19,2,0)/COUNTIF(V$7:V$118,V11) -> 83 | X11: =INDIRECT("C"&MATCH(V11,$D$7:$D$19,0)+6) -> 3 | Y11: =K11 -> 100000 | Z11: =VLOOKUP(Y11,$I$7:$J$27,2,0)/COUNTIF(Y$7:Y$118,Y11) -> 78 | AA11: =INDIRECT("H"&MATCH(Y11,$I$7:$I$27,0)+6) -> 3 | AB11: =P11 -> 102325.58 | AC11: =VLOOKUP(AB11,$N$7:$O$106,2,0)/COUNTIF(AB$7:AB$118,AB11) -> 120 | AD11: =INDIRECT("M"&MATCH(AB11,$N$7:$N$106,0)+6) -> 20 | AE11: =ROUND(AE12+(($AE$7-$AE$118)/SUM($AF$7:$AF$117)*AF11),0) -> 61 | AF11: 108
A12: 125000 | B12: 36 | C12: 6 | D12: 800000 | E12: =SUMIF(F$7:F$118,D12,G$7:G$118) -> 224 | F12: {=IF((SMALL(IF(D$7:D$19>=A12,D$7:D$19),1)-A12)<(IF(A12-IFERROR(LARGE(IF(D$7:D$19<=A12,D$7:D$19),1),D$19)<0,A12+IFERROR(LARGE(IF(D$7:D$19<=A12,D$7:D$19),1),D$19),A12-IFERROR(LARGE(IF(D$7:D$19<=A12,D$7:D$19),1),D$19))),SMALL(IF(D$7:D$19>=A12,D$7:D$19),1),IFERROR(LARGE(IF(D$7:D$19<=A12,D$7:D$19),1),D$19))} -> 100000 | G12: =B12 -> 36 | H12: 6 | I12: 300000 | J12: =SUMIF(K$7:K$118,I12,L$7:L$118) -> 200 | K12: {=IF((SMALL(IF(I$7:I$27>=$A12,I$7:I$27),1)-$A12)<(IF($A12-IFERROR(LARGE(IF(I$7:I$27<=$A12,I$7:I$27),1),I$19)<0,$A12+IFERROR(LARGE(IF(I$7:I$27<=$A12,I$7:I$27),1),I$27),$A12-IFERROR(LARGE(IF(I$7:I$27<=$A12,I$7:I$27),1),I$19))),SMALL(IF(I$7:I$27>=$A12,I$7:I$27),1),IFERROR(LARGE(IF(I$7:I$27<=$A12,I$7:I$27),1),I$27))} -> 100000 | L12: =B12 -> 36 | M12: 6 | N12: =N11+((($N$13-$N$6)/SUM($M$7:$M$13)*M12)) -> 18750 | O12: =SUMIF(P$7:P$118,N12,Q$7:Q$118) -> 0 | P12: {=IF((SMALL(IF(N$7:N$106>=$A12,N$7:N$106),1)-$A12)<(IF($A12-IFERROR(LARGE(IF(N$7:N$106<=$A12,N$7:N$106),1),N$106)<0,$A12+IFERROR(LARGE(IF(N$7:N$106<=$A12,N$7:N$106),1),N$106),$A12-IFERROR(LARGE(IF(N$7:N$106<=$A12,N$7:N$106),1),N$106))),SMALL(IF(N$7:N$106>=$A12,N$7:N$106),1),IFERROR(LARGE(IF(N$7:N$106<=$A12,N$7:N$106),1),N$106))} -> 123754.15 | Q12: =G12 -> 36 | R12: 6 | S12: =A12 -> 125000 | T12: =B12 -> 36 | U12: =R12 -> 6 | V12: =F12 -> 100000 | W12: =VLOOKUP(V12,D$7:E$19,2,0)/COUNTIF(V$7:V$118,V12) -> 83 | X12: =INDIRECT("C"&MATCH(V12,$D$7:$D$19,0)+6) -> 3 | Y12: =K12 -> 100000 | Z12: =VLOOKUP(Y12,$I$7:$J$27,2,0)/COUNTIF(Y$7:Y$118,Y12) -> 78 | AA12: =INDIRECT("H"&MATCH(Y12,$I$7:$I$27,0)+6) -> 3 | AB12: =P12 -> 123754.15 | AC12: =VLOOKUP(AB12,$N$7:$O$106,2,0)/COUNTIF(AB$7:AB$118,AB12) -> 36 | AD12: =INDIRECT("M"&MATCH(AB12,$N$7:$N$106,0)+6) -> 22 | AE12: =ROUND(AE13+(($AE$7-$AE$118)/SUM($AF$7:$AF$117)*AF12),0) -> 60 | AF12: 107
A13: 150000 | B13: 93 | C13: 7 | D13: 1500000 | E13: =SUMIF(F$7:F$118,D13,G$7:G$118) -> 208 | F13: {=IF((SMALL(IF(D$7:D$19>=A13,D$7:D$19),1)-A13)<(IF(A13-IFERROR(LARGE(IF(D$7:D$19<=A13,D$7:D$19),1),D$19)<0,A13+IFERROR(LARGE(IF(D$7:D$19<=A13,D$7:D$19),1),D$19),A13-IFERROR(LARGE(IF(D$7:D$19<=A13,D$7:D$19),1),D$19))),SMALL(IF(D$7:D$19>=A13,D$7:D$19),1),IFERROR(LARGE(IF(D$7:D$19<=A13,D$7:D$19),1),D$19))} -> 100000 | G13: =B13 -> 93 | H13: 7 | I13: 400000 | J13: =SUMIF(K$7:K$118,I13,L$7:L$118) -> 191 | K13: {=IF((SMALL(IF(I$7:I$27>=$A13,I$7:I$27),1)-$A13)<(IF($A13-IFERROR(LARGE(IF(I$7:I$27<=$A13,I$7:I$27),1),I$19)<0,$A13+IFERROR(LARGE(IF(I$7:I$27<=$A13,I$7:I$27),1),I$27),$A13-IFERROR(LARGE(IF(I$7:I$27<=$A13,I$7:I$27),1),I$19))),SMALL(IF(I$7:I$27>=$A13,I$7:I$27),1),IFERROR(LARGE(IF(I$7:I$27<=$A13,I$7:I$27),1),I$27))} -> 150000 | L13: =B13 -> 93 | M13: 7 | N13: 25000 | O13: =SUMIF(P$7:P$118,N13,Q$7:Q$118) -> 26 | P13: {=IF((SMALL(IF(N$7:N$106>=$A13,N$7:N$106),1)-$A13)<(IF($A13-IFERROR(LARGE(IF(N$7:N$106<=$A13,N$7:N$106),1),N$106)<0,$A13+IFERROR(LARGE(IF(N$7:N$106<=$A13,N$7:N$106),1),N$106),$A13-IFERROR(LARGE(IF(N$7:N$106<=$A13,N$7:N$106),1),N$106))),SMALL(IF(N$7:N$106>=$A13,N$7:N$106),1),IFERROR(LARGE(IF(N$7:N$106<=$A13,N$7:N$106),1),N$106))} -> 147176.08 | Q13: =G13 -> 93 | R13: 7 | S13: =A13 -> 150000 | T13: =B13 -> 93 | U13: =R13 -> 7 | V13: =F13 -> 100000 | W13: =VLOOKUP(V13,D$7:E$19,2,0)/COUNTIF(V$7:V$118,V13) -> 83 | X13: =INDIRECT("C"&MATCH(V13,$D$7:$D$19,0)+6) -> 3 | Y13: =K13 -> 150000 | Z13: =VLOOKUP(Y13,$I$7:$J$27,2,0)/COUNTIF(Y$7:Y$118,Y13) -> 62 | AA13: =INDIRECT("H"&MATCH(Y13,$I$7:$I$27,0)+6) -> 4 | AB13: =P13 -> 147176.08 | AC13: =VLOOKUP(AB13,$N$7:$O$106,2,0)/COUNTIF(AB$7:AB$118,AB13) -> 93 | AD13: =INDIRECT("M"&MATCH(AB13,$N$7:$N$106,0)+6) -> 24 | AE13: =ROUND(AE14+(($AE$7-$AE$118)/SUM($AF$7:$AF$117)*AF13),0) -> 59 | AF13: 106
A14: 175000 | B14: 31 | C14: 8 | D14: 3000000 | E14: =SUMIF(F$7:F$118,D14,G$7:G$118) -> 242 | F14: {=IF((SMALL(IF(D$7:D$19>=A14,D$7:D$19),1)-A14)<(IF(A14-IFERROR(LARGE(IF(D$7:D$19<=A14,D$7:D$19),1),D$19)<0,A14+IFERROR(LARGE(IF(D$7:D$19<=A14,D$7:D$19),1),D$19),A14-IFERROR(LARGE(IF(D$7:D$19<=A14,D$7:D$19),1),D$19))),SMALL(IF(D$7:D$19>=A14,D$7:D$19),1),IFERROR(LARGE(IF(D$7:D$19<=A14,D$7:D$19),1),D$19))} -> 200000 | G14: =B14 -> 31 | H14: 8 | I14: 600000 | J14: =SUMIF(K$7:K$118,I14,L$7:L$118) -> 136 | K14: {=IF((SMALL(IF(I$7:I$27>=$A14,I$7:I$27),1)-$A14)<(IF($A14-IFERROR(LARGE(IF(I$7:I$27<=$A14,I$7:I$27),1),I$19)<0,$A14+IFERROR(LARGE(IF(I$7:I$27<=$A14,I$7:I$27),1),I$27),$A14-IFERROR(LARGE(IF(I$7:I$27<=$A14,I$7:I$27),1),I$19))),SMALL(IF(I$7:I$27>=$A14,I$7:I$27),1),IFERROR(LARGE(IF(I$7:I$27<=$A14,I$7:I$27),1),I$27))} -> 150000 | L14: =B14 -> 31 | M14: 8 | N14: =N13+((($N$20-$N$13)/SUM($M$14:$M$20)*M14)) -> 27597.403 | O14: =SUMIF(P$7:P$118,N14,Q$7:Q$118) -> 0 | P14: {=IF((SMALL(IF(N$7:N$106>=$A14,N$7:N$106),1)-$A14)<(IF($A14-IFERROR(LARGE(IF(N$7:N$106<=$A14,N$7:N$106),1),N$106)<0,$A14+IFERROR(LARGE(IF(N$7:N$106<=$A14,N$7:N$106),1),N$106),$A14-IFERROR(LARGE(IF(N$7:N$106<=$A14,N$7:N$106),1),N$106))),SMALL(IF(N$7:N$106>=$A14,N$7:N$106),1),IFERROR(LARGE(IF(N$7:N$106<=$A14,N$7:N$106),1),N$106))} -> 172591.36 | Q14: =G14 -> 31 | R14: 8 | S14: =A14 -> 175000 | T14: =B14 -> 31 | U14: =R14 -> 8 | V14: =F14 -> 200000 | W14: =VLOOKUP(V14,D$7:E$19,2,0)/COUNTIF(V$7:V$118,V14) -> 56.875 | X14: =INDIRECT("C"&MATCH(V14,$D$7:$D$19,0)+6) -> 4 | Y14: =K14 -> 150000 | Z14: =VLOOKUP(Y14,$I$7:$J$27,2,0)/COUNTIF(Y$7:Y$118,Y14) -> 62 | AA14: =INDIRECT("H"&MATCH(Y14,$I$7:$I$27,0)+6) -> 4 | AB14: =P14 -> 172591.36 | AC14: =VLOOKUP(AB14,$N$7:$O$106,2,0)/COUNTIF(AB$7:AB$118,AB14) -> 31 | AD14: =INDIRECT("M"&MATCH(AB14,$N$7:$N$106,0)+6) -> 26 | AE14: =ROUND(AE15+(($AE$7-$AE$118)/SUM($AF$7:$AF$117)*AF14),0) -> 58 | AF14: 105
A15: 200000 | B15: 109 | C15: 9 | D15: 10000000 | E15: =SUMIF(F$7:F$118,D15,G$7:G$118) -> 161 | F15: {=IF((SMALL(IF(D$7:D$19>=A15,D$7:D$19),1)-A15)<(IF(A15-IFERROR(LARGE(IF(D$7:D$19<=A15,D$7:D$19),1),D$19)<0,A15+IFERROR(LARGE(IF(D$7:D$19<=A15,D$7:D$19),1),D$19),A15-IFERROR(LARGE(IF(D$7:D$19<=A15,D$7:D$19),1),D$19))),SMALL(IF(D$7:D$19>=A15,D$7:D$19),1),IFERROR(LARGE(IF(D$7:D$19<=A15,D$7:D$19),1),D$19))} -> 200000 | G15: =B15 -> 109 | H15: 9 | I15: 800000 | J15: =SUMIF(K$7:K$118,I15,L$7:L$118) -> 112 | K15: {=IF((SMALL(IF(I$7:I$27>=$A15,I$7:I$27),1)-$A15)<(IF($A15-IFERROR(LARGE(IF(I$7:I$27<=$A15,I$7:I$27),1),I$19)<0,$A15+IFERROR(LARGE(IF(I$7:I$27<=$A15,I$7:I$27),1),I$27),$A15-IFERROR(LARGE(IF(I$7:I$27<=$A15,I$7:I$27),1),I$19))),SMALL(IF(I$7:I$27>=$A15,I$7:I$27),1),IFERROR(LARGE(IF(I$7:I$27<=$A15,I$7:I$27),1),I$27))} -> 200000 | L15: =B15 -> 109 | M15: 9 | N15: =N14+((($N$20-$N$13)/SUM($M$14:$M$20)*M15)) -> 30519.481 | O15: =SUMIF(P$7:P$118,N15,Q$7:Q$118) -> 0 | P15: {=IF((SMALL(IF(N$7:N$106>=$A15,N$7:N$106),1)-$A15)<(IF($A15-IFERROR(LARGE(IF(N$7:N$106<=$A15,N$7:N$106),1),N$106)<0,$A15+IFERROR(LARGE(IF(N$7:N$106<=$A15,N$7:N$106),1),N$106),$A15-IFERROR(LARGE(IF(N$7:N$106<=$A15,N$7:N$106),1),N$106))),SMALL(IF(N$7:N$106>=$A15,N$7:N$106),1),IFERROR(LARGE(IF(N$7:N$106<=$A15,N$7:N$106),1),N$106))} -> 200000 | Q15: =G15 -> 109 | R15: 9 | S15: =A15 -> 200000 | T15: =B15 -> 109 | U15: =R15 -> 9 | V15: =F15 -> 200000 | W15: =VLOOKUP(V15,D$7:E$19,2,0)/COUNTIF(V$7:V$118,V15) -> 56.875 | X15: =INDIRECT("C"&MATCH(V15,$D$7:$D$19,0)+6) -> 4 | Y15: =K15 -> 200000 | Z15: =VLOOKUP(Y15,$I$7:$J$27,2,0)/COUNTIF(Y$7:Y$118,Y15) -> 74.666667 | AA15: =INDIRECT("H"&MATCH(Y15,$I$7:$I$27,0)+6) -> 5 | AB15: =P15 -> 200000 | AC15: =VLOOKUP(AB15,$N$7:$O$106,2,0)/COUNTIF(AB$7:AB$118,AB15) -> 109 | AD15: =INDIRECT("M"&MATCH(AB15,$N$7:$N$106,0)+6) -> 28 | AE15: =ROUND(AE16+(($AE$7-$AE$118)/SUM($AF$7:$AF$117)*AF15),0) -> 57 | AF15: 104
A16: 225000 | B16: 28 | C16: 10 | D16: 30000000 | E16: =SUMIF(F$7:F$118,D16,G$7:G$118) -> 75 | F16: {=IF((SMALL(IF(D$7:D$19>=A16,D$7:D$19),1)-A16)<(IF(A16-IFERROR(LARGE(IF(D$7:D$19<=A16,D$7:D$19),1),D$19)<0,A16+IFERROR(LARGE(IF(D$7:D$19<=A16,D$7:D$19),1),D$19),A16-IFERROR(LARGE(IF(D$7:D$19<=A16,D$7:D$19),1),D$19))),SMALL(IF(D$7:D$19>=A16,D$7:D$19),1),IFERROR(LARGE(IF(D$7:D$19<=A16,D$7:D$19),1),D$19))} -> 200000 | G16: =B16 -> 28 | H16: 10 | I16: 1000000 | J16: =SUMIF(K$7:K$118,I16,L$7:L$118) -> 133 | K16: {=IF((SMALL(IF(I$7:I$27>=$A16,I$7:I$27),1)-$A16)<(IF($A16-IFERROR(LARGE(IF(I$7:I$27<=$A16,I$7:I$27),1),I$19)<0,$A16+IFERROR(LARGE(IF(I$7:I$27<=$A16,I$7:I$27),1),I$27),$A16-IFERROR(LARGE(IF(I$7:I$27<=$A16,I$7:I$27),1),I$19))),SMALL(IF(I$7:I$27>=$A16,I$7:I$27),1),IFERROR(LARGE(IF(I$7:I$27<=$A16,I$7:I$27),1),I$27))} -> 200000 | L16: =B16 -> 28 | M16: 10 | N16: =N15+((($N$20-$N$13)/SUM($M$14:$M$20)*M16)) -> 33766.234 | O16: =SUMIF(P$7:P$118,N16,Q$7:Q$118) -> 0 | P16: {=IF((SMALL(IF(N$7:N$106>=$A16,N$7:N$106),1)-$A16)<(IF($A16-IFERROR(LARGE(IF(N$7:N$106<=$A16,N$7:N$106),1),N$106)<0,$A16+IFERROR(LARGE(IF(N$7:N$106<=$A16,N$7:N$106),1),N$106),$A16-IFERROR(LARGE(IF(N$7:N$106<=$A16,N$7:N$106),1),N$106))),SMALL(IF(N$7:N$106>=$A16,N$7:N$106),1),IFERROR(LARGE(IF(N$7:N$106<=$A16,N$7:N$106),1),N$106))} -> 235010.06 | Q16: =G16 -> 28 | R16: 10 | S16: =A16 -> 225000 | T16: =B16 -> 28 | U16: =R16 -> 10 | V16: =F16 -> 200000 | W16: =VLOOKUP(V16,D$7:E$19,2,0)/COUNTIF(V$7:V$118,V16) -> 56.875 | X16: =INDIRECT("C"&MATCH(V16,$D$7:$D$19,0)+6) -> 4 | Y16: =K16 -> 200000 | Z16: =VLOOKUP(Y16,$I$7:$J$27,2,0)/COUNTIF(Y$7:Y$118,Y16) -> 74.666667 | AA16: =INDIRECT("H"&MATCH(Y16,$I$7:$I$27,0)+6) -> 5 | AB16: =P16 -> 235010.06 | AC16: =VLOOKUP(AB16,$N$7:$O$106,2,0)/COUNTIF(AB$7:AB$118,AB16) -> 57.5 | AD16: =INDIRECT("M"&MATCH(AB16,$N$7:$N$106,0)+6) -> 29 | AE16: =ROUND(AE17+(($AE$7-$AE$118)/SUM($AF$7:$AF$117)*AF16),0) -> 56 | AF16: 103
A17: 250000 | B17: 87 | C17: 11 | D17: 70000000 | E17: =SUMIF(F$7:F$118,D17,G$7:G$118) -> 16 | F17: {=IF((SMALL(IF(D$7:D$19>=A17,D$7:D$19),1)-A17)<(IF(A17-IFERROR(LARGE(IF(D$7:D$19<=A17,D$7:D$19),1),D$19)<0,A17+IFERROR(LARGE(IF(D$7:D$19<=A17,D$7:D$19),1),D$19),A17-IFERROR(LARGE(IF(D$7:D$19<=A17,D$7:D$19),1),D$19))),SMALL(IF(D$7:D$19>=A17,D$7:D$19),1),IFERROR(LARGE(IF(D$7:D$19<=A17,D$7:D$19),1),D$19))} -> 200000 | G17: =B17 -> 87 | H17: 11 | I17: 1500000 | J17: =SUMIF(K$7:K$118,I17,L$7:L$118) -> 92 | K17: {=IF((SMALL(IF(I$7:I$27>=$A17,I$7:I$27),1)-$A17)<(IF($A17-IFERROR(LARGE(IF(I$7:I$27<=$A17,I$7:I$27),1),I$19)<0,$A17+IFERROR(LARGE(IF(I$7:I$27<=$A17,I$7:I$27),1),I$27),$A17-IFERROR(LARGE(IF(I$7:I$27<=$A17,I$7:I$27),1),I$19))),SMALL(IF(I$7:I$27>=$A17,I$7:I$27),1),IFERROR(LARGE(IF(I$7:I$27<=$A17,I$7:I$27),1),I$27))} -> 200000 | L17: =B17 -> 87 | M17: 11 | N17: =N16+((($N$20-$N$13)/SUM($M$14:$M$20)*M17)) -> 37337.662 | O17: =SUMIF(P$7:P$118,N17,Q$7:Q$118) -> 0 | P17: {=IF((SMALL(IF(N$7:N$106>=$A17,N$7:N$106),1)-$A17)<(IF($A17-IFERROR(LARGE(IF(N$7:N$106<=$A17,N$7:N$106),1),N$106)<0,$A17+IFERROR(LARGE(IF(N$7:N$106<=$A17,N$7:N$106),1),N$106),$A17-IFERROR(LARGE(IF(N$7:N$106<=$A17,N$7:N$106),1),N$106))),SMALL(IF(N$7:N$106>=$A17,N$7:N$106),1),IFERROR(LARGE(IF(N$7:N$106<=$A17,N$7:N$106),1),N$106))} -> 235010.06 | Q17: =G17 -> 87 | R17: 11 | S17: =A17 -> 250000 | T17: =B17 -> 87 | U17: =R17 -> 11 | V17: =F17 -> 200000 | W17: =VLOOKUP(V17,D$7:E$19,2,0)/COUNTIF(V$7:V$118,V17) -> 56.875 | X17: =INDIRECT("C"&MATCH(V17,$D$7:$D$19,0)+6) -> 4 | Y17: =K17 -> 200000 | Z17: =VLOOKUP(Y17,$I$7:$J$27,2,0)/COUNTIF(Y$7:Y$118,Y17) -> 74.666667 | AA17: =INDIRECT("H"&MATCH(Y17,$I$7:$I$27,0)+6) -> 5 | AB17: =P17 -> 235010.06 | AC17: =VLOOKUP(AB17,$N$7:$O$106,2,0)/COUNTIF(AB$7:AB$118,AB17) -> 57.5 | AD17: =INDIRECT("M"&MATCH(AB17,$N$7:$N$106,0)+6) -> 29 | AE17: =ROUND(AE18+(($AE$7-$AE$118)/SUM($AF$7:$AF$117)*AF17),0) -> 55 | AF17: 102
A18: 275000 | B18: 12 | C18: 12 | D18: 130000000 | E18: =SUMIF(F$7:F$118,D18,G$7:G$118) -> 5 | F18: {=IF((SMALL(IF(D$7:D$19>=A18,D$7:D$19),1)-A18)<(IF(A18-IFERROR(LARGE(IF(D$7:D$19<=A18,D$7:D$19),1),D$19)<0,A18+IFERROR(LARGE(IF(D$7:D$19<=A18,D$7:D$19),1),D$19),A18-IFERROR(LARGE(IF(D$7:D$19<=A18,D$7:D$19),1),D$19))),SMALL(IF(D$7:D$19>=A18,D$7:D$19),1),IFERROR(LARGE(IF(D$7:D$19<=A18,D$7:D$19),1),D$19))} -> 200000 | G18: =B18 -> 12 | H18: 12 | I18: 2000000 | J18: =SUMIF(K$7:K$118,I18,L$7:L$118) -> 113 | K18: {=IF((SMALL(IF(I$7:I$27>=$A18,I$7:I$27),1)-$A18)<(IF($A18-IFERROR(LARGE(IF(I$7:I$27<=$A18,I$7:I$27),1),I$19)<0,$A18+IFERROR(LARGE(IF(I$7:I$27<=$A18,I$7:I$27),1),I$27),$A18-IFERROR(LARGE(IF(I$7:I$27<=$A18,I$7:I$27),1),I$19))),SMALL(IF(I$7:I$27>=$A18,I$7:I$27),1),IFERROR(LARGE(IF(I$7:I$27<=$A18,I$7:I$27),1),I$27))} -> 300000 | L18: =B18 -> 12 | M18: 12 | N18: =N17+((($N$20-$N$13)/SUM($M$14:$M$20)*M18)) -> 41233.766 | O18: =SUMIF(P$7:P$118,N18,Q$7:Q$118) -> 0 | P18: {=IF((SMALL(IF(N$7:N$106>=$A18,N$7:N$106),1)-$A18)<(IF($A18-IFERROR(LARGE(IF(N$7:N$106<=$A18,N$7:N$106),1),N$106)<0,$A18+IFERROR(LARGE(IF(N$7:N$106<=$A18,N$7:N$106),1),N$106),$A18-IFERROR(LARGE(IF(N$7:N$106<=$A18,N$7:N$106),1),N$106))),SMALL(IF(N$7:N$106>=$A18,N$7:N$106),1),IFERROR(LARGE(IF(N$7:N$106<=$A18,N$7:N$106),1),N$106))} -> 271227.36 | Q18: =G18 -> 12 | R18: 12 | S18: =A18 -> 275000 | T18: =B18 -> 12 | U18: =R18 -> 12 | V18: =F18 -> 200000 | W18: =VLOOKUP(V18,D$7:E$19,2,0)/COUNTIF(V$7:V$118,V18) -> 56.875 | X18: =INDIRECT("C"&MATCH(V18,$D$7:$D$19,0)+6) -> 4 | Y18: =K18 -> 300000 | Z18: =VLOOKUP(Y18,$I$7:$J$27,2,0)/COUNTIF(Y$7:Y$118,Y18) -> 50 | AA18: =INDIRECT("H"&MATCH(Y18,$I$7:$I$27,0)+6) -> 6 | AB18: =P18 -> 271227.36 | AC18: =VLOOKUP(AB18,$N$7:$O$106,2,0)/COUNTIF(AB$7:AB$118,AB18) -> 12 | AD18: =INDIRECT("M"&MATCH(AB18,$N$7:$N$106,0)+6) -> 30 | AE18: =ROUND(AE19+(($AE$7-$AE$118)/SUM($AF$7:$AF$117)*AF18),0) -> 54 | AF18: 101
A19: 300000 | B19: 126 | C19: 13 | D19: 250000000 | E19: =SUMIF(F$7:F$118,D19,G$7:G$118) -> 0 | F19: {=IF((SMALL(IF(D$7:D$19>=A19,D$7:D$19),1)-A19)<(IF(A19-IFERROR(LARGE(IF(D$7:D$19<=A19,D$7:D$19),1),D$19)<0,A19+IFERROR(LARGE(IF(D$7:D$19<=A19,D$7:D$19),1),D$19),A19-IFERROR(LARGE(IF(D$7:D$19<=A19,D$7:D$19),1),D$19))),SMALL(IF(D$7:D$19>=A19,D$7:D$19),1),IFERROR(LARGE(IF(D$7:D$19<=A19,D$7:D$19),1),D$19))} -> 200000 | G19: =B19 -> 126 | H19: 13 | I19: 3000000 | J19: =SUMIF(K$7:K$118,I19,L$7:L$118) -> 115 | K19: {=IF((SMALL(IF(I$7:I$27>=$A19,I$7:I$27),1)-$A19)<(IF($A19-IFERROR(LARGE(IF(I$7:I$27<=$A19,I$7:I$27),1),I$19)<0,$A19+IFERROR(LARGE(IF(I$7:I$27<=$A19,I$7:I$27),1),I$27),$A19-IFERROR(LARGE(IF(I$7:I$27<=$A19,I$7:I$27),1),I$19))),SMALL(IF(I$7:I$27>=$A19,I$7:I$27),1),IFERROR(LARGE(IF(I$7:I$27<=$A19,I$7:I$27),1),I$27))} -> 300000 | L19: =B19 -> 126 | M19: 13 | N19: =N18+((($N$20-$N$13)/SUM($M$14:$M$20)*M19)) -> 45454.545 | O19: =SUMIF(P$7:P$118,N19,Q$7:Q$118) -> 0 | P19: {=IF((SMALL(IF(N$7:N$106>=$A19,N$7:N$106),1)-$A19)<(IF($A19-IFERROR(LARGE(IF(N$7:N$106<=$A19,N$7:N$106),1),N$106)<0,$A19+IFERROR(LARGE(IF(N$7:N$106<=$A19,N$7:N$106),1),N$106),$A19-IFERROR(LARGE(IF(N$7:N$106<=$A19,N$7:N$106),1),N$106))),SMALL(IF(N$7:N$106>=$A19,N$7:N$106),1),IFERROR(LARGE(IF(N$7:N$106<=$A19,N$7:N$106),1),N$106))} -> 308651.91 | Q19: =G19 -> 126 | R19: 13 | S19: =A19 -> 300000 | T19: =B19 -> 126 | U19: =R19 -> 13 | V19: =F19 -> 200000 | W19: =VLOOKUP(V19,D$7:E$19,2,0)/COUNTIF(V$7:V$118,V19) -> 56.875 | X19: =INDIRECT("C"&MATCH(V19,$D$7:$D$19,0)+6) -> 4 | Y19: =K19 -> 300000 | Z19: =VLOOKUP(Y19,$I$7:$J$27,2,0)/COUNTIF(Y$7:Y$118,Y19) -> 50 | AA19: =INDIRECT("H"&MATCH(Y19,$I$7:$I$27,0)+6) -> 6 | AB19: =P19 -> 308651.91 | AC19: =VLOOKUP(AB19,$N$7:$O$106,2,0)/COUNTIF(AB$7:AB$118,AB19) -> 79.5 | AD19: =INDIRECT("M"&MATCH(AB19,$N$7:$N$106,0)+6) -> 31 | AE19: =ROUND(AE20+(($AE$7-$AE$118)/SUM($AF$7:$AF$117)*AF19),0) -> 53 | AF19: 100
A20: 325000 | B20: 33 | F20: {=IF((SMALL(IF(D$7:D$19>=A20,D$7:D$19),1)-A20)<(IF(A20-IFERROR(LARGE(IF(D$7:D$19<=A20,D$7:D$19),1),D$19)<0,A20+IFERROR(LARGE(IF(D$7:D$19<=A20,D$7:D$19),1),D$19),A20-IFERROR(LARGE(IF(D$7:D$19<=A20,D$7:D$19),1),D$19))),SMALL(IF(D$7:D$19>=A20,D$7:D$19),1),IFERROR(LARGE(IF(D$7:D$19<=A20,D$7:D$19),1),D$19))} -> 200000 | G20: =B20 -> 33 | H20: 14 | I20: 5000000 | J20: =SUMIF(K$7:K$118,I20,L$7:L$118) -> 82 | K20: {=IF((SMALL(IF(I$7:I$27>=$A20,I$7:I$27),1)-$A20)<(IF($A20-IFERROR(LARGE(IF(I$7:I$27<=$A20,I$7:I$27),1),I$19)<0,$A20+IFERROR(LARGE(IF(I$7:I$27<=$A20,I$7:I$27),1),I$27),$A20-IFERROR(LARGE(IF(I$7:I$27<=$A20,I$7:I$27),1),I$19))),SMALL(IF(I$7:I$27>=$A20,I$7:I$27),1),IFERROR(LARGE(IF(I$7:I$27<=$A20,I$7:I$27),1),I$27))} -> 300000 | L20: =B20 -> 33 | M20: 14 | N20: 50000 | O20: =SUMIF(P$7:P$118,N20,Q$7:Q$118) -> 98 | P20: {=IF((SMALL(IF(N$7:N$106>=$A20,N$7:N$106),1)-$A20)<(IF($A20-IFERROR(LARGE(IF(N$7:N$106<=$A20,N$7:N$106),1),N$106)<0,$A20+IFERROR(LARGE(IF(N$7:N$106<=$A20,N$7:N$106),1),N$106),$A20-IFERROR(LARGE(IF(N$7:N$106<=$A20,N$7:N$106),1),N$106))),SMALL(IF(N$7:N$106>=$A20,N$7:N$106),1),IFERROR(LARGE(IF(N$7:N$106<=$A20,N$7:N$106),1),N$106))} -> 308651.91 | Q20: =G20 -> 33 | R20: 14 | S20: =A20 -> 325000 | T20: =B20 -> 33 | U20: =R20 -> 14 | V20: =F20 -> 200000 | W20: =VLOOKUP(V20,D$7:E$19,2,0)/COUNTIF(V$7:V$118,V20) -> 56.875 | X20: =INDIRECT("C"&MATCH(V20,$D$7:$D$19,0)+6) -> 4 | Y20: =K20 -> 300000 | Z20: =VLOOKUP(Y20,$I$7:$J$27,2,0)/COUNTIF(Y$7:Y$118,Y20) -> 50 | AA20: =INDIRECT("H"&MATCH(Y20,$I$7:$I$27,0)+6) -> 6 | AB20: =P20 -> 308651.91 | AC20: =VLOOKUP(AB20,$N$7:$O$106,2,0)/COUNTIF(AB$7:AB$118,AB20) -> 79.5 | AD20: =INDIRECT("M"&MATCH(AB20,$N$7:$N$106,0)+6) -> 31 | AE20: =ROUND(AE21+(($AE$7-$AE$118)/SUM($AF$7:$AF$117)*AF20),0) -> 52 | AF20: 99
A21: 350000 | B21: 29 | F21: {=IF((SMALL(IF(D$7:D$19>=A21,D$7:D$19),1)-A21)<(IF(A21-IFERROR(LARGE(IF(D$7:D$19<=A21,D$7:D$19),1),D$19)<0,A21+IFERROR(LARGE(IF(D$7:D$19<=A21,D$7:D$19),1),D$19),A21-IFERROR(LARGE(IF(D$7:D$19<=A21,D$7:D$19),1),D$19))),SMALL(IF(D$7:D$19>=A21,D$7:D$19),1),IFERROR(LARGE(IF(D$7:D$19<=A21,D$7:D$19),1),D$19))} -> 200000 | G21: =B21 -> 29 | H21: 15 | I21: 8000000 | J21: =SUMIF(K$7:K$118,I21,L$7:L$118) -> 48 | K21: {=IF((SMALL(IF(I$7:I$27>=$A21,I$7:I$27),1)-$A21)<(IF($A21-IFERROR(LARGE(IF(I$7:I$27<=$A21,I$7:I$27),1),I$19)<0,$A21+IFERROR(LARGE(IF(I$7:I$27<=$A21,I$7:I$27),1),I$27),$A21-IFERROR(LARGE(IF(I$7:I$27<=$A21,I$7:I$27),1),I$19))),SMALL(IF(I$7:I$27>=$A21,I$7:I$27),1),IFERROR(LARGE(IF(I$7:I$27<=$A21,I$7:I$27),1),I$27))} -> 300000 | L21: =B21 -> 29 | M21: 15 | N21: =N20+((($N$34-$N$20)/SUM($M$21:$M$34)*M21)) -> 57475.083 | O21: =SUMIF(P$7:P$118,N21,Q$7:Q$118) -> 1 | P21: {=IF((SMALL(IF(N$7:N$106>=$A21,N$7:N$106),1)-$A21)<(IF($A21-IFERROR(LARGE(IF(N$7:N$106<=$A21,N$7:N$106),1),N$106)<0,$A21+IFERROR(LARGE(IF(N$7:N$106<=$A21,N$7:N$106),1),N$106),$A21-IFERROR(LARGE(IF(N$7:N$106<=$A21,N$7:N$106),1),N$106))),SMALL(IF(N$7:N$106>=$A21,N$7:N$106),1),IFERROR(LARGE(IF(N$7:N$106<=$A21,N$7:N$106),1),N$106))} -> 347283.7 | Q21: =G21 -> 29 | R21: 15 | S21: =A21 -> 350000 | T21: =B21 -> 29 | U21: =R21 -> 15 | V21: =F21 -> 200000 | W21: =VLOOKUP(V21,D$7:E$19,2,0)/COUNTIF(V$7:V$118,V21) -> 56.875 | X21: =INDIRECT("C"&MATCH(V21,$D$7:$D$19,0)+6) -> 4 | Y21: =K21 -> 300000 | Z21: =VLOOKUP(Y21,$I$7:$J$27,2,0)/COUNTIF(Y$7:Y$118,Y21) -> 50 | AA21: =INDIRECT("H"&MATCH(Y21,$I$7:$I$27,0)+6) -> 6 | AB21: =P21 -> 347283.7 | AC21: =VLOOKUP(AB21,$N$7:$O$106,2,0)/COUNTIF(AB$7:AB$118,AB21) -> 29 | AD21: =INDIRECT("M"&MATCH(AB21,$N$7:$N$106,0)+6) -> 32 | AE21: =ROUND(AE22+(($AE$7-$AE$118)/SUM($AF$7:$AF$117)*AF21),0) -> 51 | AF21: 98
