Workbook

Sheet Daten
A1: Nummer | B1: Name | C1: Liga | D1: Marktwert | E1: Marktwert 1-12 (13) | F1: Marktwert 1-20 (21) | G1: Marktwert 100 | H1: Stärke 1-12 (13) | I1: Stärke 1-20 (21) | J1: Stärke 100 | L1: Liga | M1: Anzahl | N1: Höchster Wert | O1: Kleinster Wert | P1: Mittelwert | Q1: Median | S1: Marktwert | T1: Anzahl | U1: Anzahl % | V1: Anzahl K% | W1: Gesamtwert | X1: GMW % | Y1: GMW K%
A2: A0001 | B2: Serge Gnabry | C2: 1. Liga Deutschland | D2: 90000000 | E2: =VLOOKUP($D2,Zusammenführung!$S$7:$AD$118,4,0) -> 70000000 | F2: =VLOOKUP($D2,Zusammenführung!$S$7:$AD$118,7,0) -> 80000000 | G2: =VLOOKUP($D2,Zusammenführung!$S$7:$AD$118,10,0) -> 92211982 | H2: =VLOOKUP(E2,Zusammenführung!V$7:X$118,3,0) -> 11 | I2: =VLOOKUP(F2,Zusammenführung!$Y$7:$AA$118,3,0) -> 19 | J2: =VLOOKUP(G2,Zusammenführung!$AB$7:$AD$118,3,0) -> 79 | L2: 1. Liga Deutschland | M2: =COUNTIF(Daten!$C$1:$C$2170,L2) -> 75 | N2: {=MAX(IF(C$2:C$2170=L2,D$2:D$2170))} -> 90000000 | O2: {=MIN(IF(C$2:C$2170=L2,D$2:D$2170))} -> 650000 | P2: =AVERAGEIF(C$2:C$2170,L2,D$2:D$2170) -> 12167000 | Q2: {=MEDIAN(IF(C$2:C$2170=L2,D$2:D$2170))} -> 6500000 | S2: 25000 | T2: =COUNTIF(Daten!$D$1:$D$2170,S2) -> 26 | U2: =T2/$T$114 -> 0.011987091 | V2: =SUM($U$2:U2) -> 0.011987091 | W2: =S2*T2 -> 650000 | X2: =W2/$W$114 -> 8.2984797e-05 | Y2: =SUM($X$2:X2) -> 8.2984797e-05
A3: A0002 | B3: Leroy Sané | C3: 1. Liga Deutschland | D3: 70000000 | E3: =VLOOKUP($D3,Zusammenführung!$S$7:$AD$118,4,0) -> 70000000 | F3: =VLOOKUP($D3,Zusammenführung!$S$7:$AD$118,7,0) -> 60000000 | G3: =VLOOKUP($D3,Zusammenführung!$S$7:$AD$118,10,0) -> 70645161 | H3: =VLOOKUP(E3,Zusammenführung!V$7:X$118,3,0) -> 11 | I3: =VLOOKUP(F3,Zusammenführung!$Y$7:$AA$118,3,0) -> 18 | J3: =VLOOKUP(G3,Zusammenführung!$AB$7:$AD$118,3,0) -> 76 | L3: 2. Liga Deutschland | M3: =COUNTIF(Daten!$C$1:$C$2170,L3) -> 95 | N3: {=MAX(IF(C$2:C$2170=L3,D$2:D$2170))} -> 3500000 | O3: {=MIN(IF(C$2:C$2170=L3,D$2:D$2170))} -> 175000 | P3: =AVERAGEIF(C$2:C$2170,L3,D$2:D$2170) -> 759736.84 | Q3: {=MEDIAN(IF(C$2:C$2170=L3,D$2:D$2170))} -> 600000 | S3: 50000 | T3: =COUNTIF(Daten!$D$1:$D$2170,S3) -> 98 | U3: =T3/$T$114 -> 0.045182112 | V3: =SUM($U$2:U3) -> 0.057169202 | W3: =S3*T3 -> 4900000 | X3: =W3/$W$114 -> 0.0006255777 | Y3: =SUM($X$2:X3) -> 0.0007085625
A4: A0003 | B4: Kingsley Coman | C4: 1. Liga Deutschland | D4: 40000000 | E4: =VLOOKUP($D4,Zusammenführung!$S$7:$AD$118,4,0) -> 30000000 | F4: =VLOOKUP($D4,Zusammenführung!$S$7:$AD$118,7,0) -> 30000000 | G4: =VLOOKUP($D4,Zusammenführung!$S$7:$AD$118,10,0) -> 43179724 | H4: =VLOOKUP(E4,Zusammenführung!V$7:X$118,3,0) -> 10 | I4: =VLOOKUP(F4,Zusammenführung!$Y$7:$AA$118,3,0) -> 17 | J4: =VLOOKUP(G4,Zusammenführung!$AB$7:$AD$118,3,0) -> 72 | L4: 3. Liga Deutschland | M4: =COUNTIF(Daten!$C$1:$C$2170,L4) -> 77 | N4: {=MAX(IF(C$2:C$2170=L4,D$2:D$2170))} -> 600000 | O4: {=MIN(IF(C$2:C$2170=L4,D$2:D$2170))} -> 75000 | P4: =AVERAGEIF(C$2:C$2170,L4,D$2:D$2170) -> 243181.82 | Q4: {=MEDIAN(IF(C$2:C$2170=L4,D$2:D$2170))} -> 225000 | S4: 60000 | T4: =COUNTIF(Daten!$D$1:$D$2170,S4) -> 1 | U4: =T4/$T$114 -> 0.00046104195 | V4: =SUM($U$2:U4) -> 0.057630244 | W4: =S4*T4 -> 60000 | X4: =W4/$W$114 -> 7.6601351e-06 | Y4: =SUM($X$2:X4) -> 0.00071622263
A5: A0004 | B5: Marcel Sabitzer | C5: 1. Liga Deutschland | D5: 35000000 | E5: =VLOOKUP($D5,Zusammenführung!$S$7:$AD$118,4,0) -> 30000000 | F5: =VLOOKUP($D5,Zusammenführung!$S$7:$AD$118,7,0) -> 30000000 | G5: =VLOOKUP($D5,Zusammenführung!$S$7:$AD$118,10,0) -> 36543779 | H5: =VLOOKUP(E5,Zusammenführung!V$7:X$118,3,0) -> 10 | I5: =VLOOKUP(F5,Zusammenführung!$Y$7:$AA$118,3,0) -> 17 | J5: =VLOOKUP(G5,Zusammenführung!$AB$7:$AD$118,3,0) -> 71 | L5: 4. Liga Deutschland Bayern | M5: =COUNTIF(Daten!$C$1:$C$2170,L5) -> 31 | N5: {=MAX(IF(C$2:C$2170=L5,D$2:D$2170))} -> 175000 | O5: {=MIN(IF(C$2:C$2170=L5,D$2:D$2170))} -> 25000 | P5: =AVERAGEIF(C$2:C$2170,L5,D$2:D$2170) -> 76612.903 | Q5: {=MEDIAN(IF(C$2:C$2170=L5,D$2:D$2170))} -> 75000 | S5: 75000 | T5: =COUNTIF(Daten!$D$1:$D$2170,S5) -> 109 | U5: =T5/$T$114 -> 0.050253573 | V5: =SUM($U$2:U5) -> 0.10788382 | W5: =S5*T5 -> 8175000 | X5: =W5/$W$114 -> 0.0010436934 | Y5: =SUM($X$2:X5) -> 0.001759916
A6: A0005 | B6: Marcus Thuram | C6: 1. Liga Deutschland | D6: 32000000 | E6: =VLOOKUP($D6,Zusammenführung!$S$7:$AD$118,4,0) -> 30000000 | F6: =VLOOKUP($D6,Zusammenführung!$S$7:$AD$118,7,0) -> 30000000 | G6: =VLOOKUP($D6,Zusammenführung!$S$7:$AD$118,10,0) -> 30000000 | H6: =VLOOKUP(E6,Zusammenführung!V$7:X$118,3,0) -> 10 | I6: =VLOOKUP(F6,Zusammenführung!$Y$7:$AA$118,3,0) -> 17 | J6: =VLOOKUP(G6,Zusammenführung!$AB$7:$AD$118,3,0) -> 70 | L6: 4. Liga Deutschland Nord | M6: =COUNTIF(Daten!$C$1:$C$2170,L6) -> 57 | N6: {=MAX(IF(C$2:C$2170=L6,D$2:D$2170))} -> 125000 | O6: {=MIN(IF(C$2:C$2170=L6,D$2:D$2170))} -> 25000 | P6: =AVERAGEIF(C$2:C$2170,L6,D$2:D$2170) -> 63596.491 | Q6: {=MEDIAN(IF(C$2:C$2170=L6,D$2:D$2170))} -> 50000 | S6: 100000 | T6: =COUNTIF(Daten!$D$1:$D$2170,S6) -> 120 | U6: =T6/$T$114 -> 0.055325035 | V6: =SUM($U$2:U6) -> 0.16320885 | W6: =S6*T6 -> 12000000 | X6: =W6/$W$114 -> 0.001532027 | Y6: =SUM($X$2:X6) -> 0.0032919431
A7: A0006 | B7: Thorgan Hazard | C7: 1. Liga Deutschland | D7: 32000000 | E7: =VLOOKUP($D7,Zusammenführung!$S$7:$AD$118,4,0) -> 30000000 | F7: =VLOOKUP($D7,Zusammenführung!$S$7:$AD$118,7,0) -> 30000000 | G7: =VLOOKUP($D7,Zusammenführung!$S$7:$AD$118,10,0) -> 30000000 | H7: =VLOOKUP(E7,Zusammenführung!V$7:X$118,3,0) -> 10 | I7: =VLOOKUP(F7,Zusammenführung!$Y$7:$AA$118,3,0) -> 17 | J7: =VLOOKUP(G7,Zusammenführung!$AB$7:$AD$118,3,0) -> 70 | L7: 4. Liga Deutschland NOst | M7: =COUNTIF(Daten!$C$1:$C$2170,L7) -> 58 | N7: {=MAX(IF(C$2:C$2170=L7,D$2:D$2170))} -> 175000 | O7: {=MIN(IF(C$2:C$2170=L7,D$2:D$2170))} -> 25000 | P7: =AVERAGEIF(C$2:C$2170,L7,D$2:D$2170) -> 85344.828 | Q7: {=MEDIAN(IF(C$2:C$2170=L7,D$2:D$2170))} -> 75000 | S7: 125000 | T7: =COUNTIF(Daten!$D$1:$D$2170,S7) -> 36 | U7: =T7/$T$114 -> 0.01659751 | V7: =SUM($U$2:U7) -> 0.17980636 | W7: =S7*T7 -> 4500000 | X7: =W7/$W$114 -> 0.00057451013 | Y7: =SUM($X$2:X7) -> 0.0038664532
A8: A0007 | B8: Alassane Plea | C8: 1. Liga Deutschland | D8: 30000000 | E8: =VLOOKUP($D8,Zusammenführung!$S$7:$AD$118,4,0) -> 30000000 | F8: =VLOOKUP($D8,Zusammenführung!$S$7:$AD$118,7,0) -> 30000000 | G8: =VLOOKUP($D8,Zusammenführung!$S$7:$AD$118,10,0) -> 30000000 | H8: =VLOOKUP(E8,Zusammenführung!V$7:X$118,3,0) -> 10 | I8: =VLOOKUP(F8,Zusammenführung!$Y$7:$AA$118,3,0) -> 17 | J8: =VLOOKUP(G8,Zusammenführung!$AB$7:$AD$118,3,0) -> 70 | L8: 4. Liga Deutschland SWest | M8: =COUNTIF(Daten!$C$1:$C$2170,L8) -> 50 | N8: {=MAX(IF(C$2:C$2170=L8,D$2:D$2170))} -> 225000 | O8: {=MIN(IF(C$2:C$2170=L8,D$2:D$2170))} -> 25000 | P8: =AVERAGEIF(C$2:C$2170,L8,D$2:D$2170) -> 102000 | Q8: {=MEDIAN(IF(C$2:C$2170=L8,D$2:D$2170))} -> 100000 | S8: 150000 | T8: =COUNTIF(Daten!$D$1:$D$2170,S8) -> 93 | U8: =T8/$T$114 -> 0.042876902 | V8: =SUM($U$2:U8) -> 0.22268326 | W8: =S8*T8 -> 13950000 | X8: =W8/$W$114 -> 0.0017809814 | Y8: =SUM($X$2:X8) -> 0.0056474346
A9: A0008 | B9: Wout Weghorst | C9: 1. Liga Deutschland | D9: 30000000 | E9: =VLOOKUP($D9,Zusammenführung!$S$7:$AD$118,4,0) -> 30000000 | F9: =VLOOKUP($D9,Zusammenführung!$S$7:$AD$118,7,0) -> 30000000 | G9: =VLOOKUP($D9,Zusammenführung!$S$7:$AD$118,10,0) -> 30000000 | H9: =VLOOKUP(E9,Zusammenführung!V$7:X$118,3,0) -> 10 | I9: =VLOOKUP(F9,Zusammenführung!$Y$7:$AA$118,3,0) -> 17 | J9: =VLOOKUP(G9,Zusammenführung!$AB$7:$AD$118,3,0) -> 70 | L9: 4. Liga Deutschland West | M9: =COUNTIF(Daten!$C$1:$C$2170,L9) -> 61 | N9: {=MAX(IF(C$2:C$2170=L9,D$2:D$2170))} -> 225000 | O9: {=MIN(IF(C$2:C$2170=L9,D$2:D$2170))} -> 25000 | P9: =AVERAGEIF(C$2:C$2170,L9,D$2:D$2170) -> 83196.721 | Q9: {=MEDIAN(IF(C$2:C$2170=L9,D$2:D$2170))} -> 75000 | S9: 175000 | T9: =COUNTIF(Daten!$D$1:$D$2170,S9) -> 31 | U9: =T9/$T$114 -> 0.014292301 | V9: =SUM($U$2:U9) -> 0.23697556 | W9: =S9*T9 -> 5425000 | X9: =W9/$W$114 -> 0.00069260388 | Y9: =SUM($X$2:X9) -> 0.0063400385
A10: A0009 | B10: Leon Bailey | C10: 1. Liga Deutschland | D10: 29500000 | E10: =VLOOKUP($D10,Zusammenführung!$S$7:$AD$118,4,0) -> 30000000 | F10: =VLOOKUP($D10,Zusammenführung!$S$7:$AD$118,7,0) -> 30000000 | G10: =VLOOKUP($D10,Zusammenführung!$S$7:$AD$118,10,0) -> 30000000 | H10: =VLOOKUP(E10,Zusammenführung!V$7:X$118,3,0) -> 10 | I10: =VLOOKUP(F10,Zusammenführung!$Y$7:$AA$118,3,0) -> 17 | J10: =VLOOKUP(G10,Zusammenführung!$AB$7:$AD$118,3,0) -> 70 | L10: 1. Liga England | M10: =COUNTIF(Daten!$C$1:$C$2170,L10) -> 91 | N10: {=MAX(IF(C$2:C$2170=L10,D$2:D$2170))} -> 128000000 | O10: {=MIN(IF(C$2:C$2170=L10,D$2:D$2170))} -> 400000 | P10: =AVERAGEIF(C$2:C$2170,L10,D$2:D$2170) -> 25792308 | Q10: {=MEDIAN(IF(C$2:C$2170=L10,D$2:D$2170))} -> 16000000 | S10: 200000 | T10: =COUNTIF(Daten!$D$1:$D$2170,S10) -> 109 | U10: =T10/$T$114 -> 0.050253573 | V10: =SUM($U$2:U10) -> 0.28722914 | W10: =S10*T10 -> 21800000 | X10: =W10/$W$114 -> 0.0027831824 | Y10: =SUM($X$2:X10) -> 0.0091232209
A11: A0010 | B11: Andrej Kramaric | C11: 1. Liga Deutschland | D11: 27000000 | E11: =VLOOKUP($D11,Zusammenführung!$S$7:$AD$118,4,0) -> 30000000 | F11: =VLOOKUP($D11,Zusammenführung!$S$7:$AD$118,7,0) -> 30000000 | G11: =VLOOKUP($D11,Zusammenführung!$S$7:$AD$118,10,0) -> 27874016 | H11: =VLOOKUP(E11,Zusammenführung!V$7:X$118,3,0) -> 10 | I11: =VLOOKUP(F11,Zusammenführung!$Y$7:$AA$118,3,0) -> 17 | J11: =VLOOKUP(G11,Zusammenführung!$AB$7:$AD$118,3,0) -> 69 | L11: 2. Liga England | M11: =COUNTIF(Daten!$C$1:$C$2170,L11) -> 100 | N11: {=MAX(IF(C$2:C$2170=L11,D$2:D$2170))} -> 22000000 | O11: {=MIN(IF(C$2:C$2170=L11,D$2:D$2170))} -> 100000 | P11: =AVERAGEIF(C$2:C$2170,L11,D$2:D$2170) -> 2826000 | Q11: {=MEDIAN(IF(C$2:C$2170=L11,D$2:D$2170))} -> 1875000 | S11: 225000 | T11: =COUNTIF(Daten!$D$1:$D$2170,S11) -> 28 | U11: =T11/$T$114 -> 0.012909175 | V11: =SUM($U$2:U11) -> 0.30013831 | W11: =S11*T11 -> 6300000 | X11: =W11/$W$114 -> 0.00080431419 | Y11: =SUM($X$2:X11) -> 0.0099275351
A12: A0011 | B12: Patrik Schick | C12: 1. Liga Deutschland | D12: 25000000 | E12: =VLOOKUP($D12,Zusammenführung!$S$7:$AD$118,4,0) -> 30000000 | F12: =VLOOKUP($D12,Zusammenführung!$S$7:$AD$118,7,0) -> 30000000 | G12: =VLOOKUP($D12,Zusammenführung!$S$7:$AD$118,10,0) -> 25778403 | H12: =VLOOKUP(E12,Zusammenführung!V$7:X$118,3,0) -> 10 | I12: =VLOOKUP(F12,Zusammenführung!$Y$7:$AA$118,3,0) -> 17 | J12: =VLOOKUP(G12,Zusammenführung!$AB$7:$AD$118,3,0) -> 68 | L12: 3. Liga England | M12: =COUNTIF(Daten!$C$1:$C$2170,L12) -> 65 | N12: {=MAX(IF(C$2:C$2170=L12,D$2:D$2170))} -> 2000000 | O12: {=MIN(IF(C$2:C$2170=L12,D$2:D$2170))} -> 50000 | P12: =AVERAGEIF(C$2:C$2170,L12,D$2:D$2170) -> 383461.54 | Q12: {=MEDIAN(IF(C$2:C$2170=L12,D$2:D$2170))} -> 300000 | S12: 250000 | T12: =COUNTIF(Daten!$D$1:$D$2170,S12) -> 87 | U12: =T12/$T$114 -> 0.04011065 | V12: =SUM($U$2:U12) -> 0.34024896 | W12: =S12*T12 -> 21750000 | X12: =W12/$W$114 -> 0.002776799 | Y12: =SUM($X$2:X12) -> 0.012704334
A13: A0012 | B13: Yussuf Poulsen | C13: 1. Liga Deutschland | D13: 25000000 | E13: =VLOOKUP($D13,Zusammenführung!$S$7:$AD$118,4,0) -> 30000000 | F13: =VLOOKUP($D13,Zusammenführung!$S$7:$AD$118,7,0) -> 30000000 | G13: =VLOOKUP($D13,Zusammenführung!$S$7:$AD$118,10,0) -> 25778403 | H13: =VLOOKUP(E13,Zusammenführung!V$7:X$118,3,0) -> 10 | I13: =VLOOKUP(F13,Zusammenführung!$Y$7:$AA$118,3,0) -> 17 | J13: =VLOOKUP(G13,Zusammenführung!$AB$7:$AD$118,3,0) -> 68 | L13: 4. Liga England | M13: =COUNTIF(Daten!$C$1:$C$2170,L13) -> 60 | N13: {=MAX(IF(C$2:C$2170=L13,D$2:D$2170))} -> 600000 | O13: {=MIN(IF(C$2:C$2170=L13,D$2:D$2170))} -> 50000 | P13: =AVERAGEIF(C$2:C$2170,L13,D$2:D$2170) -> 192500 | Q13: {=MEDIAN(IF(C$2:C$2170=L13,D$2:D$2170))} -> 150000 | S13: 275000 | T13: =COUNTIF(Daten!$D$1:$D$2170,S13) -> 12 | U13: =T13/$T$114 -> 0.0055325035 | V13: =SUM($U$2:U13) -> 0.34578147 | W13: =S13*T13 -> 3300000 | X13: =W13/$W$114 -> 0.00042130743 | Y13: =SUM($X$2:X13) -> 0.013125642
... A38: A0037 | B38: Sebastian Andersson | C38: 1. Liga Deutschland | D38: 7000000 | E38: =VLOOKUP($D38,Zusammenführung!$S$7:$AD$118,4,0) -> 10000000 | F38: =VLOOKUP($D38,Zusammenführung!$S$7:$AD$118,7,0) -> 8000000 | G38: =VLOOKUP($D38,Zusammenführung!$S$7:$AD$118,10,0) -> 6492688.4 | H38: =VLOOKUP(E38,Zusammenführung!V$7:X$118,3,0) -> 9 | I38: =VLOOKUP(F38,Zusammenführung!$Y$7:$AA$118,3,0) -> 15 | J38: =VLOOKUP(G38,Zusammenführung!$AB$7:$AD$118,3,0) -> 58 | L38: 1. Liga Schottland | M38: =COUNTIF(Daten!$C$1:$C$2170,L38) -> 50 | N38: {=MAX(IF(C$2:C$2170=L38,D$2:D$2170))} -> 15000000 | O38: {=MIN(IF(C$2:C$2170=L38,D$2:D$2170))} -> 100000 | P38: =AVERAGEIF(C$2:C$2170,L38,D$2:D$2170) -> 1219500 | Q38: {=MEDIAN(IF(C$2:C$2170=L38,D$2:D$2170))} -> 400000 | S38: 1200000 | T38: =COUNTIF(Daten!$D$1:$D$2170,S38) -> 48 | U38: =T38/$T$114 -> 0.022130014 | V38: =SUM($U$2:U38) -> 0.69617335 | W38: =S38*T38 -> 57600000 | X38: =W38/$W$114 -> 0.0073537297 | Y38: =SUM($X$2:X38) -> 0.071885261
A39: A0038 | B39: Marius Wolf | C39: 1. Liga Deutschland | D39: 6500000 | E39: =VLOOKUP($D39,Zusammenführung!$S$7:$AD$118,4,0) -> 3000000 | F39: =VLOOKUP($D39,Zusammenführung!$S$7:$AD$118,7,0) -> 5000000 | G39: =VLOOKUP($D39,Zusammenführung!$S$7:$AD$118,10,0) -> 6492688.4 | H39: =VLOOKUP(E39,Zusammenführung!V$7:X$118,3,0) -> 8 | I39: =VLOOKUP(F39,Zusammenführung!$Y$7:$AA$118,3,0) -> 14 | J39: =VLOOKUP(G39,Zusammenführung!$AB$7:$AD$118,3,0) -> 58 | L39: =CONCATENATE("GESAMT (",COUNTIF(L2:L38,"*"),")") -> GESAMT (37) | M39: =SUM(M2:M38) -> 2169 | P39: =AVERAGE(D2:D2170) -> 3611231 | Q39: =MEDIAN(D2:D2170) -> 500000 | S39: 1300000 | T39: =COUNTIF(Daten!$D$1:$D$2170,S39) -> 12 | U39: =T39/$T$114 -> 0.0055325035 | V39: =SUM($U$2:U39) -> 0.70170586 | W39: =S39*T39 -> 15600000 | X39: =W39/$W$114 -> 0.0019916351 | Y39: =SUM($X$2:X39) -> 0.073876897
A40: A0039 | B40: Patrick Herrmann | C40: 1. Liga Deutschland | D40: 6500000 | E40: =VLOOKUP($D40,Zusammenführung!$S$7:$AD$118,4,0) -> 3000000 | F40: =VLOOKUP($D40,Zusammenführung!$S$7:$AD$118,7,0) -> 5000000 | G40: =VLOOKUP($D40,Zusammenführung!$S$7:$AD$118,10,0) -> 6492688.4 | H40: =VLOOKUP(E40,Zusammenführung!V$7:X$118,3,0) -> 8 | I40: =VLOOKUP(F40,Zusammenführung!$Y$7:$AA$118,3,0) -> 14 | J40: =VLOOKUP(G40,Zusammenführung!$AB$7:$AD$118,3,0) -> 58 | S40: 1400000 | T40: =COUNTIF(Daten!$D$1:$D$2170,S40) -> 11 | U40: =T40/$T$114 -> 0.0050714615 | V40: =SUM($U$2:U40) -> 0.70677732 | W40: =S40*T40 -> 15400000 | X40: =W40/$W$114 -> 0.0019661013 | Y40: =SUM($X$2:X40) -> 0.075842998
A41: A0040 | B41: Vincenzo Grifo | C41: 1. Liga Deutschland | D41: 6500000 | E41: =VLOOKUP($D41,Zusammenführung!$S$7:$AD$118,4,0) -> 3000000 | F41: =VLOOKUP($D41,Zusammenführung!$S$7:$AD$118,7,0) -> 5000000 | G41: =VLOOKUP($D41,Zusammenführung!$S$7:$AD$118,10,0) -> 6492688.4 | H41: =VLOOKUP(E41,Zusammenführung!V$7:X$118,3,0) -> 8 | I41: =VLOOKUP(F41,Zusammenführung!$Y$7:$AA$118,3,0) -> 14 | J41: =VLOOKUP(G41,Zusammenführung!$AB$7:$AD$118,3,0) -> 58 | S41: 1500000 | T41: =COUNTIF(Daten!$D$1:$D$2170,S41) -> 32 | U41: =T41/$T$114 -> 0.014753343 | V41: =SUM($U$2:U41) -> 0.72153066 | W41: =S41*T41 -> 48000000 | X41: =W41/$W$114 -> 0.0061281081 | Y41: =SUM($X$2:X41) -> 0.081971106
A42: A0041 | B42: Admir Mehmedi | C42: 1. Liga Deutschland | D42: 6000000 | E42: =VLOOKUP($D42,Zusammenführung!$S$7:$AD$118,4,0) -> 3000000 | F42: =VLOOKUP($D42,Zusammenführung!$S$7:$AD$118,7,0) -> 5000000 | G42: =VLOOKUP($D42,Zusammenführung!$S$7:$AD$118,10,0) -> 6492688.4 | H42: =VLOOKUP(E42,Zusammenführung!V$7:X$118,3,0) -> 8 | I42: =VLOOKUP(F42,Zusammenführung!$Y$7:$AA$118,3,0) -> 14 | J42: =VLOOKUP(G42,Zusammenführung!$AB$7:$AD$118,3,0) -> 58 | S42: 1600000 | T42: =COUNTIF(Daten!$D$1:$D$2170,S42) -> 29 | U42: =T42/$T$114 -> 0.013370217 | V42: =SUM($U$2:U42) -> 0.73490088 | W42: =S42*T42 -> 46400000 | X42: =W42/$W$114 -> 0.0059238378 | Y42: =SUM($X$2:X42) -> 0.087894944
A43: A0042 | B43: Amin Younes | C43: 1. Liga Deutschland | D43: 5000000 | E43: =VLOOKUP($D43,Zusammenführung!$S$7:$AD$118,4,0) -> 3000000 | F43: =VLOOKUP($D43,Zusammenführung!$S$7:$AD$118,7,0) -> 5000000 | G43: =VLOOKUP($D43,Zusammenführung!$S$7:$AD$118,10,0) -> 4731158.6 | H43: =VLOOKUP(E43,Zusammenführung!V$7:X$118,3,0) -> 8 | I43: =VLOOKUP(F43,Zusammenführung!$Y$7:$AA$118,3,0) -> 14 | J43: =VLOOKUP(G43,Zusammenführung!$AB$7:$AD$118,3,0) -> 57 | S43: 1700000 | T43: =COUNTIF(Daten!$D$1:$D$2170,S43) -> 6 | U43: =T43/$T$114 -> 0.0027662517 | V43: =SUM($U$2:U43) -> 0.73766713 | W43: =S43*T43 -> 10200000 | X43: =W43/$W$114 -> 0.001302223 | Y43: =SUM($X$2:X43) -> 0.089197167
A44: A0043 | B44: Davie Selke | C44: 1. Liga Deutschland | D44: 5000000 | E44: =VLOOKUP($D44,Zusammenführung!$S$7:$AD$118,4,0) -> 3000000 | F44: =VLOOKUP($D44,Zusammenführung!$S$7:$AD$118,7,0) -> 5000000 | G44: =VLOOKUP($D44,Zusammenführung!$S$7:$AD$118,10,0) -> 4731158.6 | H44: =VLOOKUP(E44,Zusammenführung!V$7:X$118,3,0) -> 8 | I44: =VLOOKUP(F44,Zusammenführung!$Y$7:$AA$118,3,0) -> 14 | J44: =VLOOKUP(G44,Zusammenführung!$AB$7:$AD$118,3,0) -> 57 | S44: 1750000 | T44: =COUNTIF(Daten!$D$1:$D$2170,S44) -> 2 | U44: =T44/$T$114 -> 0.00092208391 | V44: =SUM($U$2:U44) -> 0.73858921 | W44: =S44*T44 -> 3500000 | X44: =W44/$W$114 -> 0.00044684122 | Y44: =SUM($X$2:X44) -> 0.089644008
A45: A0044 | B45: Michael Gregoritsch | C45: 1. Liga Deutschland | D45: 4500000 | E45: =VLOOKUP($D45,Zusammenführung!$S$7:$AD$118,4,0) -> 3000000 | F45: =VLOOKUP($D45,Zusammenführung!$S$7:$AD$118,7,0) -> 5000000 | G45: =VLOOKUP($D45,Zusammenführung!$S$7:$AD$118,10,0) -> 4731158.6 | H45: =VLOOKUP(E45,Zusammenführung!V$7:X$118,3,0) -> 8 | I45: =VLOOKUP(F45,Zusammenführung!$Y$7:$AA$118,3,0) -> 14 | J45: =VLOOKUP(G45,Zusammenführung!$AB$7:$AD$118,3,0) -> 57 | S45: 1800000 | T45: =COUNTIF(Daten!$D$1:$D$2170,S45) -> 12 | U45: =T45/$T$114 -> 0.0055325035 | V45: =SUM($U$2:U45) -> 0.74412172 | W45: =S45*T45 -> 21600000 | X45: =W45/$W$114 -> 0.0027576486 | Y45: =SUM($X$2:X45) -> 0.092401657
A46: A0045 | B46: Renato Steffen | C46: 1. Liga Deutschland | D46: 4500000 | E46: =VLOOKUP($D46,Zusammenführung!$S$7:$AD$118,4,0) -> 3000000 | F46: =VLOOKUP($D46,Zusammenführung!$S$7:$AD$118,7,0) -> 5000000 | G46: =VLOOKUP($D46,Zusammenführung!$S$7:$AD$118,10,0) -> 4731158.6 | H46: =VLOOKUP(E46,Zusammenführung!V$7:X$118,3,0) -> 8 | I46: =VLOOKUP(F46,Zusammenführung!$Y$7:$AA$118,3,0) -> 14 | J46: =VLOOKUP(G46,Zusammenführung!$AB$7:$AD$118,3,0) -> 57 | S46: 1900000 | T46: =COUNTIF(Daten!$D$1:$D$2170,S46) -> 3 | U46: =T46/$T$114 -> 0.0013831259 | V46: =SUM($U$2:U46) -> 0.74550484 | W46: =S46*T46 -> 5700000 | X46: =W46/$W$114 -> 0.00072771284 | Y46: =SUM($X$2:X46) -> 0.093129369
A47: A0046 | B47: Florian Kainz | C47: 1. Liga Deutschland | D47: 4000000 | E47: =VLOOKUP($D47,Zusammenführung!$S$7:$AD$118,4,0) -> 3000000 | F47: =VLOOKUP($D47,Zusammenführung!$S$7:$AD$118,7,0) -> 3000000 | G47: =VLOOKUP($D47,Zusammenführung!$S$7:$AD$118,10,0) -> 4731158.6 | H47: =VLOOKUP(E47,Zusammenführung!V$7:X$118,3,0) -> 8 | I47: =VLOOKUP(F47,Zusammenführung!$Y$7:$AA$118,3,0) -> 13 | J47: =VLOOKUP(G47,Zusammenführung!$AB$7:$AD$118,3,0) -> 57 | S47: 2000000 | T47: =COUNTIF(Daten!$D$1:$D$2170,S47) -> 48 | U47: =T47/$T$114 -> 0.022130014 | V47: =SUM($U$2:U47) -> 0.76763485 | W47: =S47*T47 -> 96000000 | X47: =W47/$W$114 -> 0.012256216 | Y47: =SUM($X$2:X47) -> 0.10538559
A48: A0047 | B48: Lucas Höler | C48: 1. Liga Deutschland | D48: 4000000 | E48: =VLOOKUP($D48,Zusammenführung!$S$7:$AD$118,4,0) -> 3000000 | F48: =VLOOKUP($D48,Zusammenführung!$S$7:$AD$118,7,0) -> 3000000 | G48: =VLOOKUP($D48,Zusammenführung!$S$7:$AD$118,10,0) -> 4731158.6 | H48: =VLOOKUP(E48,Zusammenführung!V$7:X$118,3,0) -> 8 | I48: =VLOOKUP(F48,Zusammenführung!$Y$7:$AA$118,3,0) -> 13 | J48: =VLOOKUP(G48,Zusammenführung!$AB$7:$AD$118,3,0) -> 57 | S48: 2100000 | T48: =COUNTIF(Daten!$D$1:$D$2170,S48) -> 1 | U48: =T48/$T$114 -> 0.00046104195 | V48: =SUM($U$2:U48) -> 0.7680959 | W48: =S48*T48 -> 2100000 | X48: =W48/$W$114 -> 0.00026810473 | Y48: =SUM($X$2:X48) -> 0.10565369
A49: A0048 | B49: Sargis Adamyan | C49: 1. Liga Deutschland | D49: 4000000 | E49: =VLOOKUP($D49,Zusammenführung!$S$7:$AD$118,4,0) -> 3000000 | F49: =VLOOKUP($D49,Zusammenführung!$S$7:$AD$118,7,0) -> 3000000 | G49: =VLOOKUP($D49,Zusammenführung!$S$7:$AD$118,10,0) -> 4731158.6 | H49: =VLOOKUP(E49,Zusammenführung!V$7:X$118,3,0) -> 8 | I49: =VLOOKUP(F49,Zusammenführung!$Y$7:$AA$118,3,0) -> 13 | J49: =VLOOKUP(G49,Zusammenführung!$AB$7:$AD$118,3,0) -> 57 | S49: 2200000 | T49: =COUNTIF(Daten!$D$1:$D$2170,S49) -> 4 | U49: =T49/$T$114 -> 0.0018441678 | V49: =SUM($U$2:U49) -> 0.76994006 | W49: =S49*T49 -> 8800000 | X49: =W49/$W$114 -> 0.0011234865 | Y49: =SUM($X$2:X49) -> 0.10677718
A50: A0049 | B50: João Victor | C50: 1. Liga Deutschland | D50: 3500000 | E50: =VLOOKUP($D50,Zusammenführung!$S$7:$AD$118,4,0) -> 3000000 | F50: =VLOOKUP($D50,Zusammenführung!$S$7:$AD$118,7,0) -> 3000000 | G50: =VLOOKUP($D50,Zusammenführung!$S$7:$AD$118,10,0) -> 3000000 | H50: =VLOOKUP(E50,Zusammenführung!V$7:X$118,3,0) -> 8 | I50: =VLOOKUP(F50,Zusammenführung!$Y$7:$AA$118,3,0) -> 13 | J50: =VLOOKUP(G50,Zusammenführung!$AB$7:$AD$118,3,0) -> 56 | S50: 2300000 | T50: =COUNTIF(Daten!$D$1:$D$2170,S50) -> 1 | U50: =T50/$T$114 -> 0.00046104195 | V50: =SUM($U$2:U50) -> 0.77040111 | W50: =S50*T50 -> 2300000 | X50: =W50/$W$114 -> 0.00029363851 | Y50: =SUM($X$2:X50) -> 0.10707082
A51: A0050 | B51: Karim Onisiwo | C51: 1. Liga Deutschland | D51: 3500000 | E51: =VLOOKUP($D51,Zusammenführung!$S$7:$AD$118,4,0) -> 3000000 | F51: =VLOOKUP($D51,Zusammenführung!$S$7:$AD$118,7,0) -> 3000000 | G51: =VLOOKUP($D51,Zusammenführung!$S$7:$AD$118,10,0) -> 3000000 | H51: =VLOOKUP(E51,Zusammenführung!V$7:X$118,3,0) -> 8 | I51: =VLOOKUP(F51,Zusammenführung!$Y$7:$AA$118,3,0) -> 13 | J51: =VLOOKUP(G51,Zusammenführung!$AB$7:$AD$118,3,0) -> 56 | S51: 2400000 | T51: =COUNTIF(Daten!$D$1:$D$2170,S51) -> 15 | U51: =T51/$T$114 -> 0.0069156293 | V51: =SUM($U$2:U51) -> 0.77731674 | W51: =S51*T51 -> 36000000 | X51: =W51/$W$114 -> 0.0045960811 | Y51: =SUM($X$2:X51) -> 0.1116669
... A113: A0112 | B113: Adam Zrelak | C113: 2. Liga Deutschland | D113: 675000 | E113: =VLOOKUP($D113,Zusammenführung!$S$7:$AD$118,4,0) -> 800000 | F113: =VLOOKUP($D113,Zusammenführung!$S$7:$AD$118,7,0) -> 600000 | G113: =VLOOKUP($D113,Zusammenführung!$S$7:$AD$118,10,0) -> 651509.05 | H113: =VLOOKUP(E113,Zusammenführung!V$7:X$118,3,0) -> 6 | I113: =VLOOKUP(F113,Zusammenführung!$Y$7:$AA$118,3,0) -> 8 | J113: =VLOOKUP(G113,Zusammenführung!$AB$7:$AD$118,3,0) -> 39 | S113: 128000000 | T113: =COUNTIF(Daten!$D$1:$D$2170,S113) -> 2 | U113: =T113/$T$114 -> 0.00092208391 | V113: =SUM($U$2:U113) -> 1 | W113: =S113*T113 -> 256000000 | X113: =W113/$W$114 -> 0.032683243 | Y113: =SUM($X$2:X113) -> 1
A114: A0113 | B114: Fabian Schleusener | C114: 2. Liga Deutschland | D114: 675000 | E114: =VLOOKUP($D114,Zusammenführung!$S$7:$AD$118,4,0) -> 800000 | F114: =VLOOKUP($D114,Zusammenführung!$S$7:$AD$118,7,0) -> 600000 | G114: =VLOOKUP($D114,Zusammenführung!$S$7:$AD$118,10,0) -> 651509.05 | H114: =VLOOKUP(E114,Zusammenführung!V$7:X$118,3,0) -> 6 | I114: =VLOOKUP(F114,Zusammenführung!$Y$7:$AA$118,3,0) -> 8 | J114: =VLOOKUP(G114,Zusammenführung!$AB$7:$AD$118,3,0) -> 39 | S114: =CONCATENATE("GESAMT ",COUNTIF(S2:S113,">0")) -> GESAMT 112 | T114: =SUM(T2:T113) -> 2169 | U114: =SUM(U2:U113) -> 1 | W114: =SUM(W2:W113) -> 7832760000 | X114: =SUM(X2:X113) -> 1
A115: A0114 | B115: Havard Nielsen | C115: 2. Liga Deutschland | D115: 675000 | E115: =VLOOKUP($D115,Zusammenführung!$S$7:$AD$118,4,0) -> 800000 | F115: =VLOOKUP($D115,Zusammenführung!$S$7:$AD$118,7,0) -> 600000 | G115: =VLOOKUP($D115,Zusammenführung!$S$7:$AD$118,10,0) -> 651509.05 | H115: =VLOOKUP(E115,Zusammenführung!V$7:X$118,3,0) -> 6 | I115: =VLOOKUP(F115,Zusammenführung!$Y$7:$AA$118,3,0) -> 8 | J115: =VLOOKUP(G115,Zusammenführung!$AB$7:$AD$118,3,0) -> 39
A116: A0115 | B116: Robert Leipertz | C116: 2. Liga Deutschland | D116: 675000 | E116: =VLOOKUP($D116,Zusammenführung!$S$7:$AD$118,4,0) -> 800000 | F116: =VLOOKUP($D116,Zusammenführung!$S$7:$AD$118,7,0) -> 600000 | G116: =VLOOKUP($D116,Zusammenführung!$S$7:$AD$118,10,0) -> 651509.05 | H116: =VLOOKUP(E116,Zusammenführung!V$7:X$118,3,0) -> 6 | I116: =VLOOKUP(F116,Zusammenführung!$Y$7:$AA$118,3,0) -> 8 | J116: =VLOOKUP(G116,Zusammenführung!$AB$7:$AD$118,3,0) -> 39
A117: A0116 | B117: David Atanga | C117: 2. Liga Deutschland | D117: 650000 | E117: =VLOOKUP($D117,Zusammenführung!$S$7:$AD$118,4,0) -> 500000 | F117: =VLOOKUP($D117,Zusammenführung!$S$7:$AD$118,7,0) -> 600000 | G117: =VLOOKUP($D117,Zusammenführung!$S$7:$AD$118,10,0) -> 651509.05 | H117: =VLOOKUP(E117,Zusammenführung!V$7:X$118,3,0) -> 5 | I117: =VLOOKUP(F117,Zusammenführung!$Y$7:$AA$118,3,0) -> 8 | J117: =VLOOKUP(G117,Zusammenführung!$AB$7:$AD$118,3,0) -> 39
A118: A0117 | B118: Jann George | C118: 2. Liga Deutschland | D118: 650000 | E118: =VLOOKUP($D118,Zusammenführung!$S$7:$AD$118,4,0) -> 500000 | F118: =VLOOKUP($D118,Zusammenführung!$S$7:$AD$118,7,0) -> 600000 | G118: =VLOOKUP($D118,Zusammenführung!$S$7:$AD$118,10,0) -> 651509.05 | H118: =VLOOKUP(E118,Zusammenführung!V$7:X$118,3,0) -> 5 | I118: =VLOOKUP(F118,Zusammenführung!$Y$7:$AA$118,3,0) -> 8 | J118: =VLOOKUP(G118,Zusammenführung!$AB$7:$AD$118,3,0) -> 39
A119: A0118 | B119: Ryo Miyaichi | C119: 2. Liga Deutschland | D119: 650000 | E119: =VLOOKUP($D119,Zusammenführung!$S$7:$AD$118,4,0) -> 500000 | F119: =VLOOKUP($D119,Zusammenführung!$S$7:$AD$118,7,0) -> 600000 | G119: =VLOOKUP($D119,Zusammenführung!$S$7:$AD$118,10,0) -> 651509.05 | H119: =VLOOKUP(E119,Zusammenführung!V$7:X$118,3,0) -> 5 | I119: =VLOOKUP(F119,Zusammenführung!$Y$7:$AA$118,3,0) -> 8 | J119: =VLOOKUP(G119,Zusammenführung!$AB$7:$AD$118,3,0) -> 39
A120: A0119 | B120: Bobby Wood | C120: 2. Liga Deutschland | D120: 600000 | E120: =VLOOKUP($D120,Zusammenführung!$S$7:$AD$118,4,0) -> 500000 | F120: =VLOOKUP($D120,Zusammenführung!$S$7:$AD$118,7,0) -> 600000 | G120: =VLOOKUP($D120,Zusammenführung!$S$7:$AD$118,10,0) -> 604426.56 | H120: =VLOOKUP(E120,Zusammenführung!V$7:X$118,3,0) -> 5 | I120: =VLOOKUP(F120,Zusammenführung!$Y$7:$AA$118,3,0) -> 8 | J120: =VLOOKUP(G120,Zusammenführung!$AB$7:$AD$118,3,0) -> 38
A121: A0120 | B121: Daniel-Kofi Kyereh | C121: 2. Liga Deutschland | D121: 600000 | E121: =VLOOKUP($D121,Zusammenführung!$S$7:$AD$118,4,0) -> 500000 | F121: =VLOOKUP($D121,Zusammenführung!$S$7:$AD$118,7,0) -> 600000 | G121: =VLOOKUP($D121,Zusammenführung!$S$7:$AD$118,10,0) -> 604426.56 | H121: =VLOOKUP(E121,Zusammenführung!V$7:X$118,3,0) -> 5 | I121: =VLOOKUP(F121,Zusammenführung!$Y$7:$AA$118,3,0) -> 8 | J121: =VLOOKUP(G121,Zusammenführung!$AB$7:$AD$118,3,0) -> 38
A122: A0121 | B122: Florian Flecker | C122: 2. Liga Deutschland | D122: 600000 | E122: =VLOOKUP($D122,Zusammenführung!$S$7:$AD$118,4,0) -> 500000 | F122: =VLOOKUP($D122,Zusammenführung!$S$7:$AD$118,7,0) -> 600000 | G122: =VLOOKUP($D122,Zusammenführung!$S$7:$AD$118,10,0) -> 604426.56 | H122: =VLOOKUP(E122,Zusammenführung!V$7:X$118,3,0) -> 5 | I122: =VLOOKUP(F122,Zusammenführung!$Y$7:$AA$118,3,0) -> 8 | J122: =VLOOKUP(G122,Zusammenführung!$AB$7:$AD$118,3,0) -> 38
A123: A0122 | B123: Mathias Honsak | C123: 2. Liga Deutschland | D123: 600000 | E123: =VLOOKUP($D123,Zusammenführung!$S$7:$AD$118,4,0) -> 500000 | F123: =VLOOKUP($D123,Zusammenführung!$S$7:$AD$118,7,0) -> 600000 | G123: =VLOOKUP($D123,Zusammenführung!$S$7:$AD$118,10,0) -> 604426.56 | H123: =VLOOKUP(E123,Zusammenführung!V$7:X$118,3,0) -> 5 | I123: =VLOOKUP(F123,Zusammenführung!$Y$7:$AA$118,3,0) -> 8 | J123: =VLOOKUP(G123,Zusammenführung!$AB$7:$AD$118,3,0) -> 38
A124: A0123 | B124: Simon Zoller | C124: 2. Liga Deutschland | D124: 600000 | E124: =VLOOKUP($D124,Zusammenführung!$S$7:$AD$118,4,0) -> 500000 | F124: =VLOOKUP($D124,Zusammenführung!$S$7:$AD$118,7,0) -> 600000 | G124: =VLOOKUP($D124,Zusammenführung!$S$7:$AD$118,10,0) -> 604426.56 | H124: =VLOOKUP(E124,Zusammenführung!V$7:X$118,3,0) -> 5 | I124: =VLOOKUP(F124,Zusammenführung!$Y$7:$AA$118,3,0) -> 8 | J124: =VLOOKUP(G124,Zusammenführung!$AB$7:$AD$118,3,0) -> 38
A125: A0124 | B125: Christian Kühlwetter | C125: 2. Liga Deutschland | D125: 550000 | E125: =VLOOKUP($D125,Zusammenführung!$S$7:$AD$118,4,0) -> 500000 | F125: =VLOOKUP($D125,Zusammenführung!$S$7:$AD$118,7,0) -> 600000 | G125: =VLOOKUP($D125,Zusammenführung!$S$7:$AD$118,10,0) -> 558551.31 | H125: =VLOOKUP(E125,Zusammenführung!V$7:X$118,3,0) -> 5 | I125: =VLOOKUP(F125,Zusammenführung!$Y$7:$AA$118,3,0) -> 8 | J125: =VLOOKUP(G125,Zusammenführung!$AB$7:$AD$118,3,0) -> 37
A126: A0125 | B126: Simon Makienok | C126: 2. Liga Deutschland | D126: 550000 | E126: =VLOOKUP($D126,Zusammenführung!$S$7:$AD$118,4,0) -> 500000 | F126: =VLOOKUP($D126,Zusammenführung!$S$7:$AD$118,7,0) -> 600000 | G126: =VLOOKUP($D126,Zusammenführung!$S$7:$AD$118,10,0) -> 558551.31 | H126: =VLOOKUP(E126,Zusammenführung!V$7:X$118,3,0) -> 5 | I126: =VLOOKUP(F126,Zusammenführung!$Y$7:$AA$118,3,0) -> 8 | J126: =VLOOKUP(G126,Zusammenführung!$AB$7:$AD$118,3,0) -> 37
... A2170: A2169 | B2170: Kristian Dennis | C2170: 1. Liga Schottland | D2170: 100000 | E2170: =VLOOKUP($D2170,Zusammenführung!$S$7:$AD$118,4,0) -> 100000 | F2170: =VLOOKUP($D2170,Zusammenführung!$S$7:$AD$118,7,0) -> 100000 | G2170: =VLOOKUP($D2170,Zusammenführung!$S$7:$AD$118,10,0) -> 102325.58 | H2170: =VLOOKUP(E2170,Zusammenführung!V$7:X$118,3,0) -> 3 | I2170: =VLOOKUP(F2170,Zusammenführung!$Y$7:$AA$118,3,0) -> 3 | J2170: =VLOOKUP(G2170,Zusammenführung!$AB$7:$AD$118,3,0) -> 20

Sheet Zusammenführung
A2: Grundwerte | C2: Für das klassisches Stärkesytem 1-12 (13). Zuordnung erfogt über die kleinste Differenz zu den Zielmarktwerten. | H2: Für ein Stärkesytem 1-20 (21). Zuordnung erfogt über die kleinste Differenz zu den Zielmarktwerten. | M2: Für ein Stärkesytem 1-100. Zuordnung erfogt über die kleinste Differenz zu den Zielmarktwerten.
A4: Marktwert | B4: Anzahl | C4: Stärken | D4: Marktwert | E4: Anzahl | F4: Marktwerte | G4: Anzahl | H4: Stärken | I4: Marktwert | J4: Anzahl | K4: Marktwerte | L4: Anzahl | M4: Stärken | N4: Marktwert | O4: Anzahl | P4: Marktwerte | Q4: Anzahl | R4: Kennung | S4: Marktwert | T4: Anzahl | U4: Stärke | V4: Marktwert | W4: Anzahl | X4: Stärke | Y4: Marktwert | Z4: Anzahl | AA4: Stärke | AB4: Marktwert | AC4: Anzahl | AD4: Stärke | AE4: Erwartung
C5: 1-12(13) | D5: bei Stärke | E5: Spieler | F5: Nach Verteilung | G5: Spieler | H5: 1-20(21) | I5: bei Stärke | J5: Spieler | K5: Nach Verteilung | L5: Spieler | M5: 1-100 | N5: bei Stärke | O5: Spieler | P5: Nach Verteilung | Q5: Spieler | S5: Standard | T5: Standard | U5: Standard | V5: 1-12 (13) | W5: 1-12 (13) | X5: 1-12 (13) | Y5: 1-20(21) | Z5: =Y5 -> 1-20(21) | AA5: =Z5 -> 1-20(21) | AB5: 1-100 | AC5: =AB5 -> 1-100 | AD5: =AC5 -> 1-100
A6: =COUNT(A7:A118) -> 112 | B6: =SUM(B7:B118) -> 2169 | C6: =COUNT(C7:C118) -> 13 | E6: =SUM(E7:E118) -> 2169 | G6: =SUM(G7:G118) -> 2169 | H6: =COUNT(H7:H118) -> 21 | J6: =SUM(J7:J118) -> 2169 | L6: =SUM(L7:L118) -> 2169 | M6: =COUNT(M7:M118) -> 100 | O6: =SUM(O7:O118) -> 2169 | Q6: =SUM(Q7:Q118) -> 2169 | AE6: =AE119 -> 2193
A7: 25000 | B7: 26 | C7: 1 | D7: 25000 | E7: =SUMIF(F$7:F$118,D7,G$7:G$118) -> 26 | F7: {=IF((SMALL(IF(D$7:D$19>=$A7,D$7:D$19),1)-$A7)<(IF($A7-IFERROR(LARGE(IF(D$7:D$19<=$A7,D$7:D$19),1),D$19)<0,$A7+IFERROR(LARGE(IF(D$7:D$19<=$A7,D$7:D$19),1),D$19),$A7-IFERROR(LARGE(IF(D$7:D$19<=$A7,D$7:D$19),1),D$19))),SMALL(IF(D$7:D$19>=$A7,D$7:D$19),1),IFERROR(LARGE(IF(D$7:D$19<=$A7,D$7:D$19),1),D$19))} -> 25000 | G7: =B7 -> 26 | H7: 1 | I7: 25000 | J7: =SUMIF(K$7:K$118,I7,L$7:L$118) -> 26 | K7: {=IF((SMALL(IF(I$7:I$27>=$A7,I$7:I$27),1)-$A7)<(IF($A7-IFERROR(LARGE(IF(I$7:I$27<=$A7,I$7:I$27),1),I$19)<0,$A7+IFERROR(LARGE(IF(I$7:I$27<=$A7,I$7:I$27),1),I$27),$A7-IFERROR(LARGE(IF(I$7:I$27<=$A7,I$7:I$27),1),I$19))),SMALL(IF(I$7:I$27>=$A7,I$7:I$27),1),IFERROR(LARGE(IF(I$7:I$27<=$A7,I$7:I$27),1),I$27))} -> 25000 | L7: =B7 -> 26 | M7: 1 | N7: =N6+((($N$13-$N$6)/SUM($M$7:$M$13)*M7)) -> 892.85714 | O7: =SUMIF(P$7:P$118,N7,Q$7:Q$118) -> 0 | P7: {=IF((SMALL(IF(N$7:N$106>=$A7,N$7:N$106),1)-$A7)<(IF($A7-IFERROR(LARGE(IF(N$7:N$106<=$A7,N$7:N$106),1),N$106)<0,$A7+IFERROR(LARGE(IF(N$7:N$106<=$A7,N$7:N$106),1),N$106),$A7-IFERROR(LARGE(IF(N$7:N$106<=$A7,N$7:N$106),1),N$106))),SMALL(IF(N$7:N$106>=$A7,N$7:N$106),1),IFERROR(LARGE(IF(N$7:N$106<=$A7,N$7:N$106),1),N$106))} -> 25000 | Q7: =G7 -> 26 | R7: 1 | S7: =A7 -> 25000 | T7: =B7 -> 26 | U7: =R7 -> 1 | V7: =F7 -> 25000 | W7: =VLOOKUP(V7,D$7:E$19,2,0)/COUNTIF(V$7:V$118,V7) -> 26 | X7: =INDIRECT("C"&MATCH(V7,$D$7:$D$19,0)+6) -> 1 | Y7: =K7 -> 25000 | Z7: =VLOOKUP(Y7,$I$7:$J$27,2,0)/COUNTIF(Y$7:Y$118,Y7) -> 26 | AA7: =INDIRECT("H"&MATCH(Y7,$I$7:$I$27,0)+6) -> 1 | AB7: =P7 -> 25000 | AC7: =VLOOKUP(AB7,$N$7:$O$106,2,0)/COUNTIF(AB$7:AB$118,AB7) -> 26 | AD7: =INDIRECT("M"&MATCH(AB7,$N$7:$N$106,0)+6) -> 7 | AE7: 66 | AF7: 112
A8: 50000 | B8: 98 | C8: 2 | D8: 50000 | E8: =SUMIF(F$7:F$118,D8,G$7:G$118) -> 208 | F8: {=IF((SMALL(IF(D$7:D$19>=A8,D$7:D$19),1)-A8)<(IF(A8-IFERROR(LARGE(IF(D$7:D$19<=A8,D$7:D$19),1),D$19)<0,A8+IFERROR(LARGE(IF(D$7:D$19<=A8,D$7:D$19),1),D$19),A8-IFERROR(LARGE(IF(D$7:D$19<=A8,D$7:D$19),1),D$19))),SMALL(IF(D$7:D$19>=A8,D$7:D$19),1),IFERROR(LARGE(IF(D$7:D$19<=A8,D$7:D$19),1),D$19))} -> 50000 | G8: =B8 -> 98 | H8: 2 | I8: 50000 | J8: =SUMIF(K$7:K$118,I8,L$7:L$118) -> 208 | K8: {=IF((SMALL(IF(I$7:I$27>=$A8,I$7:I$27),1)-$A8)<(IF($A8-IFERROR(LARGE(IF(I$7:I$27<=$A8,I$7:I$27),1),I$19)<0,$A8+IFERROR(LARGE(IF(I$7:I$27<=$A8,I$7:I$27),1),I$27),$A8-IFERROR(LARGE(IF(I$7:I$27<=$A8,I$7:I$27),1),I$19))),SMALL(IF(I$7:I$27>=$A8,I$7:I$27),1),IFERROR(LARGE(IF(I$7:I$27<=$A8,I$7:I$27),1),I$27))} -> 50000 | L8: =B8 -> 98 | M8: 2 | N8: =N7+((($N$13-$N$6)/SUM($M$7:$M$13)*M8)) -> 2678.5714 | O8: =SUMIF(P$7:P$118,N8,Q$7:Q$118) -> 0 | P8: {=IF((SMALL(IF(N$7:N$106>=$A8,N$7:N$106),1)-$A8)<(IF($A8-IFERROR(LARGE(IF(N$7:N$106<=$A8,N$7:N$106),1),N$106)<0,$A8+IFERROR(LARGE(IF(N$7:N$106<=$A8,N$7:N$106),1),N$106),$A8-IFERROR(LARGE(IF(N$7:N$106<=$A8,N$7:N$106),1),N$106))),SMALL(IF(N$7:N$106>=$A8,N$7:N$106),1),IFERROR(LARGE(IF(N$7:N$106<=$A8,N$7:N$106),1),N$106))} -> 50000 | Q8: =G8 -> 98 | R8: 2 | S8: =A8 -> 50000 | T8: =B8 -> 98 | U8: =R8 -> 2 | V8: =F8 -> 50000 | W8: =VLOOKUP(V8,D$7:E$19,2,0)/COUNTIF(V$7:V$118,V8) -> 69.333333 | X8: =INDIRECT("C"&MATCH(V8,$D$7:$D$19,0)+6) -> 2 | Y8: =K8 -> 50000 | Z8: =VLOOKUP(Y8,$I$7:$J$27,2,0)/COUNTIF(Y$7:Y$118,Y8) -> 69.333333 | AA8: =INDIRECT("H"&MATCH(Y8,$I$7:$I$27,0)+6) -> 2 | AB8: =P8 -> 50000 | AC8: =VLOOKUP(AB8,$N$7:$O$106,2,0)/COUNTIF(AB$7:AB$118,AB8) -> 98 | AD8: =INDIRECT("M"&MATCH(AB8,$N$7:$N$106,0)+6) -> 14 | AE8: =ROUND(AE9+(($AE$7-$AE$118)/SUM($AF$7:$AF$117)*AF8),0) -> 64 | AF8: 111
A9: 60000 | B9: 1 | C9: 3 | D9: 100000 | E9: =SUMIF(F$7:F$118,D9,G$7:G$118) -> 249 | F9: {=IF((SMALL(IF(D$7:D$19>=A9,D$7:D$19),1)-A9)<(IF(A9-IFERROR(LARGE(IF(D$7:D$19<=A9,D$7:D$19),1),D$19)<0,A9+IFERROR(LARGE(IF(D$7:D$19<=A9,D$7:D$19),1),D$19),A9-IFERROR(LARGE(IF(D$7:D$19<=A9,D$7:D$19),1),D$19))),SMALL(IF(D$7:D$19>=A9,D$7:D$19),1),IFERROR(LARGE(IF(D$7:D$19<=A9,D$7:D$19),1),D$19))} -> 50000 | G9: =B9 -> 1 | H9: 3 | I9: 100000 | J9: =SUMIF(K$7:K$118,I9,L$7:L$118) -> 156 | K9: {=IF((SMALL(IF(I$7:I$27>=$A9,I$7:I$27),1)-$A9)<(IF($A9-IFERROR(LARGE(IF(I$7:I$27<=$A9,I$7:I$27),1),I$19)<0,$A9+IFERROR(LARGE(IF(I$7:I$27<=$A9,I$7:I$27),1),I$27),$A9-IFERROR(LARGE(IF(I$7:I$27<=$A9,I$7:I$27),1),I$19))),SMALL(IF(I$7:I$27>=$A9,I$7:I$27),1),IFERROR(LARGE(IF(I$7:I$27<=$A9,I$7:I$27),1),I$27))} -> 50000 | L9: =B9 -> 1 | M9: 3 | N9: =N8+((($N$13-$N$6)/SUM($M$7:$M$13)*M9)) -> 5357.1429 | O9: =SUMIF(P$7:P$118,N9,Q$7:Q$118) -> 0 | P9: {=IF((SMALL(IF(N$7:N$106>=$A9,N$7:N$106),1)-$A9)<(IF($A9-IFERROR(LARGE(IF(N$7:N$106<=$A9,N$7:N$106),1),N$106)<0,$A9+IFERROR(LARGE(IF(N$7:N$106<=$A9,N$7:N$106),1),N$106),$A9-IFERROR(LARGE(IF(N$7:N$106<=$A9,N$7:N$106),1),N$106))),SMALL(IF(N$7:N$106>=$A9,N$7:N$106),1),IFERROR(LARGE(IF(N$7:N$106<=$A9,N$7:N$106),1),N$106))} -> 57475.083 | Q9: =G9 -> 1 | R9: 3 | S9: =A9 -> 60000 | T9: =B9 -> 1 | U9: =R9 -> 3 | V9: =F9 -> 50000 | W9: =VLOOKUP(V9,D$7:E$19,2,0)/COUNTIF(V$7:V$118,V9) -> 69.333333 | X9: =INDIRECT("C"&MATCH(V9,$D$7:$D$19,0)+6) -> 2 | Y9: =K9 -> 50000 | Z9: =VLOOKUP(Y9,$I$7:$J$27,2,0)/COUNTIF(Y$7:Y$118,Y9) -> 69.333333 | AA9: =INDIRECT("H"&MATCH(Y9,$I$7:$I$27,0)+6) -> 2 | AB9: =P9 -> 57475.083 | AC9: =VLOOKUP(AB9,$N$7:$O$106,2,0)/COUNTIF(AB$7:AB$118,AB9) -> 1 | AD9: =INDIRECT("M"&MATCH(AB9,$N$7:$N$106,0)+6) -> 15 | AE9: =ROUND(AE10+(($AE$7-$AE$118)/SUM($AF$7:$AF$117)*AF9),0) -> 63 | AF9: 110
A10: 75000 | B10: 109 | C10: 4 | D10: 200000 | E10: =SUMIF(F$7:F$118,D10,G$7:G$118) -> 455 | F10: {=IF((SMALL(IF(D$7:D$19>=A10,D$7:D$19),1)-A10)<(IF(A10-IFERROR(LARGE(IF(D$7:D$19<=A10,D$7:D$19),1),D$19)<0,A10+IFERROR(LARGE(IF(D$7:D$19<=A10,D$7:D$19),1),D$19),A10-IFERROR(LARGE(IF(D$7:D$19<=A10,D$7:D$19),1),D$19))),SMALL(IF(D$7:D$19>=A10,D$7:D$19),1),IFERROR(LARGE(IF(D$7:D$19<=A10,D$7:D$19),1),D$19))} -> 50000 | G10: =B10 -> 109 | H10: 4 | I10: 150000 | J10: =SUMIF(K$7:K$118,I10,L$7:L$118) -> 124 | K10: {=IF((SMALL(IF(I$7:I$27>=$A10,I$7:I$27),1)-$A10)<(IF($A10-IFERROR(LARGE(IF(I$7:I$27<=$A10,I$7:I$27),1),I$19)<0,$A10+IFERROR(LARGE(IF(I$7:I$27<=$A10,I$7:I$27),1),I$27),$A10-IFERROR(LARGE(IF(I$7:I$27<=$A10,I$7:I$27),1),I$19))),SMALL(IF(I$7:I$27>=$A10,I$7:I$27),1),IFERROR(LARGE(IF(I$7:I$27<=$A10,I$7:I$27),1),I$27))} -> 50000 | L10: =B10 -> 109 | M10: 4 | N10: =N9+((($N$13-$N$6)/SUM($M$7:$M$13)*M10)) -> 8928.5714 | O10: =SUMIF(P$7:P$118,N10,Q$7:Q$118) -> 0 | P10: {=IF((SMALL(IF(N$7:N$106>=$A10,N$7:N$106),1)-$A10)<(IF($A10-IFERROR(LARGE(IF(N$7:N$106<=$A10,N$7:N$106),1),N$106)<0,$A10+IFERROR(LARGE(IF(N$7:N$106<=$A10,N$7:N$106),1),N$106),$A10-IFERROR(LARGE(IF(N$7:N$106<=$A10,N$7:N$106),1),N$106))),SMALL(IF(N$7:N$106>=$A10,N$7:N$106),1),IFERROR(LARGE(IF(N$7:N$106<=$A10,N$7:N$106),1),N$106))} -> 73920.266 | Q10: =G10 -> 109 | R10: 4 | S10: =A10 -> 75000 | T10: =B10 -> 109 | U10: =R10 -> 4 | V10: =F10 -> 50000 | W10: =VLOOKUP(V10,D$7:E$19,2,0)/COUNTIF(V$7:V$118,V10) -> 69.333333 | X10: =INDIRECT("C"&MATCH(V10,$D$7:$D$19,0)+6) -> 2 | Y10: =K10 -> 50000 | Z10: =VLOOKUP(Y10,$I$7:$J$27,2,0)/COUNTIF(Y$7:Y$118,Y10) -> 69.333333 | AA10: =INDIRECT("H"&MATCH(Y10,$I$7:$I$27,0)+6) -> 2 | AB10: =P10 -> 73920.266 | AC10: =VLOOKUP(AB10,$N$7:$O$106,2,0)/COUNTIF(AB$7:AB$118,AB10) -> 109 | AD10: =INDIRECT("M"&MATCH(AB10,$N$7:$N$106,0)+6) -> 17 | AE10: =ROUND(AE11+(($AE$7-$AE$118)/SUM($AF$7:$AF$117)*AF10),0) -> 62 | AF10: 109
A11: 100000 | B11: 120 | C11: 5 | D11: 500000 | E11: =SUMIF(F$7:F$118,D11,G$7:G$118) -> 300 | F11: {=IF((SMALL(IF(D$7:D$19>=A11,D$7:D$19),1)-A11)<(IF(A11-IFERROR(LARGE(IF(D$7:D$19<=A11,D$7:D$19),1),D$19)<0,A11+IFERROR(LARGE(IF(D$7:D$19<=A11,D$7:D$19),1),D$19),A11-IFERROR(LARGE(IF(D$7:D$19<=A11,D$7:D$19),1),D$19))),SMALL(IF(D$7:D$19>=A11,D$7:D$19),1),IFERROR(LARGE(IF(D$7:D$19<=A11,D$7:D$19),1),D$19))} -> 100000 | G11: =B11 -> 120 | H11: 5 | I11: 200000 | J11: =SUMIF(K$7:K$118,I11,L$7:L$118) -> 224 | K11: {=IF((SMALL(IF(I$7:I$27>=$A11,I$7:I$27),1)-$A11)<(IF($A11-IFERROR(LARGE(IF(I$7:I$27<=$A11,I$7:I$27),1),I$19)<0,$A11+IFERROR(LARGE(IF(I$7:I$27<=$A11,I$7:I$27),1),I$27),$A11-IFERROR(LARGE(IF(I$7:I$27<=$A11,I$7:I$27),1),I$19))),SMALL(IF(I$7:I$27>=$A11,I$7:I$27),1),IFERROR(LARGE(IF(I$7:I$27<=$A11,I$7:I$27),1),I$27))} -> 100000 | L11: =B11 -> 120 | M11: 5 | N11: =N10+((($N$13-$N$6)/SUM($M$7:$M$13)*M11)) -> 13392.857 | O11: =SUMIF(P$7:P$118,N11,Q$7:Q$118) -> 0 | P11: {=IF((SMALL(IF(N$7:N$106>=$A11,N$7:N$106),1)-$A11)<(IF($A11-IFERROR(LARGE(IF(N$7:N$106<=$A11,N$7:N$106),1),N$106)<0,$A11+IFERROR(LARGE(IF(N$7:N$106<=$A11,N$7:N$106),1),N$106),$A11-IFERROR(LARGE(IF(N$7:N$106<=$A11,N$7:N$106),1),N$106))),SMALL(IF(N$7:N$106>=$A11,N$7:N$106),1),IFERROR(LARGE(IF(N$7:N$106<=$A11,N$7:N$106),1),N$106))} -> 102325.58 | Q11: =G11 -> 120 | R11: 5 | S11: =A11 -> 100000 | T11: =B11 -> 120 | U11: =R11 -> 5 | V11: =F11 -> 100000 | W11: =VLOOKUP(V11,D$7:E$19,2,0)/COUNTIF(V$7:V$118,V11) -> 83 | X11: =INDIRECT("C"&MATCH(V11,$D$7:$D$19,0)+6) -> 3 | Y11: =K11 -> 100000 | Z11: =VLOOKUP(Y11,$I$7:$J$27,2,0)/COUNTIF(Y$7:Y$118,Y11) -> 78 | AA11: =INDIRECT("H"&MATCH(Y11,$I$7:$I$27,0)+6) -> 3 | AB11: =P11 -> 102325.58 | AC11: =VLOOKUP(AB11,$N$7:$O$106,2,0)/COUNTIF(AB$7:AB$118,AB11) -> 120 | AD11: =INDIRECT("M"&MATCH(AB11,$N$7:$N$106,0)+6) -> 20 | AE11: =ROUND(AE12+(($AE$7-$AE$118)/SUM($AF$7:$AF$117)*AF11),0) -> 61 | AF11: 108
A12: 125000 | B12: 36 | C12: 6 | D12: 800000 | E12: =SUMIF(F$7:F$118,D12,G$7:G$118) -> 224 | F12: {=IF((SMALL(IF(D$7:D$19>=A12,D$7:D$19),1)-A12)<(IF(A12-IFERROR(LARGE(IF(D$7:D$19<=A12,D$7:D$19),1),D$19)<0,A12+IFERROR(LARGE(IF(D$7:D$19<=A12,D$7:D$19),1),D$19),A12-IFERROR(LARGE(IF(D$7:D$19<=A12,D$7:D$19),1),D$19))),SMALL(IF(D$7:D$19>=A12,D$7:D$19),1),IFERROR(LARGE(IF(D$7:D$19<=A12,D$7:D$19),1),D$19))} -> 100000 | G12: =B12 -> 36 | H12: 6 | I12: 300000 | J12: =SUMIF(K$7:K$118,I12,L$7:L$118) -> 200 | K12: {=IF((SMALL(IF(I$7:I$27>=$A12,I$7:I$27),1)-$A12)<(IF($A12-IFERROR(LARGE(IF(I$7:I$27<=$A12,I$7:I$27),1),I$19)<0,$A12+IFERROR(LARGE(IF(I$7:I$27<=$A12,I$7:I$27),1),I$27),$A12-IFERROR(LARGE(IF(I$7:I$27<=$A12,I$7:I$27),1),I$19))),SMALL(IF(I$7:I$27>=$A12,I$7:I$27),1),IFERROR(LARGE(IF(I$7:I$27<=$A12,I$7:I$27),1),I$27))} -> 100000 | L12: =B12 -> 36 | M12: 6 | N12: =N11+((($N$13-$N$6)/SUM($M$7:$M$13)*M12)) -> 18750 | O12: =SUMIF(P$7:P$118,N12,Q$7:Q$118) -> 0 | P12: {=IF((SMALL(IF(N$7:N$106>=$A12,N$7:N$106),1)-$A12)<(IF($A12-IFERROR(LARGE(IF(N$7:N$106<=$A12,N$7:N$106),1),N$106)<0,$A12+IFERROR(LARGE(IF(N$7:N$106<=$A12,N$7:N$106),1),N$106),$A12-IFERROR(LARGE(IF(N$7:N$106<=$A12,N$7:N$106),1),N$106))),SMALL(IF(N$7:N$106>=$A12,N$7:N$106),1),IFERROR(LARGE(IF(N$7:N$106<=$A12,N$7:N$106),1),N$106))} -> 123754.15 | Q12: =G12 -> 36 | R12: 6 | S12: =A12 -> 125000 | T12: =B12 -> 36 | U12: =R12 -> 6 | V12: =F12 -> 100000 | W12: =VLOOKUP(V12,D$7:E$19,2,0)/COUNTIF(V$7:V$118,V12) -> 83 | X12: =INDIRECT("C"&MATCH(V12,$D$7:$D$19,0)+6) -> 3 | Y12: =K12 -> 100000 | Z12: =VLOOKUP(Y12,$I$7:$J$27,2,0)/COUNTIF(Y$7:Y$118,Y12) -> 78 | AA12: =INDIRECT("H"&MATCH(Y12,$I$7:$I$27,0)+6) -> 3 | AB12: =P12 -> 123754.15 | AC12: =VLOOKUP(AB12,$N$7:$O$106,2,0)/COUNTIF(AB$7:AB$118,AB12) -> 36 | AD12: =INDIRECT("M"&MATCH(AB12,$N$7:$N$106,0)+6) -> 22 | AE12: =ROUND(AE13+(($AE$7-$AE$118)/SUM($AF$7:$AF$117)*AF12),0) -> 60 | AF12: 107
A13: 150000 | B13: 93 | C13: 7 | D13: 1500000 | E13: =SUMIF(F$7:F$118,D13,G$7:G$118) -> 208 | F13: {=IF((SMALL(IF(D$7:D$19>=A13,D$7:D$19),1)-A13)<(IF(A13-IFERROR(LARGE(IF(D$7:D$19<=A13,D$7:D$19),1),D$19)<0,A13+IFERROR(LARGE(IF(D$7:D$19<=A13,D$7:D$19),1),D$19),A13-IFERROR(LARGE(IF(D$7:D$19<=A13,D$7:D$19),1),D$19))),SMALL(IF(D$7:D$19>=A13,D$7:D$19),1),IFERROR(LARGE(IF(D$7:D$19<=A13,D$7:D$19),1),D$19))} -> 100000 | G13: =B13 -> 93 | H13: 7 | I13: 400000 | J13: =SUMIF(K$7:K$118,I13,L$7:L$118) -> 191 | K13: {=IF((SMALL(IF(I$7:I$27>=$A13,I$7:I$27),1)-$A13)<(IF($A13-IFERROR(LARGE(IF(I$7:I$27<=$A13,I$7:I$27),1),I$19)<0,$A13+IFERROR(LARGE(IF(I$7:I$27<=$A13,I$7:I$27),1),I$27),$A13-IFERROR(LARGE(IF(I$7:I$27<=$A13,I$7:I$27),1),I$19))),SMALL(IF(I$7:I$27>=$A13,I$7:I$27),1),IFERROR(LARGE(IF(I$7:I$27<=$A13,I$7:I$27),1),I$27))} -> 150000 | L13: =B13 -> 93 | M13: 7 | N13: 25000 | O13: =SUMIF(P$7:P$118,N13,Q$7:Q$118) -> 26 | P13: {=IF((SMALL(IF(N$7:N$106>=$A13,N$7:N$106),1)-$A13)<(IF($A13-IFERROR(LARGE(IF(N$7:N$106<=$A13,N$7:N$106),1),N$106)<0,$A13+IFERROR(LARGE(IF(N$7:N$106<=$A13,N$7:N$106),1),N$106),$A13-IFERROR(LARGE(IF(N$7:N$106<=$A13,N$7:N$106),1),N$106))),SMALL(IF(N$7:N$106>=$A13,N$7:N$106),1),IFERROR(LARGE(IF(N$7:N$106<=$A13,N$7:N$106),1),N$106))} -> 147176.08 | Q13: =G13 -> 93 | R13: 7 | S13: =A13 -> 150000 | T13: =B13 -> 93 | U13: =R13 -> 7 | V13: =F13 -> 100000 | W13: =VLOOKUP(V13,D$7:E$19,2,0)/COUNTIF(V$7:V$118,V13) -> 83 | X13: =INDIRECT("C"&MATCH(V13,$D$7:$D$19,0)+6) -> 3 | Y13: =K13 -> 150000 | Z13: =VLOOKUP(Y13,$I$7:$J$27,2,0)/COUNTIF(Y$7:Y$118,Y13) -> 62 | AA13: =INDIRECT("H"&MATCH(Y13,$I$7:$I$27,0)+6) -> 4 | AB13: =P13 -> 147176.08 | AC13: =VLOOKUP(AB13,$N$7:$O$106,2,0)/COUNTIF(AB$7:AB$118,AB13) -> 93 | AD13: =INDIRECT("M"&MATCH(AB13,$N$7:$N$106,0)+6) -> 24 | AE13: =ROUND(AE14+(($AE$7-$AE$118)/SUM($AF$7:$AF$117)*AF13),0) -> 59 | AF13: 106
A14: 175000 | B14: 31 | C14: 8 | D14: 3000000 | E14: =SUMIF(F$7:F$118,D14,G$7:G$118) -> 242 | F14: {=IF((SMALL(IF(D$7:D$19>=A14,D$7:D$19),1)-A14)<(IF(A14-IFERROR(LARGE(IF(D$7:D$19<=A14,D$7:D$19),1),D$19)<0,A14+IFERROR(LARGE(IF(D$7:D$19<=A14,D$7:D$19),1),D$19),A14-IFERROR(LARGE(IF(D$7:D$19<=A14,D$7:D$19),1),D$19))),SMALL(IF(D$7:D$19>=A14,D$7:D$19),1),IFERROR(LARGE(IF(D$7:D$19<=A14,D$7:D$19),1),D$19))} -> 200000 | G14: =B14 -> 31 | H14: 8 | I14: 600000 | J14: =SUMIF(K$7:K$118,I14,L$7:L$118) -> 136 | K14: {=IF((SMALL(IF(I$7:I$27>=$A14,I$7:I$27),1)-$A14)<(IF($A14-IFERROR(LARGE(IF(I$7:I$27<=$A14,I$7:I$27),1),I$19)<0,$A14+IFERROR(LARGE(IF(I$7:I$27<=$A14,I$7:I$27),1),I$27),$A14-IFERROR(LARGE(IF(I$7:I$27<=$A14,I$7:I$27),1),I$19))),SMALL(IF(I$7:I$27>=$A14,I$7:I$27),1),IFERROR(LARGE(IF(I$7:I$27<=$A14,I$7:I$27),1),I$27))} -> 150000 | L14: =B14 -> 31 | M14: 8 | N14: =N13+((($N$20-$N$13)/SUM($M$14:$M$20)*M14)) -> 27597.403 | O14: =SUMIF(P$7:P$118,N14,Q$7:Q$118) -> 0 | P14: {=IF((SMALL(IF(N$7:N$106>=$A14,N$7:N$106),1)-$A14)<(IF($A14-IFERROR(LARGE(IF(N$7:N$106<=$A14,N$7:N$106),1),N$106)<0,$A14+IFERROR(LARGE(IF(N$7:N$106<=$A14,N$7:N$106),1),N$106),$A14-IFERROR(LARGE(IF(N$7:N$106<=$A14,N$7:N$106),1),N$106))),SMALL(IF(N$7:N$106>=$A14,N$7:N$106),1),IFERROR(LARGE(IF(N$7:N$106<=$A14,N$7:N$106),1),N$106))} -> 172591.36 | Q14: =G14 -> 31 | R14: 8 | S14: =A14 -> 175000 | T14: =B14 -> 31 | U14: =R14 -> 8 | V14: =F14 -> 200000 | W14: =VLOOKUP(V14,D$7:E$19,2,0)/COUNTIF(V$7:V$118,V14) -> 56.875 | X14: =INDIRECT("C"&MATCH(V14,$D$7:$D$19,0)+6) -> 4 | Y14: =K14 -> 150000 | Z14: =VLOOKUP(Y14,$I$7:$J$27,2,0)/COUNTIF(Y$7:Y$118,Y14) -> 62 | AA14: =INDIRECT("H"&MATCH(Y14,$I$7:$I$27,0)+6) -> 4 | AB14: =P14 -> 172591.36 | AC14: =VLOOKUP(AB14,$N$7:$O$106,2,0)/COUNTIF(AB$7:AB$118,AB14) -> 31 | AD14: =INDIRECT("M"&MATCH(AB14,$N$7:$N$106,0)+6) -> 26 | AE14: =ROUND(AE15+(($AE$7-$AE$118)/SUM($AF$7:$AF$117)*AF14),0) -> 58 | AF14: 105
A15: 200000 | B15: 109 | C15: 9 | D15: 10000000 | E15: =SUMIF(F$7:F$118,D15,G$7:G$118) -> 161 | F15: {=IF((SMALL(IF(D$7:D$19>=A15,D$7:D$19),1)-A15)<(IF(A15-IFERROR(LARGE(IF(D$7:D$19<=A15,D$7:D$19),1),D$19)<0,A15+IFERROR(LARGE(IF(D$7:D$19<=A15,D$7:D$19),1),D$19),A15-IFERROR(LARGE(IF(D$7:D$19<=A15,D$7:D$19),1),D$19))),SMALL(IF(D$7:D$19>=A15,D$7:D$19),1),IFERROR(LARGE(IF(D$7:D$19<=A15,D$7:D$19),1),D$19))} -> 200000 | G15: =B15 -> 109 | H15: 9 | I15: 800000 | J15: =SUMIF(K$7:K$118,I15,L$7:L$118) -> 112 | K15: {=IF((SMALL(IF(I$7:I$27>=$A15,I$7:I$27),1)-$A15)<(IF($A15-IFERROR(LARGE(IF(I$7:I$27<=$A15,I$7:I$27),1),I$19)<0,$A15+IFERROR(LARGE(IF(I$7:I$27<=$A15,I$7:I$27),1),I$27),$A15-IFERROR(LARGE(IF(I$7:I$27<=$A15,I$7:I$27),1),I$19))),SMALL(IF(I$7:I$27>=$A15,I$7:I$27),1),IFERROR(LARGE(IF(I$7:I$27<=$A15,I$7:I$27),1),I$27))} -> 200000 | L15: =B15 -> 109 | M15: 9 | N15: =N14+((($N$20-$N$13)/SUM($M$14:$M$20)*M15)) -> 30519.481 | O15: =SUMIF(P$7:P$118,N15,Q$7:Q$118) -> 0 | P15: {=IF((SMALL(IF(N$7:N$106>=$A15,N$7:N$106),1)-$A15)<(IF($A15-IFERROR(LARGE(IF(N$7:N$106<=$A15,N$7:N$106),1),N$106)<0,$A15+IFERROR(LARGE(IF(N$7:N$106<=$A15,N$7:N$106),1),N$106),$A15-IFERROR(LARGE(IF(N$7:N$106<=$A15,N$7:N$106),1),N$106))),SMALL(IF(N$7:N$106>=$A15,N$7:N$106),1),IFERROR(LARGE(IF(N$7:N$106<=$A15,N$7:N$106),1),N$106))} -> 200000 | Q15: =G15 -> 109 | R15: 9 | S15: =A15 -> 200000 | T15: =B15 -> 109 | U15: =R15 -> 9 | V15: =F15 -> 200000 | W15: =VLOOKUP(V15,D$7:E$19,2,0)/COUNTIF(V$7:V$118,V15) -> 56.875 | X15: =INDIRECT("C"&MATCH(V15,$D$7:$D$19,0)+6) -> 4 | Y15: =K15 -> 200000 | Z15: =VLOOKUP(Y15,$I$7:$J$27,2,0)/COUNTIF(Y$7:Y$118,Y15) -> 74.666667 | AA15: =INDIRECT("H"&MATCH(Y15,$I$7:$I$27,0)+6) -> 5 | AB15: =P15 -> 200000 | AC15: =VLOOKUP(AB15,$N$7:$O$106,2,0)/COUNTIF(AB$7:AB$118,AB15) -> 109 | AD15: =INDIRECT("M"&MATCH(AB15,$N$7:$N$106,0)+6) -> 28 | AE15: =ROUND(AE16+(($AE$7-$AE$118)/SUM($AF$7:$AF$117)*AF15),0) -> 57 | AF15: 104
A16: 225000 | B16: 28 | C16: 10 | D16: 30000000 | E16: =SUMIF(F$7:F$118,D16,G$7:G$118) -> 75 | F16: {=IF((SMALL(IF(D$7:D$19>=A16,D$7:D$19),1)-A16)<(IF(A16-IFERROR(LARGE(IF(D$7:D$19<=A16,D$7:D$19),1),D$19)<0,A16+IFERROR(LARGE(IF(D$7:D$19<=A16,D$7:D$19),1),D$19),A16-IFERROR(LARGE(IF(D$7:D$19<=A16,D$7:D$19),1),D$19))),SMALL(IF(D$7:D$19>=A16,D$7:D$19),1),IFERROR(LARGE(IF(D$7:D$19<=A16,D$7:D$19),1),D$19))} -> 200000 | G16: =B16 -> 28 | H16: 10 | I16: 1000000 | J16: =SUMIF(K$7:K$118,I16,L$7:L$118) -> 133 | K16: {=IF((SMALL(IF(I$7:I$27>=$A16,I$7:I$27),1)-$A16)<(IF($A16-IFERROR(LARGE(IF(I$7:I$27<=$A16,I$7:I$27),1),I$19)<0,$A16+IFERROR(LARGE(IF(I$7:I$27<=$A16,I$7:I$27),1),I$27),$A16-IFERROR(LARGE(IF(I$7:I$27<=$A16,I$7:I$27),1),I$19))),SMALL(IF(I$7:I$27>=$A16,I$7:I$27),1),IFERROR(LARGE(IF(I$7:I$27<=$A16,I$7:I$27),1),I$27))} -> 200000 | L16: =B16 -> 28 | M16: 10 | N16: =N15+((($N$20-$N$13)/SUM($M$14:$M$20)*M16)) -> 33766.234 | O16: =SUMIF(P$7:P$118,N16,Q$7:Q$118) -> 0 | P16: {=IF((SMALL(IF(N$7:N$106>=$A16,N$7:N$106),1)-$A16)<(IF($A16-IFERROR(LARGE(IF(N$7:N$106<=$A16,N$7:N$106),1),N$106)<0,$A16+IFERROR(LARGE(IF(N$7:N$106<=$A16,N$7:N$106),1),N$106),$A16-IFERROR(LARGE(IF(N$7:N$106<=$A16,N$7:N$106),1),N$106))),SMALL(IF(N$7:N$106>=$A16,N$7:N$106),1),IFERROR(LARGE(IF(N$7:N$106<=$A16,N$7:N$106),1),N$106))} -> 235010.06 | Q16: =G16 -> 28 | R16: 10 | S16: =A16 -> 225000 | T16: =B16 -> 28 | U16: =R16 -> 10 | V16: =F16 -> 200000 | W16: =VLOOKUP(V16,D$7:E$19,2,0)/COUNTIF(V$7:V$118,V16) -> 56.875 | X16: =INDIRECT("C"&MATCH(V16,$D$7:$D$19,0)+6) -> 4 | Y16: =K16 -> 200000 | Z16: =VLOOKUP(Y16,$I$7:$J$27,2,0)/COUNTIF(Y$7:Y$118,Y16) -> 74.666667 | AA16: =INDIRECT("H"&MATCH(Y16,$I$7:$I$27,0)+6) -> 5 | AB16: =P16 -> 235010.06 | AC16: =VLOOKUP(AB16,$N$7:$O$106,2,0)/COUNTIF(AB$7:AB$118,AB16) -> 57.5 | AD16: =INDIRECT("M"&MATCH(AB16,$N$7:$N$106,0)+6) -> 29 | AE16: =ROUND(AE17+(($AE$7-$AE$118)/SUM($AF$7:$AF$117)*AF16),0) -> 56 | AF16: 103
A17: 250000 | B17: 87 | C17: 11 | D17: 70000000 | E17: =SUMIF(F$7:F$118,D17,G$7:G$118) -> 16 | F17: {=IF((SMALL(IF(D$7:D$19>=A17,D$7:D$19),1)-A17)<(IF(A17-IFERROR(LARGE(IF(D$7:D$19<=A17,D$7:D$19),1),D$19)<0,A17+IFERROR(LARGE(IF(D$7:D$19<=A17,D$7:D$19),1),D$19),A17-IFERROR(LARGE(IF(D$7:D$19<=A17,D$7:D$19),1),D$19))),SMALL(IF(D$7:D$19>=A17,D$7:D$19),1),IFERROR(LARGE(IF(D$7:D$19<=A17,D$7:D$19),1),D$19))} -> 200000 | G17: =B17 -> 87 | H17: 11 | I17: 1500000 | J17: =SUMIF(K$7:K$118,I17,L$7:L$118) -> 92 | K17: {=IF((SMALL(IF(I$7:I$27>=$A17,I$7:I$27),1)-$A17)<(IF($A17-IFERROR(LARGE(IF(I$7:I$27<=$A17,I$7:I$27),1),I$19)<0,$A17+IFERROR(LARGE(IF(I$7:I$27<=$A17,I$7:I$27),1),I$27),$A17-IFERROR(LARGE(IF(I$7:I$27<=$A17,I$7:I$27),1),I$19))),SMALL(IF(I$7:I$27>=$A17,I$7:I$27),1),IFERROR(LARGE(IF(I$7:I$27<=$A17,I$7:I$27),1),I$27))} -> 200000 | L17: =B17 -> 87 | M17: 11 | N17: =N16+((($N$20-$N$13)/SUM($M$14:$M$20)*M17)) -> 37337.662 | O17: =SUMIF(P$7:P$118,N17,Q$7:Q$118) -> 0 | P17: {=IF((SMALL(IF(N$7:N$106>=$A17,N$7:N$106),1)-$A17)<(IF($A17-IFERROR(LARGE(IF(N$7:N$106<=$A17,N$7:N$106),1),N$106)<0,$A17+IFERROR(LARGE(IF(N$7:N$106<=$A17,N$7:N$106),1),N$106),$A17-IFERROR(LARGE(IF(N$7:N$106<=$A17,N$7:N$106),1),N$106))),SMALL(IF(N$7:N$106>=$A17,N$7:N$106),1),IFERROR(LARGE(IF(N$7:N$106<=$A17,N$7:N$106),1),N$106))} -> 235010.06 | Q17: =G17 -> 87 | R17: 11 | S17: =A17 -> 250000 | T17: =B17 -> 87 | U17: =R17 -> 11 | V17: =F17 -> 200000 | W17: =VLOOKUP(V17,D$7:E$19,2,0)/COUNTIF(V$7:V$118,V17) -> 56.875 | X17: =INDIRECT("C"&MATCH(V17,$D$7:$D$19,0)+6) -> 4 | Y17: =K17 -> 200000 | Z17: =VLOOKUP(Y17,$I$7:$J$27,2,0)/COUNTIF(Y$7:Y$118,Y17) -> 74.666667 | AA17: =INDIRECT("H"&MATCH(Y17,$I$7:$I$27,0)+6) -> 5 | AB17: =P17 -> 235010.06 | AC17: =VLOOKUP(AB17,$N$7:$O$106,2,0)/COUNTIF(AB$7:AB$118,AB17) -> 57.5 | AD17: =INDIRECT("M"&MATCH(AB17,$N$7:$N$106,0)+6) -> 29 | AE17: =ROUND(AE18+(($AE$7-$AE$118)/SUM($AF$7:$AF$117)*AF17),0) -> 55 | AF17: 102
A18: 275000 | B18: 12 | C18: 12 | D18: 130000000 | E18: =SUMIF(F$7:F$118,D18,G$7:G$118) -> 5 | F18: {=IF((SMALL(IF(D$7:D$19>=A18,D$7:D$19),1)-A18)<(IF(A18-IFERROR(LARGE(IF(D$7:D$19<=A18,D$7:D$19),1),D$19)<0,A18+IFERROR(LARGE(IF(D$7:D$19<=A18,D$7:D$19),1),D$19),A18-IFERROR(LARGE(IF(D$7:D$19<=A18,D$7:D$19),1),D$19))),SMALL(IF(D$7:D$19>=A18,D$7:D$19),1),IFERROR(LARGE(IF(D$7:D$19<=A18,D$7:D$19),1),D$19))} -> 200000 | G18: =B18 -> 12 | H18: 12 | I18: 2000000 | J18: =SUMIF(K$7:K$118,I18,L$7:L$118) -> 113 | K18: {=IF((SMALL(IF(I$7:I$27>=$A18,I$7:I$27),1)-$A18)<(IF($A18-IFERROR(LARGE(IF(I$7:I$27<=$A18,I$7:I$27),1),I$19)<0,$A18+IFERROR(LARGE(IF(I$7:I$27<=$A18,I$7:I$27),1),I$27),$A18-IFERROR(LARGE(IF(I$7:I$27<=$A18,I$7:I$27),1),I$19))),SMALL(IF(I$7:I$27>=$A18,I$7:I$27),1),IFERROR(LARGE(IF(I$7:I$27<=$A18,I$7:I$27),1),I$27))} -> 300000 | L18: =B18 -> 12 | M18: 12 | N18: =N17+((($N$20-$N$13)/SUM($M$14:$M$20)*M18)) -> 41233.766 | O18: =SUMIF(P$7:P$118,N18,Q$7:Q$118) -> 0 | P18: {=IF((SMALL(IF(N$7:N$106>=$A18,N$7:N$106),1)-$A18)<(IF($A18-IFERROR(LARGE(IF(N$7:N$106<=$A18,N$7:N$106),1),N$106)<0,$A18+IFERROR(LARGE(IF(N$7:N$106<=$A18,N$7:N$106),1),N$106),$A18-IFERROR(LARGE(IF(N$7:N$106<=$A18,N$7:N$106),1),N$106))),SMALL(IF(N$7:N$106>=$A18,N$7:N$106),1),IFERROR(LARGE(IF(N$7:N$106<=$A18,N$7:N$106),1),N$106))} -> 271227.36 | Q18: =G18 -> 12 | R18: 12 | S18: =A18 -> 275000 | T18: =B18 -> 12 | U18: =R18 -> 12 | V18: =F18 -> 200000 | W18: =VLOOKUP(V18,D$7:E$19,2,0)/COUNTIF(V$7:V$118,V18) -> 56.875 | X18: =INDIRECT("C"&MATCH(V18,$D$7:$D$19,0)+6) -> 4 | Y18: =K18 -> 300000 | Z18: =VLOOKUP(Y18,$I$7:$J$27,2,0)/COUNTIF(Y$7:Y$118,Y18) -> 50 | AA18: =INDIRECT("H"&MATCH(Y18,$I$7:$I$27,0)+6) -> 6 | AB18: =P18 -> 271227.36 | AC18: =VLOOKUP(AB18,$N$7:$O$106,2,0)/COUNTIF(AB$7:AB$118,AB18) -> 12 | AD18: =INDIRECT("M"&MATCH(AB18,$N$7:$N$106,0)+6) -> 30 | AE18: =ROUND(AE19+(($AE$7-$AE$118)/SUM($AF$7:$AF$117)*AF18),0) -> 54 | AF18: 101
A19: 300000 | B19: 126 | C19: 13 | D19: 250000000 | E19: =SUMIF(F$7:F$118,D19,G$7:G$118) -> 0 | F19: {=IF((SMALL(IF(D$7:D$19>=A19,D$7:D$19),1)-A19)<(IF(A19-IFERROR(LARGE(IF(D$7:D$19<=A19,D$7:D$19),1),D$19)<0,A19+IFERROR(LARGE(IF(D$7:D$19<=A19,D$7:D$19),1),D$19),A19-IFERROR(LARGE(IF(D$7:D$19<=A19,D$7:D$19),1),D$19))),SMALL(IF(D$7:D$19>=A19,D$7:D$19),1),IFERROR(LARGE(IF(D$7:D$19<=A19,D$7:D$19),1),D$19))} -> 200000 | G19: =B19 -> 126 | H19: 13 | I19: 3000000 | J19: =SUMIF(K$7:K$118,I19,L$7:L$118) -> 115 | K19: {=IF((SMALL(IF(I$7:I$27>=$A19,I$7:I$27),1)-$A19)<(IF($A19-IFERROR(LARGE(IF(I$7:I$27<=$A19,I$7:I$27),1),I$19)<0,$A19+IFERROR(LARGE(IF(I$7:I$27<=$A19,I$7:I$27),1),I$27),$A19-IFERROR(LARGE(IF(I$7:I$27<=$A19,I$7:I$27),1),I$19))),SMALL(IF(I$7:I$27>=$A19,I$7:I$27),1),IFERROR(LARGE(IF(I$7:I$27<=$A19,I$7:I$27),1),I$27))} -> 300000 | L19: =B19 -> 126 | M19: 13 | N19: =N18+((($N$20-$N$13)/SUM($M$14:$M$20)*M19)) -> 45454.545 | O19: =SUMIF(P$7:P$118,N19,Q$7:Q$118) -> 0 | P19: {=IF((SMALL(IF(N$7:N$106>=$A19,N$7:N$106),1)-$A19)<(IF($A19-IFERROR(LARGE(IF(N$7:N$106<=$A19,N$7:N$106),1),N$106)<0,$A19+IFERROR(LARGE(IF(N$7:N$106<=$A19,N$7:N$106),1),N$106),$A19-IFERROR(LARGE(IF(N$7:N$106<=$A19,N$7:N$106),1),N$106))),SMALL(IF(N$7:N$106>=$A19,N$7:N$106),1),IFERROR(LARGE(IF(N$7:N$106<=$A19,N$7:N$106),1),N$106))} -> 308651.91 | Q19: =G19 -> 126 | R19: 13 | S19: =A19 -> 300000 | T19: =B19 -> 126 | U19: =R19 -> 13 | V19: =F19 -> 200000 | W19: =VLOOKUP(V19,D$7:E$19,2,0)/COUNTIF(V$7:V$118,V19) -> 56.875 | X19: =INDIRECT("C"&MATCH(V19,$D$7:$D$19,0)+6) -> 4 | Y19: =K19 -> 300000 | Z19: =VLOOKUP(Y19,$I$7:$J$27,2,0)/COUNTIF(Y$7:Y$118,Y19) -> 50 | AA19: =INDIRECT("H"&MATCH(Y19,$I$7:$I$27,0)+6) -> 6 | AB19: =P19 -> 308651.91 | AC19: =VLOOKUP(AB19,$N$7:$O$106,2,0)/COUNTIF(AB$7:AB$118,AB19) -> 79.5 | AD19: =INDIRECT("M"&MATCH(AB19,$N$7:$N$106,0)+6) -> 31 | AE19: =ROUND(AE20+(($AE$7-$AE$118)/SUM($AF$7:$AF$117)*AF19),0) -> 53 | AF19: 100
A20: 325000 | B20: 33 | F20: {=IF((SMALL(IF(D$7:D$19>=A20,D$7:D$19),1)-A20)<(IF(A20-IFERROR(LARGE(IF(D$7:D$19<=A20,D$7:D$19),1),D$19)<0,A20+IFERROR(LARGE(IF(D$7:D$19<=A20,D$7:D$19),1),D$19),A20-IFERROR(LARGE(IF(D$7:D$19<=A20,D$7:D$19),1),D$19))),SMALL(IF(D$7:D$19>=A20,D$7:D$19),1),IFERROR(LARGE(IF(D$7:D$19<=A20,D$7:D$19),1),D$19))} -> 200000 | G20: =B20 -> 33 | H20: 14 | I20: 5000000 | J20: =SUMIF(K$7:K$118,I20,L$7:L$118) -> 82 | K20: {=IF((SMALL(IF(I$7:I$27>=$A20,I$7:I$27),1)-$A20)<(IF($A20-IFERROR(LARGE(IF(I$7:I$27<=$A20,I$7:I$27),1),I$19)<0,$A20+IFERROR(LARGE(IF(I$7:I$27<=$A20,I$7:I$27),1),I$27),$A20-IFERROR(LARGE(IF(I$7:I$27<=$A20,I$7:I$27),1),I$19))),SMALL(IF(I$7:I$27>=$A20,I$7:I$27),1),IFERROR(LARGE(IF(I$7:I$27<=$A20,I$7:I$27),1),I$27))} -> 300000 | L20: =B20 -> 33 | M20: 14 | N20: 50000 | O20: =SUMIF(P$7:P$118,N20,Q$7:Q$118) -> 98 | P20: {=IF((SMALL(IF(N$7:N$106>=$A20,N$7:N$106),1)-$A20)<(IF($A20-IFERROR(LARGE(IF(N$7:N$106<=$A20,N$7:N$106),1),N$106)<0,$A20+IFERROR(LARGE(IF(N$7:N$106<=$A20,N$7:N$106),1),N$106),$A20-IFERROR(LARGE(IF(N$7:N$106<=$A20,N$7:N$106),1),N$106))),SMALL(IF(N$7:N$106>=$A20,N$7:N$106),1),IFERROR(LARGE(IF(N$7:N$106<=$A20,N$7:N$106),1),N$106))} -> 308651.91 | Q20: =G20 -> 33 | R20: 14 | S20: =A20 -> 325000 | T20: =B20 -> 33 | U20: =R20 -> 14 | V20: =F20 -> 200000 | W20: =VLOOKUP(V20,D$7:E$19,2,0)/COUNTIF(V$7:V$118,V20) -> 56.875 | X20: =INDIRECT("C"&MATCH(V20,$D$7:$D$19,0)+6) -> 4 | Y20: =K20 -> 300000 | Z20: =VLOOKUP(Y20,$I$7:$J$27,2,0)/COUNTIF(Y$7:Y$118,Y20) -> 50 | AA20: =INDIRECT("H"&MATCH(Y20,$I$7:$I$27,0)+6) -> 6 | AB20: =P20 -> 308651.91 | AC20: =VLOOKUP(AB20,$N$7:$O$106,2,0)/COUNTIF(AB$7:AB$118,AB20) -> 79.5 | AD20: =INDIRECT("M"&MATCH(AB20,$N$7:$N$106,0)+6) -> 31 | AE20: =ROUND(AE21+(($AE$7-$AE$118)/SUM($AF$7:$AF$117)*AF20),0) -> 52 | AF20: 99
A21: 350000 | B21: 29 | F21: {=IF((SMALL(IF(D$7:D$19>=A21,D$7:D$19),1)-A21)<(IF(A21-IFERROR(LARGE(IF(D$7:D$19<=A21,D$7:D$19),1),D$19)<0,A21+IFERROR(LARGE(IF(D$7:D$19<=A21,D$7:D$19),1),D$19),A21-IFERROR(LARGE(IF(D$7:D$19<=A21,D$7:D$19),1),D$19))),SMALL(IF(D$7:D$19>=A21,D$7:D$19),1),IFERROR(LARGE(IF(D$7:D$19<=A21,D$7:D$19),1),D$19))} -> 200000 | G21: =B21 -> 29 | H21: 15 | I21: 8000000 | J21: =SUMIF(K$7:K$118,I21,L$7:L$118) -> 48 | K21: {=IF((SMALL(IF(I$7:I$27>=$A21,I$7:I$27),1)-$A21)<(IF($A21-IFERROR(LARGE(IF(I$7:I$27<=$A21,I$7:I$27),1),I$19)<0,$A21+IFERROR(LARGE(IF(I$7:I$27<=$A21,I$7:I$27),1),I$27),$A21-IFERROR(LARGE(IF(I$7:I$27<=$A21,I$7:I$27),1),I$19))),SMALL(IF(I$7:I$27>=$A21,I$7:I$27),1),IFERROR(LARGE(IF(I$7:I$27<=$A21,I$7:I$27),1),I$27))} -> 300000 | L21: =B21 -> 29 | M21: 15 | N21: =N20+((($N$34-$N$20)/SUM($M$21:$M$34)*M21)) -> 57475.083 | O21: =SUMIF(P$7:P$118,N21,Q$7:Q$118) -> 1 | P21: {=IF((SMALL(IF(N$7:N$106>=$A21,N$7:N$106),1)-$A21)<(IF($A21-IFERROR(LARGE(IF(N$7:N$106<=$A21,N$7:N$106),1),N$106)<0,$A21+IFERROR(LARGE(IF(N$7:N$106<=$A21,N$7:N$106),1),N$106),$A21-IFERROR(LARGE(IF(N$7:N$106<=$A21,N$7:N$106),1),N$106))),SMALL(IF(N$7:N$106>=$A21,N$7:N$106),1),IFERROR(LARGE(IF(N$7:N$106<=$A21,N$7:N$106),1),N$106))} -> 347283.7 | Q21: =G21 -> 29 | R21: 15 | S21: =A21 -> 350000 | T21: =B21 -> 29 | U21: =R21 -> 15 | V21: =F21 -> 200000 | W21: =VLOOKUP(V21,D$7:E$19,2,0)/COUNTIF(V$7:V$118,V21) -> 56.875 | X21: =INDIRECT("C"&MATCH(V21,$D$7:$D$19,0)+6) -> 4 | Y21: =K21 -> 300000 | Z21: =VLOOKUP(Y21,$I$7:$J$27,2,0)/COUNTIF(Y$7:Y$118,Y21) -> 50 | AA21: =INDIRECT("H"&MATCH(Y21,$I$7:$I$27,0)+6) -> 6 | AB21: =P21 -> 347283.7 | AC21: =VLOOKUP(AB21,$N$7:$O$106,2,0)/COUNTIF(AB$7:AB$118,AB21) -> 29 | AD21: =INDIRECT("M"&MATCH(AB21,$N$7:$N$106,0)+6) -> 32 | AE21: =ROUND(AE22+(($AE$7-$AE$118)/SUM($AF$7:$AF$117)*AF21),0) -> 51 | AF21: 98
A22: 375000 | B22: 3 | F22: {=IF((SMALL(IF(D$7:D$19>=A22,D$7:D$19),1)-A22)<(IF(A22-IFERROR(LARGE(IF(D$7:D$19<=A22,D$7:D$19),1),D$19)<0,A22+IFERROR(LARGE(IF(D$7:D$19<=A22,D$7:D$19),1),D$19),A22-IFERROR(LARGE(IF(D$7:D$19<=A22,D$7:D$19),1),D$19))),SMALL(IF(D$7:D$19>=A22,D$7:D$19),1),IFERROR(LARGE(IF(D$7:D$19<=A22,D$7:D$19),1),D$19))} -> 500000 | G22: =B22 -> 3 | H22: 16 | I22: 10000000 | J22: =SUMIF(K$7:K$118,I22,L$7:L$118) -> 113 | K22: {=IF((SMALL(IF(I$7:I$27>=$A22,I$7:I$27),1)-$A22)<(IF($A22-IFERROR(LARGE(IF(I$7:I$27<=$A22,I$7:I$27),1),I$19)<0,$A22+IFERROR(LARGE(IF(I$7:I$27<=$A22,I$7:I$27),1),I$27),$A22-IFERROR(LARGE(IF(I$7:I$27<=$A22,I$7:I$27),1),I$19))),SMALL(IF(I$7:I$27>=$A22,I$7:I$27),1),IFERROR(LARGE(IF(I$7:I$27<=$A22,I$7:I$27),1),I$27))} -> 400000 | L22: =B22 -> 3 | M22: 16 | N22: =N21+((($N$34-$N$20)/SUM($M$21:$M$34)*M22)) -> 65448.505 | O22: =SUMIF(P$7:P$118,N22,Q$7:Q$118) -> 0 | P22: {=IF((SMALL(IF(N$7:N$106>=$A22,N$7:N$106),1)-$A22)<(IF($A22-IFERROR(LARGE(IF(N$7:N$106<=$A22,N$7:N$106),1),N$106)<0,$A22+IFERROR(LARGE(IF(N$7:N$106<=$A22,N$7:N$106),1),N$106),$A22-IFERROR(LARGE(IF(N$7:N$106<=$A22,N$7:N$106),1),N$106))),SMALL(IF(N$7:N$106>=$A22,N$7:N$106),1),IFERROR(LARGE(IF(N$7:N$106<=$A22,N$7:N$106),1),N$106))} -> 387122.74 | Q22: =G22 -> 3 | R22: 16 | S22: =A22 -> 375000 | T22: =B22 -> 3 | U22: =R22 -> 16 | V22: =F22 -> 500000 | W22: =VLOOKUP(V22,D$7:E$19,2,0)/COUNTIF(V$7:V$118,V22) -> 27.272727 | X22: =INDIRECT("C"&MATCH(V22,$D$7:$D$19,0)+6) -> 5 | Y22: =K22 -> 400000 | Z22: =VLOOKUP(Y22,$I$7:$J$27,2,0)/COUNTIF(Y$7:Y$118,Y22) -> 31.833333 | AA22: =INDIRECT("H"&MATCH(Y22,$I$7:$I$27,0)+6) -> 7 | AB22: =P22 -> 387122.74 | AC22: =VLOOKUP(AB22,$N$7:$O$106,2,0)/COUNTIF(AB$7:AB$118,AB22) -> 49 | AD22: =INDIRECT("M"&MATCH(AB22,$N$7:$N$106,0)+6) -> 33 | AE22: =ROUND(AE23+(($AE$7-$AE$118)/SUM($AF$7:$AF$117)*AF22),0) -> 50 | AF22: 97
A23: 400000 | B23: 95 | F23: {=IF((SMALL(IF(D$7:D$19>=A23,D$7:D$19),1)-A23)<(IF(A23-IFERROR(LARGE(IF(D$7:D$19<=A23,D$7:D$19),1),D$19)<0,A23+IFERROR(LARGE(IF(D$7:D$19<=A23,D$7:D$19),1),D$19),A23-IFERROR(LARGE(IF(D$7:D$19<=A23,D$7:D$19),1),D$19))),SMALL(IF(D$7:D$19>=A23,D$7:D$19),1),IFERROR(LARGE(IF(D$7:D$19<=A23,D$7:D$19),1),D$19))} -> 500000 | G23: =B23 -> 95 | H23: 17 | I23: 30000000 | J23: =SUMIF(K$7:K$118,I23,L$7:L$118) -> 70 | K23: {=IF((SMALL(IF(I$7:I$27>=$A23,I$7:I$27),1)-$A23)<(IF($A23-IFERROR(LARGE(IF(I$7:I$27<=$A23,I$7:I$27),1),I$19)<0,$A23+IFERROR(LARGE(IF(I$7:I$27<=$A23,I$7:I$27),1),I$27),$A23-IFERROR(LARGE(IF(I$7:I$27<=$A23,I$7:I$27),1),I$19))),SMALL(IF(I$7:I$27>=$A23,I$7:I$27),1),IFERROR(LARGE(IF(I$7:I$27<=$A23,I$7:I$27),1),I$27))} -> 400000 | L23: =B23 -> 95 | M23: 17 | N23: =N22+((($N$34-$N$20)/SUM($M$21:$M$34)*M23)) -> 73920.266 | O23: =SUMIF(P$7:P$118,N23,Q$7:Q$118) -> 109 | P23: {=IF((SMALL(IF(N$7:N$106>=$A23,N$7:N$106),1)-$A23)<(IF($A23-IFERROR(LARGE(IF(N$7:N$106<=$A23,N$7:N$106),1),N$106)<0,$A23+IFERROR(LARGE(IF(N$7:N$106<=$A23,N$7:N$106),1),N$106),$A23-IFERROR(LARGE(IF(N$7:N$106<=$A23,N$7:N$106),1),N$106))),SMALL(IF(N$7:N$106>=$A23,N$7:N$106),1),IFERROR(LARGE(IF(N$7:N$106<=$A23,N$7:N$106),1),N$106))} -> 387122.74 | Q23: =G23 -> 95 | R23: 17 | S23: =A23 -> 400000 | T23: =B23 -> 95 | U23: =R23 -> 17 | V23: =F23 -> 500000 | W23: =VLOOKUP(V23,D$7:E$19,2,0)/COUNTIF(V$7:V$118,V23) -> 27.272727 | X23: =INDIRECT("C"&MATCH(V23,$D$7:$D$19,0)+6) -> 5 | Y23: =K23 -> 400000 | Z23: =VLOOKUP(Y23,$I$7:$J$27,2,0)/COUNTIF(Y$7:Y$118,Y23) -> 31.833333 | AA23: =INDIRECT("H"&MATCH(Y23,$I$7:$I$27,0)+6) -> 7 | AB23: =P23 -> 387122.74 | AC23: =VLOOKUP(AB23,$N$7:$O$106,2,0)/COUNTIF(AB$7:AB$118,AB23) -> 49 | AD23: =INDIRECT("M"&MATCH(AB23,$N$7:$N$106,0)+6) -> 33 | AE23: =ROUND(AE24+(($AE$7-$AE$118)/SUM($AF$7:$AF$117)*AF23),0) -> 49 | AF23: 96
A24: 425000 | B24: 1 | F24: {=IF((SMALL(IF(D$7:D$19>=A24,D$7:D$19),1)-A24)<(IF(A24-IFERROR(LARGE(IF(D$7:D$19<=A24,D$7:D$19),1),D$19)<0,A24+IFERROR(LARGE(IF(D$7:D$19<=A24,D$7:D$19),1),D$19),A24-IFERROR(LARGE(IF(D$7:D$19<=A24,D$7:D$19),1),D$19))),SMALL(IF(D$7:D$19>=A24,D$7:D$19),1),IFERROR(LARGE(IF(D$7:D$19<=A24,D$7:D$19),1),D$19))} -> 500000 | G24: =B24 -> 1 | H24: 18 | I24: 60000000 | J24: =SUMIF(K$7:K$118,I24,L$7:L$118) -> 14 | K24: {=IF((SMALL(IF(I$7:I$27>=$A24,I$7:I$27),1)-$A24)<(IF($A24-IFERROR(LARGE(IF(I$7:I$27<=$A24,I$7:I$27),1),I$19)<0,$A24+IFERROR(LARGE(IF(I$7:I$27<=$A24,I$7:I$27),1),I$27),$A24-IFERROR(LARGE(IF(I$7:I$27<=$A24,I$7:I$27),1),I$19))),SMALL(IF(I$7:I$27>=$A24,I$7:I$27),1),IFERROR(LARGE(IF(I$7:I$27<=$A24,I$7:I$27),1),I$27))} -> 400000 | L24: =B24 -> 1 | M24: 18 | N24: =N23+((($N$34-$N$20)/SUM($M$21:$M$34)*M24)) -> 82890.365 | O24: =SUMIF(P$7:P$118,N24,Q$7:Q$118) -> 0 | P24: {=IF((SMALL(IF(N$7:N$106>=$A24,N$7:N$106),1)-$A24)<(IF($A24-IFERROR(LARGE(IF(N$7:N$106<=$A24,N$7:N$106),1),N$106)<0,$A24+IFERROR(LARGE(IF(N$7:N$106<=$A24,N$7:N$106),1),N$106),$A24-IFERROR(LARGE(IF(N$7:N$106<=$A24,N$7:N$106),1),N$106))),SMALL(IF(N$7:N$106>=$A24,N$7:N$106),1),IFERROR(LARGE(IF(N$7:N$106<=$A24,N$7:N$106),1),N$106))} -> 428169.01 | Q24: =G24 -> 1 | R24: 18 | S24: =A24 -> 425000 | T24: =B24 -> 1 | U24: =R24 -> 18 | V24: =F24 -> 500000 | W24: =VLOOKUP(V24,D$7:E$19,2,0)/COUNTIF(V$7:V$118,V24) -> 27.272727 | X24: =INDIRECT("C"&MATCH(V24,$D$7:$D$19,0)+6) -> 5 | Y24: =K24 -> 400000 | Z24: =VLOOKUP(Y24,$I$7:$J$27,2,0)/COUNTIF(Y$7:Y$118,Y24) -> 31.833333 | AA24: =INDIRECT("H"&MATCH(Y24,$I$7:$I$27,0)+6) -> 7 | AB24: =P24 -> 428169.01 | AC24: =VLOOKUP(AB24,$N$7:$O$106,2,0)/COUNTIF(AB$7:AB$118,AB24) -> 1 | AD24: =INDIRECT("M"&MATCH(AB24,$N$7:$N$106,0)+6) -> 34 | AE24: =ROUND(AE25+(($AE$7-$AE$118)/SUM($AF$7:$AF$117)*AF24),0) -> 48 | AF24: 95
A25: 450000 | B25: 24 | F25: {=IF((SMALL(IF(D$7:D$19>=A25,D$7:D$19),1)-A25)<(IF(A25-IFERROR(LARGE(IF(D$7:D$19<=A25,D$7:D$19),1),D$19)<0,A25+IFERROR(LARGE(IF(D$7:D$19<=A25,D$7:D$19),1),D$19),A25-IFERROR(LARGE(IF(D$7:D$19<=A25,D$7:D$19),1),D$19))),SMALL(IF(D$7:D$19>=A25,D$7:D$19),1),IFERROR(LARGE(IF(D$7:D$19<=A25,D$7:D$19),1),D$19))} -> 500000 | G25: =B25 -> 24 | H25: 19 | I25: 80000000 | J25: =SUMIF(K$7:K$118,I25,L$7:L$118) -> 7 | K25: {=IF((SMALL(IF(I$7:I$27>=$A25,I$7:I$27),1)-$A25)<(IF($A25-IFERROR(LARGE(IF(I$7:I$27<=$A25,I$7:I$27),1),I$19)<0,$A25+IFERROR(LARGE(IF(I$7:I$27<=$A25,I$7:I$27),1),I$27),$A25-IFERROR(LARGE(IF(I$7:I$27<=$A25,I$7:I$27),1),I$19))),SMALL(IF(I$7:I$27>=$A25,I$7:I$27),1),IFERROR(LARGE(IF(I$7:I$27<=$A25,I$7:I$27),1),I$27))} -> 400000 | L25: =B25 -> 24 | M25: 19 | N25: =N24+((($N$34-$N$20)/SUM($M$21:$M$34)*M25)) -> 92358.804 | O25: =SUMIF(P$7:P$118,N25,Q$7:Q$118) -> 0 | P25: {=IF((SMALL(IF(N$7:N$106>=$A25,N$7:N$106),1)-$A25)<(IF($A25-IFERROR(LARGE(IF(N$7:N$106<=$A25,N$7:N$106),1),N$106)<0,$A25+IFERROR(LARGE(IF(N$7:N$106<=$A25,N$7:N$106),1),N$106),$A25-IFERROR(LARGE(IF(N$7:N$106<=$A25,N$7:N$106),1),N$106))),SMALL(IF(N$7:N$106>=$A25,N$7:N$106),1),IFERROR(LARGE(IF(N$7:N$106<=$A25,N$7:N$106),1),N$106))} -> 470422.54 | Q25: =G25 -> 24 | R25: 19 | S25: =A25 -> 450000 | T25: =B25 -> 24 | U25: =R25 -> 19 | V25: =F25 -> 500000 | W25: =VLOOKUP(V25,D$7:E$19,2,0)/COUNTIF(V$7:V$118,V25) -> 27.272727 | X25: =INDIRECT("C"&MATCH(V25,$D$7:$D$19,0)+6) -> 5 | Y25: =K25 -> 400000 | Z25: =VLOOKUP(Y25,$I$7:$J$27,2,0)/COUNTIF(Y$7:Y$118,Y25) -> 31.833333 | AA25: =INDIRECT("H"&MATCH(Y25,$I$7:$I$27,0)+6) -> 7 | AB25: =P25 -> 470422.54 | AC25: =VLOOKUP(AB25,$N$7:$O$106,2,0)/COUNTIF(AB$7:AB$118,AB25) -> 23 | AD25: =INDIRECT("M"&MATCH(AB25,$N$7:$N$106,0)+6) -> 35 | AE25: =ROUND(AE26+(($AE$7-$AE$118)/SUM($AF$7:$AF$117)*AF25),0) -> 47 | AF25: 94
A26: 475000 | B26: 22 | F26: {=IF((SMALL(IF(D$7:D$19>=A26,D$7:D$19),1)-A26)<(IF(A26-IFERROR(LARGE(IF(D$7:D$19<=A26,D$7:D$19),1),D$19)<0,A26+IFERROR(LARGE(IF(D$7:D$19<=A26,D$7:D$19),1),D$19),A26-IFERROR(LARGE(IF(D$7:D$19<=A26,D$7:D$19),1),D$19))),SMALL(IF(D$7:D$19>=A26,D$7:D$19),1),IFERROR(LARGE(IF(D$7:D$19<=A26,D$7:D$19),1),D$19))} -> 500000 | G26: =B26 -> 22 | H26: 20 | I26: 130000000 | J26: =SUMIF(K$7:K$118,I26,L$7:L$118) -> 5 | K26: {=IF((SMALL(IF(I$7:I$27>=$A26,I$7:I$27),1)-$A26)<(IF($A26-IFERROR(LARGE(IF(I$7:I$27<=$A26,I$7:I$27),1),I$19)<0,$A26+IFERROR(LARGE(IF(I$7:I$27<=$A26,I$7:I$27),1),I$27),$A26-IFERROR(LARGE(IF(I$7:I$27<=$A26,I$7:I$27),1),I$19))),SMALL(IF(I$7:I$27>=$A26,I$7:I$27),1),IFERROR(LARGE(IF(I$7:I$27<=$A26,I$7:I$27),1),I$27))} -> 400000 | L26: =B26 -> 22 | M26: 20 | N26: =N25+((($N$34-$N$20)/SUM($M$21:$M$34)*M26)) -> 102325.58 | O26: =SUMIF(P$7:P$118,N26,Q$7:Q$118) -> 120 | P26: {=IF((SMALL(IF(N$7:N$106>=$A26,N$7:N$106),1)-$A26)<(IF($A26-IFERROR(LARGE(IF(N$7:N$106<=$A26,N$7:N$106),1),N$106)<0,$A26+IFERROR(LARGE(IF(N$7:N$106<=$A26,N$7:N$106),1),N$106),$A26-IFERROR(LARGE(IF(N$7:N$106<=$A26,N$7:N$106),1),N$106))),SMALL(IF(N$7:N$106>=$A26,N$7:N$106),1),IFERROR(LARGE(IF(N$7:N$106<=$A26,N$7:N$106),1),N$106))} -> 470422.54 | Q26: =G26 -> 22 | R26: 20 | S26: =A26 -> 475000 | T26: =B26 -> 22 | U26: =R26 -> 20 | V26: =F26 -> 500000 | W26: =VLOOKUP(V26,D$7:E$19,2,0)/COUNTIF(V$7:V$118,V26) -> 27.272727 | X26: =INDIRECT("C"&MATCH(V26,$D$7:$D$19,0)+6) -> 5 | Y26: =K26 -> 400000 | Z26: =VLOOKUP(Y26,$I$7:$J$27,2,0)/COUNTIF(Y$7:Y$118,Y26) -> 31.833333 | AA26: =INDIRECT("H"&MATCH(Y26,$I$7:$I$27,0)+6) -> 7 | AB26: =P26 -> 470422.54 | AC26: =VLOOKUP(AB26,$N$7:$O$106,2,0)/COUNTIF(AB$7:AB$118,AB26) -> 23 | AD26: =INDIRECT("M"&MATCH(AB26,$N$7:$N$106,0)+6) -> 35 | AE26: =ROUND(AE27+(($AE$7-$AE$118)/SUM($AF$7:$AF$117)*AF26),0) -> 46 | AF26: 93
A27: 500000 | B27: 46 | F27: {=IF((SMALL(IF(D$7:D$19>=A27,D$7:D$19),1)-A27)<(IF(A27-IFERROR(LARGE(IF(D$7:D$19<=A27,D$7:D$19),1),D$19)<0,A27+IFERROR(LARGE(IF(D$7:D$19<=A27,D$7:D$19),1),D$19),A27-IFERROR(LARGE(IF(D$7:D$19<=A27,D$7:D$19),1),D$19))),SMALL(IF(D$7:D$19>=A27,D$7:D$19),1),IFERROR(LARGE(IF(D$7:D$19<=A27,D$7:D$19),1),D$19))} -> 500000 | G27: =B27 -> 46 | H27: 21 | I27: 250000000 | J27: =SUMIF(K$7:K$118,I27,L$7:L$118) -> 0 | K27: {=IF((SMALL(IF(I$7:I$27>=$A27,I$7:I$27),1)-$A27)<(IF($A27-IFERROR(LARGE(IF(I$7:I$27<=$A27,I$7:I$27),1),I$19)<0,$A27+IFERROR(LARGE(IF(I$7:I$27<=$A27,I$7:I$27),1),I$27),$A27-IFERROR(LARGE(IF(I$7:I$27<=$A27,I$7:I$27),1),I$19))),SMALL(IF(I$7:I$27>=$A27,I$7:I$27),1),IFERROR(LARGE(IF(I$7:I$27<=$A27,I$7:I$27),1),I$27))} -> 400000 | L27: =B27 -> 46 | M27: 21 | N27: =N26+((($N$34-$N$20)/SUM($M$21:$M$34)*M27)) -> 112790.7 | O27: =SUMIF(P$7:P$118,N27,Q$7:Q$118) -> 0 | P27: {=IF((SMALL(IF(N$7:N$106>=$A27,N$7:N$106),1)-$A27)<(IF($A27-IFERROR(LARGE(IF(N$7:N$106<=$A27,N$7:N$106),1),N$106)<0,$A27+IFERROR(LARGE(IF(N$7:N$106<=$A27,N$7:N$106),1),N$106),$A27-IFERROR(LARGE(IF(N$7:N$106<=$A27,N$7:N$106),1),N$106))),SMALL(IF(N$7:N$106>=$A27,N$7:N$106),1),IFERROR(LARGE(IF(N$7:N$106<=$A27,N$7:N$106),1),N$106))} -> 513883.3 | Q27: =G27 -> 46 | R27: 21 | S27: =A27 -> 500000 | T27: =B27 -> 46 | U27: =R27 -> 21 | V27: =F27 -> 500000 | W27: =VLOOKUP(V27,D$7:E$19,2,0)/COUNTIF(V$7:V$118,V27) -> 27.272727 | X27: =INDIRECT("C"&MATCH(V27,$D$7:$D$19,0)+6) -> 5 | Y27: =K27 -> 400000 | Z27: =VLOOKUP(Y27,$I$7:$J$27,2,0)/COUNTIF(Y$7:Y$118,Y27) -> 31.833333 | AA27: =INDIRECT("H"&MATCH(Y27,$I$7:$I$27,0)+6) -> 7 | AB27: =P27 -> 513883.3 | AC27: =VLOOKUP(AB27,$N$7:$O$106,2,0)/COUNTIF(AB$7:AB$118,AB27) -> 25 | AD27: =INDIRECT("M"&MATCH(AB27,$N$7:$N$106,0)+6) -> 36 | AE27: =ROUND(AE28+(($AE$7-$AE$118)/SUM($AF$7:$AF$117)*AF27),0) -> 45 | AF27: 92
A28: 525000 | B28: 4 | F28: {=IF((SMALL(IF(D$7:D$19>=A28,D$7:D$19),1)-A28)<(IF(A28-IFERROR(LARGE(IF(D$7:D$19<=A28,D$7:D$19),1),D$19)<0,A28+IFERROR(LARGE(IF(D$7:D$19<=A28,D$7:D$19),1),D$19),A28-IFERROR(LARGE(IF(D$7:D$19<=A28,D$7:D$19),1),D$19))),SMALL(IF(D$7:D$19>=A28,D$7:D$19),1),IFERROR(LARGE(IF(D$7:D$19<=A28,D$7:D$19),1),D$19))} -> 500000 | G28: =B28 -> 4 | K28: {=IF((SMALL(IF(I$7:I$27>=$A28,I$7:I$27),1)-$A28)<(IF($A28-IFERROR(LARGE(IF(I$7:I$27<=$A28,I$7:I$27),1),I$19)<0,$A28+IFERROR(LARGE(IF(I$7:I$27<=$A28,I$7:I$27),1),I$27),$A28-IFERROR(LARGE(IF(I$7:I$27<=$A28,I$7:I$27),1),I$19))),SMALL(IF(I$7:I$27>=$A28,I$7:I$27),1),IFERROR(LARGE(IF(I$7:I$27<=$A28,I$7:I$27),1),I$27))} -> 600000 | L28: =B28 -> 4 | M28: 22 | N28: =N27+((($N$34-$N$20)/SUM($M$21:$M$34)*M28)) -> 123754.15 | O28: =SUMIF(P$7:P$118,N28,Q$7:Q$118) -> 36 | P28: {=IF((SMALL(IF(N$7:N$106>=$A28,N$7:N$106),1)-$A28)<(IF($A28-IFERROR(LARGE(IF(N$7:N$106<=$A28,N$7:N$106),1),N$106)<0,$A28+IFERROR(LARGE(IF(N$7:N$106<=$A28,N$7:N$106),1),N$106),$A28-IFERROR(LARGE(IF(N$7:N$106<=$A28,N$7:N$106),1),N$106))),SMALL(IF(N$7:N$106>=$A28,N$7:N$106),1),IFERROR(LARGE(IF(N$7:N$106<=$A28,N$7:N$106),1),N$106))} -> 513883.3 | Q28: =G28 -> 4 | R28: 22 | S28: =A28 -> 525000 | T28: =B28 -> 4 | U28: =R28 -> 22 | V28: =F28 -> 500000 | W28: =VLOOKUP(V28,D$7:E$19,2,0)/COUNTIF(V$7:V$118,V28) -> 27.272727 | X28: =INDIRECT("C"&MATCH(V28,$D$7:$D$19,0)+6) -> 5 | Y28: =K28 -> 600000 | Z28: =VLOOKUP(Y28,$I$7:$J$27,2,0)/COUNTIF(Y$7:Y$118,Y28) -> 19.428571 | AA28: =INDIRECT("H"&MATCH(Y28,$I$7:$I$27,0)+6) -> 8 | AB28: =P28 -> 513883.3 | AC28: =VLOOKUP(AB28,$N$7:$O$106,2,0)/COUNTIF(AB$7:AB$118,AB28) -> 25 | AD28: =INDIRECT("M"&MATCH(AB28,$N$7:$N$106,0)+6) -> 36 | AE28: =ROUND(AE29+(($AE$7-$AE$118)/SUM($AF$7:$AF$117)*AF28),0) -> 44 | AF28: 91
A29: 550000 | B29: 20 | F29: {=IF((SMALL(IF(D$7:D$19>=A29,D$7:D$19),1)-A29)<(IF(A29-IFERROR(LARGE(IF(D$7:D$19<=A29,D$7:D$19),1),D$19)<0,A29+IFERROR(LARGE(IF(D$7:D$19<=A29,D$7:D$19),1),D$19),A29-IFERROR(LARGE(IF(D$7:D$19<=A29,D$7:D$19),1),D$19))),SMALL(IF(D$7:D$19>=A29,D$7:D$19),1),IFERROR(LARGE(IF(D$7:D$19<=A29,D$7:D$19),1),D$19))} -> 500000 | G29: =B29 -> 20 | K29: {=IF((SMALL(IF(I$7:I$27>=$A29,I$7:I$27),1)-$A29)<(IF($A29-IFERROR(LARGE(IF(I$7:I$27<=$A29,I$7:I$27),1),I$19)<0,$A29+IFERROR(LARGE(IF(I$7:I$27<=$A29,I$7:I$27),1),I$27),$A29-IFERROR(LARGE(IF(I$7:I$27<=$A29,I$7:I$27),1),I$19))),SMALL(IF(I$7:I$27>=$A29,I$7:I$27),1),IFERROR(LARGE(IF(I$7:I$27<=$A29,I$7:I$27),1),I$27))} -> 600000 | L29: =B29 -> 20 | M29: 23 | N29: =N28+((($N$34-$N$20)/SUM($M$21:$M$34)*M29)) -> 135215.95 | O29: =SUMIF(P$7:P$118,N29,Q$7:Q$118) -> 0 | P29: {=IF((SMALL(IF(N$7:N$106>=$A29,N$7:N$106),1)-$A29)<(IF($A29-IFERROR(LARGE(IF(N$7:N$106<=$A29,N$7:N$106),1),N$106)<0,$A29+IFERROR(LARGE(IF(N$7:N$106<=$A29,N$7:N$106),1),N$106),$A29-IFERROR(LARGE(IF(N$7:N$106<=$A29,N$7:N$106),1),N$106))),SMALL(IF(N$7:N$106>=$A29,N$7:N$106),1),IFERROR(LARGE(IF(N$7:N$106<=$A29,N$7:N$106),1),N$106))} -> 558551.31 | Q29: =G29 -> 20 | R29: 23 | S29: =A29 -> 550000 | T29: =B29 -> 20 | U29: =R29 -> 23 | V29: =F29 -> 500000 | W29: =VLOOKUP(V29,D$7:E$19,2,0)/COUNTIF(V$7:V$118,V29) -> 27.272727 | X29: =INDIRECT("C"&MATCH(V29,$D$7:$D$19,0)+6) -> 5 | Y29: =K29 -> 600000 | Z29: =VLOOKUP(Y29,$I$7:$J$27,2,0)/COUNTIF(Y$7:Y$118,Y29) -> 19.428571 | AA29: =INDIRECT("H"&MATCH(Y29,$I$7:$I$27,0)+6) -> 8 | AB29: =P29 -> 558551.31 | AC29: =VLOOKUP(AB29,$N$7:$O$106,2,0)/COUNTIF(AB$7:AB$118,AB29) -> 10.5 | AD29: =INDIRECT("M"&MATCH(AB29,$N$7:$N$106,0)+6) -> 37 | AE29: =ROUND(AE30+(($AE$7-$AE$118)/SUM($AF$7:$AF$117)*AF29),0) -> 43 | AF29: 90
A30: 575000 | B30: 1 | F30: {=IF((SMALL(IF(D$7:D$19>=A30,D$7:D$19),1)-A30)<(IF(A30-IFERROR(LARGE(IF(D$7:D$19<=A30,D$7:D$19),1),D$19)<0,A30+IFERROR(LARGE(IF(D$7:D$19<=A30,D$7:D$19),1),D$19),A30-IFERROR(LARGE(IF(D$7:D$19<=A30,D$7:D$19),1),D$19))),SMALL(IF(D$7:D$19>=A30,D$7:D$19),1),IFERROR(LARGE(IF(D$7:D$19<=A30,D$7:D$19),1),D$19))} -> 500000 | G30: =B30 -> 1 | K30: {=IF((SMALL(IF(I$7:I$27>=$A30,I$7:I$27),1)-$A30)<(IF($A30-IFERROR(LARGE(IF(I$7:I$27<=$A30,I$7:I$27),1),I$19)<0,$A30+IFERROR(LARGE(IF(I$7:I$27<=$A30,I$7:I$27),1),I$27),$A30-IFERROR(LARGE(IF(I$7:I$27<=$A30,I$7:I$27),1),I$19))),SMALL(IF(I$7:I$27>=$A30,I$7:I$27),1),IFERROR(LARGE(IF(I$7:I$27<=$A30,I$7:I$27),1),I$27))} -> 600000 | L30: =B30 -> 1 | M30: 24 | N30: =N29+((($N$34-$N$20)/SUM($M$21:$M$34)*M30)) -> 147176.08 | O30: =SUMIF(P$7:P$118,N30,Q$7:Q$118) -> 93 | P30: {=IF((SMALL(IF(N$7:N$106>=$A30,N$7:N$106),1)-$A30)<(IF($A30-IFERROR(LARGE(IF(N$7:N$106<=$A30,N$7:N$106),1),N$106)<0,$A30+IFERROR(LARGE(IF(N$7:N$106<=$A30,N$7:N$106),1),N$106),$A30-IFERROR(LARGE(IF(N$7:N$106<=$A30,N$7:N$106),1),N$106))),SMALL(IF(N$7:N$106>=$A30,N$7:N$106),1),IFERROR(LARGE(IF(N$7:N$106<=$A30,N$7:N$106),1),N$106))} -> 558551.31 | Q30: =G30 -> 1 | R30: 24 | S30: =A30 -> 575000 | T30: =B30 -> 1 | U30: =R30 -> 24 | V30: =F30 -> 500000 | W30: =VLOOKUP(V30,D$7:E$19,2,0)/COUNTIF(V$7:V$118,V30) -> 27.272727 | X30: =INDIRECT("C"&MATCH(V30,$D$7:$D$19,0)+6) -> 5 | Y30: =K30 -> 600000 | Z30: =VLOOKUP(Y30,$I$7:$J$27,2,0)/COUNTIF(Y$7:Y$118,Y30) -> 19.428571 | AA30: =INDIRECT("H"&MATCH(Y30,$I$7:$I$27,0)+6) -> 8 | AB30: =P30 -> 558551.31 | AC30: =VLOOKUP(AB30,$N$7:$O$106,2,0)/COUNTIF(AB$7:AB$118,AB30) -> 10.5 | AD30: =INDIRECT("M"&MATCH(AB30,$N$7:$N$106,0)+6) -> 37 | AE30: =ROUND(AE31+(($AE$7-$AE$118)/SUM($AF$7:$AF$117)*AF30),0) -> 42 | AF30: 89
A31: 600000 | B31: 59 | F31: {=IF((SMALL(IF(D$7:D$19>=A31,D$7:D$19),1)-A31)<(IF(A31-IFERROR(LARGE(IF(D$7:D$19<=A31,D$7:D$19),1),D$19)<0,A31+IFERROR(LARGE(IF(D$7:D$19<=A31,D$7:D$19),1),D$19),A31-IFERROR(LARGE(IF(D$7:D$19<=A31,D$7:D$19),1),D$19))),SMALL(IF(D$7:D$19>=A31,D$7:D$19),1),IFERROR(LARGE(IF(D$7:D$19<=A31,D$7:D$19),1),D$19))} -> 500000 | G31: =B31 -> 59 | K31: {=IF((SMALL(IF(I$7:I$27>=$A31,I$7:I$27),1)-$A31)<(IF($A31-IFERROR(LARGE(IF(I$7:I$27<=$A31,I$7:I$27),1),I$19)<0,$A31+IFERROR(LARGE(IF(I$7:I$27<=$A31,I$7:I$27),1),I$27),$A31-IFERROR(LARGE(IF(I$7:I$27<=$A31,I$7:I$27),1),I$19))),SMALL(IF(I$7:I$27>=$A31,I$7:I$27),1),IFERROR(LARGE(IF(I$7:I$27<=$A31,I$7:I$27),1),I$27))} -> 600000 | L31: =B31 -> 59 | M31: 25 | N31: =N30+((($N$34-$N$20)/SUM($M$21:$M$34)*M31)) -> 159634.55 | O31: =SUMIF(P$7:P$118,N31,Q$7:Q$118) -> 0 | P31: {=IF((SMALL(IF(N$7:N$106>=$A31,N$7:N$106),1)-$A31)<(IF($A31-IFERROR(LARGE(IF(N$7:N$106<=$A31,N$7:N$106),1),N$106)<0,$A31+IFERROR(LARGE(IF(N$7:N$106<=$A31,N$7:N$106),1),N$106),$A31-IFERROR(LARGE(IF(N$7:N$106<=$A31,N$7:N$106),1),N$106))),SMALL(IF(N$7:N$106>=$A31,N$7:N$106),1),IFERROR(LARGE(IF(N$7:N$106<=$A31,N$7:N$106),1),N$106))} -> 604426.56 | Q31: =G31 -> 59 | R31: 25 | S31: =A31 -> 600000 | T31: =B31 -> 59 | U31: =R31 -> 25 | V31: =F31 -> 500000 | W31: =VLOOKUP(V31,D$7:E$19,2,0)/COUNTIF(V$7:V$118,V31) -> 27.272727 | X31: =INDIRECT("C"&MATCH(V31,$D$7:$D$19,0)+6) -> 5 | Y31: =K31 -> 600000 | Z31: =VLOOKUP(Y31,$I$7:$J$27,2,0)/COUNTIF(Y$7:Y$118,Y31) -> 19.428571 | AA31: =INDIRECT("H"&MATCH(Y31,$I$7:$I$27,0)+6) -> 8 | AB31: =P31 -> 604426.56 | AC31: =VLOOKUP(AB31,$N$7:$O$106,2,0)/COUNTIF(AB$7:AB$118,AB31) -> 59 | AD31: =INDIRECT("M"&MATCH(AB31,$N$7:$N$106,0)+6) -> 38 | AE31: =ROUND(AE32+(($AE$7-$AE$118)/SUM($AF$7:$AF$117)*AF31),0) -> 41 | AF31: 88
A32: 650000 | B32: 25 | F32: {=IF((SMALL(IF(D$7:D$19>=A32,D$7:D$19),1)-A32)<(IF(A32-IFERROR(LARGE(IF(D$7:D$19<=A32,D$7:D$19),1),D$19)<0,A32+IFERROR(LARGE(IF(D$7:D$19<=A32,D$7:D$19),1),D$19),A32-IFERROR(LARGE(IF(D$7:D$19<=A32,D$7:D$19),1),D$19))),SMALL(IF(D$7:D$19>=A32,D$7:D$19),1),IFERROR(LARGE(IF(D$7:D$19<=A32,D$7:D$19),1),D$19))} -> 500000 | G32: =B32 -> 25 | K32: {=IF((SMALL(IF(I$7:I$27>=$A32,I$7:I$27),1)-$A32)<(IF($A32-IFERROR(LARGE(IF(I$7:I$27<=$A32,I$7:I$27),1),I$19)<0,$A32+IFERROR(LARGE(IF(I$7:I$27<=$A32,I$7:I$27),1),I$27),$A32-IFERROR(LARGE(IF(I$7:I$27<=$A32,I$7:I$27),1),I$19))),SMALL(IF(I$7:I$27>=$A32,I$7:I$27),1),IFERROR(LARGE(IF(I$7:I$27<=$A32,I$7:I$27),1),I$27))} -> 600000 | L32: =B32 -> 25 | M32: 26 | N32: =N31+((($N$34-$N$20)/SUM($M$21:$M$34)*M32)) -> 172591.36 | O32: =SUMIF(P$7:P$118,N32,Q$7:Q$118) -> 31 | P32: {=IF((SMALL(IF(N$7:N$106>=$A32,N$7:N$106),1)-$A32)<(IF($A32-IFERROR(LARGE(IF(N$7:N$106<=$A32,N$7:N$106),1),N$106)<0,$A32+IFERROR(LARGE(IF(N$7:N$106<=$A32,N$7:N$106),1),N$106),$A32-IFERROR(LARGE(IF(N$7:N$106<=$A32,N$7:N$106),1),N$106))),SMALL(IF(N$7:N$106>=$A32,N$7:N$106),1),IFERROR(LARGE(IF(N$7:N$106<=$A32,N$7:N$106),1),N$106))} -> 651509.05 | Q32: =G32 -> 25 | R32: 26 | S32: =A32 -> 650000 | T32: =B32 -> 25 | U32: =R32 -> 26 | V32: =F32 -> 500000 | W32: =VLOOKUP(V32,D$7:E$19,2,0)/COUNTIF(V$7:V$118,V32) -> 27.272727 | X32: =INDIRECT("C"&MATCH(V32,$D$7:$D$19,0)+6) -> 5 | Y32: =K32 -> 600000 | Z32: =VLOOKUP(Y32,$I$7:$J$27,2,0)/COUNTIF(Y$7:Y$118,Y32) -> 19.428571 | AA32: =INDIRECT("H"&MATCH(Y32,$I$7:$I$27,0)+6) -> 8 | AB32: =P32 -> 651509.05 | AC32: =VLOOKUP(AB32,$N$7:$O$106,2,0)/COUNTIF(AB$7:AB$118,AB32) -> 15.5 | AD32: =INDIRECT("M"&MATCH(AB32,$N$7:$N$106,0)+6) -> 39 | AE32: =ROUND(AE33+(($AE$7-$AE$118)/SUM($AF$7:$AF$117)*AF32),0) -> 40 | AF32: 87
A33: 675000 | B33: 6 | F33: {=IF((SMALL(IF(D$7:D$19>=A33,D$7:D$19),1)-A33)<(IF(A33-IFERROR(LARGE(IF(D$7:D$19<=A33,D$7:D$19),1),D$19)<0,A33+IFERROR(LARGE(IF(D$7:D$19<=A33,D$7:D$19),1),D$19),A33-IFERROR(LARGE(IF(D$7:D$19<=A33,D$7:D$19),1),D$19))),SMALL(IF(D$7:D$19>=A33,D$7:D$19),1),IFERROR(LARGE(IF(D$7:D$19<=A33,D$7:D$19),1),D$19))} -> 800000 | G33: =B33 -> 6 | K33: {=IF((SMALL(IF(I$7:I$27>=$A33,I$7:I$27),1)-$A33)<(IF($A33-IFERROR(LARGE(IF(I$7:I$27<=$A33,I$7:I$27),1),I$19)<0,$A33+IFERROR(LARGE(IF(I$7:I$27<=$A33,I$7:I$27),1),I$27),$A33-IFERROR(LARGE(IF(I$7:I$27<=$A33,I$7:I$27),1),I$19))),SMALL(IF(I$7:I$27>=$A33,I$7:I$27),1),IFERROR(LARGE(IF(I$7:I$27<=$A33,I$7:I$27),1),I$27))} -> 600000 | L33: =B33 -> 6 | M33: 27 | N33: =N32+((($N$34-$N$20)/SUM($M$21:$M$34)*M33)) -> 186046.51 | O33: =SUMIF(P$7:P$118,N33,Q$7:Q$118) -> 0 | P33: {=IF((SMALL(IF(N$7:N$106>=$A33,N$7:N$106),1)-$A33)<(IF($A33-IFERROR(LARGE(IF(N$7:N$106<=$A33,N$7:N$106),1),N$106)<0,$A33+IFERROR(LARGE(IF(N$7:N$106<=$A33,N$7:N$106),1),N$106),$A33-IFERROR(LARGE(IF(N$7:N$106<=$A33,N$7:N$106),1),N$106))),SMALL(IF(N$7:N$106>=$A33,N$7:N$106),1),IFERROR(LARGE(IF(N$7:N$106<=$A33,N$7:N$106),1),N$106))} -> 651509.05 | Q33: =G33 -> 6 | R33: 27 | S33: =A33 -> 675000 | T33: =B33 -> 6 | U33: =R33 -> 27 | V33: =F33 -> 800000 | W33: =VLOOKUP(V33,D$7:E$19,2,0)/COUNTIF(V$7:V$118,V33) -> 22.4 | X33: =INDIRECT("C"&MATCH(V33,$D$7:$D$19,0)+6) -> 6 | Y33: =K33 -> 600000 | Z33: =VLOOKUP(Y33,$I$7:$J$27,2,0)/COUNTIF(Y$7:Y$118,Y33) -> 19.428571 | AA33: =INDIRECT("H"&MATCH(Y33,$I$7:$I$27,0)+6) -> 8 | AB33: =P33 -> 651509.05 | AC33: =VLOOKUP(AB33,$N$7:$O$106,2,0)/COUNTIF(AB$7:AB$118,AB33) -> 15.5 | AD33: =INDIRECT("M"&MATCH(AB33,$N$7:$N$106,0)+6) -> 39 | AE33: =ROUND(AE34+(($AE$7-$AE$118)/SUM($AF$7:$AF$117)*AF33),0) -> 39 | AF33: 86
A34: 700000 | B34: 21 | F34: {=IF((SMALL(IF(D$7:D$19>=A34,D$7:D$19),1)-A34)<(IF(A34-IFERROR(LARGE(IF(D$7:D$19<=A34,D$7:D$19),1),D$19)<0,A34+IFERROR(LARGE(IF(D$7:D$19<=A34,D$7:D$19),1),D$19),A34-IFERROR(LARGE(IF(D$7:D$19<=A34,D$7:D$19),1),D$19))),SMALL(IF(D$7:D$19>=A34,D$7:D$19),1),IFERROR(LARGE(IF(D$7:D$19<=A34,D$7:D$19),1),D$19))} -> 800000 | G34: =B34 -> 21 | K34: {=IF((SMALL(IF(I$7:I$27>=$A34,I$7:I$27),1)-$A34)<(IF($A34-IFERROR(LARGE(IF(I$7:I$27<=$A34,I$7:I$27),1),I$19)<0,$A34+IFERROR(LARGE(IF(I$7:I$27<=$A34,I$7:I$27),1),I$27),$A34-IFERROR(LARGE(IF(I$7:I$27<=$A34,I$7:I$27),1),I$19))),SMALL(IF(I$7:I$27>=$A34,I$7:I$27),1),IFERROR(LARGE(IF(I$7:I$27<=$A34,I$7:I$27),1),I$27))} -> 600000 | L34: =B34 -> 21 | M34: 28 | N34: 200000 | O34: =SUMIF(P$7:P$118,N34,Q$7:Q$118) -> 109 | P34: {=IF((SMALL(IF(N$7:N$106>=$A34,N$7:N$106),1)-$A34)<(IF($A34-IFERROR(LARGE(IF(N$7:N$106<=$A34,N$7:N$106),1),N$106)<0,$A34+IFERROR(LARGE(IF(N$7:N$106<=$A34,N$7:N$106),1),N$106),$A34-IFERROR(LARGE(IF(N$7:N$106<=$A34,N$7:N$106),1),N$106))),SMALL(IF(N$7:N$106>=$A34,N$7:N$106),1),IFERROR(LARGE(IF(N$7:N$106<=$A34,N$7:N$106),1),N$106))} -> 699798.79 | Q34: =G34 -> 21 | R34: 28 | S34: =A34 -> 700000 | T34: =B34 -> 21 | U34: =R34 -> 28 | V34: =F34 -> 800000 | W34: =VLOOKUP(V34,D$7:E$19,2,0)/COUNTIF(V$7:V$118,V34) -> 22.4 | X34: =INDIRECT("C"&MATCH(V34,$D$7:$D$19,0)+6) -> 6 | Y34: =K34 -> 600000 | Z34: =VLOOKUP(Y34,$I$7:$J$27,2,0)/COUNTIF(Y$7:Y$118,Y34) -> 19.428571 | AA34: =INDIRECT("H"&MATCH(Y34,$I$7:$I$27,0)+6) -> 8 | AB34: =P34 -> 699798.79 | AC34: =VLOOKUP(AB34,$N$7:$O$106,2,0)/COUNTIF(AB$7:AB$118,AB34) -> 21 | AD34: =INDIRECT("M"&MATCH(AB34,$N$7:$N$106,0)+6) -> 40 | AE34: =ROUND(AE35+(($AE$7-$AE$118)/SUM($AF$7:$AF$117)*AF34),0) -> 38 | AF34: 85
A35: 725000 | B35: 6 | F35: {=IF((SMALL(IF(D$7:D$19>=A35,D$7:D$19),1)-A35)<(IF(A35-IFERROR(LARGE(IF(D$7:D$19<=A35,D$7:D$19),1),D$19)<0,A35+IFERROR(LARGE(IF(D$7:D$19<=A35,D$7:D$19),1),D$19),A35-IFERROR(LARGE(IF(D$7:D$19<=A35,D$7:D$19),1),D$19))),SMALL(IF(D$7:D$19>=A35,D$7:D$19),1),IFERROR(LARGE(IF(D$7:D$19<=A35,D$7:D$19),1),D$19))} -> 800000 | G35: =B35 -> 6 | K35: {=IF((SMALL(IF(I$7:I$27>=$A35,I$7:I$27),1)-$A35)<(IF($A35-IFERROR(LARGE(IF(I$7:I$27<=$A35,I$7:I$27),1),I$19)<0,$A35+IFERROR(LARGE(IF(I$7:I$27<=$A35,I$7:I$27),1),I$27),$A35-IFERROR(LARGE(IF(I$7:I$27<=$A35,I$7:I$27),1),I$19))),SMALL(IF(I$7:I$27>=$A35,I$7:I$27),1),IFERROR(LARGE(IF(I$7:I$27<=$A35,I$7:I$27),1),I$27))} -> 800000 | L35: =B35 -> 6 | M35: 29 | N35: =N34+((($N$48-$N$34)/SUM($M$35:$M$48)*M35)) -> 235010.06 | O35: =SUMIF(P$7:P$118,N35,Q$7:Q$118) -> 115 | P35: {=IF((SMALL(IF(N$7:N$106>=$A35,N$7:N$106),1)-$A35)<(IF($A35-IFERROR(LARGE(IF(N$7:N$106<=$A35,N$7:N$106),1),N$106)<0,$A35+IFERROR(LARGE(IF(N$7:N$106<=$A35,N$7:N$106),1),N$106),$A35-IFERROR(LARGE(IF(N$7:N$106<=$A35,N$7:N$106),1),N$106))),SMALL(IF(N$7:N$106>=$A35,N$7:N$106),1),IFERROR(LARGE(IF(N$7:N$106<=$A35,N$7:N$106),1),N$106))} -> 749295.77 | Q35: =G35 -> 6 | R35: 29 | S35: =A35 -> 725000 | T35: =B35 -> 6 | U35: =R35 -> 29 | V35: =F35 -> 800000 | W35: =VLOOKUP(V35,D$7:E$19,2,0)/COUNTIF(V$7:V$118,V35) -> 22.4 | X35: =INDIRECT("C"&MATCH(V35,$D$7:$D$19,0)+6) -> 6 | Y35: =K35 -> 800000 | Z35: =VLOOKUP(Y35,$I$7:$J$27,2,0)/COUNTIF(Y$7:Y$118,Y35) -> 22.4 | AA35: =INDIRECT("H"&MATCH(Y35,$I$7:$I$27,0)+6) -> 9 | AB35: =P35 -> 749295.77 | AC35: =VLOOKUP(AB35,$N$7:$O$106,2,0)/COUNTIF(AB$7:AB$118,AB35) -> 9.5 | AD35: =INDIRECT("M"&MATCH(AB35,$N$7:$N$106,0)+6) -> 41 | AE35: =ROUND(AE36+(($AE$7-$AE$118)/SUM($AF$7:$AF$117)*AF35),0) -> 37 | AF35: 84
A36: 750000 | B36: 13 | F36: {=IF((SMALL(IF(D$7:D$19>=A36,D$7:D$19),1)-A36)<(IF(A36-IFERROR(LARGE(IF(D$7:D$19<=A36,D$7:D$19),1),D$19)<0,A36+IFERROR(LARGE(IF(D$7:D$19<=A36,D$7:D$19),1),D$19),A36-IFERROR(LARGE(IF(D$7:D$19<=A36,D$7:D$19),1),D$19))),SMALL(IF(D$7:D$19>=A36,D$7:D$19),1),IFERROR(LARGE(IF(D$7:D$19<=A36,D$7:D$19),1),D$19))} -> 800000 | G36: =B36 -> 13 | K36: {=IF((SMALL(IF(I$7:I$27>=$A36,I$7:I$27),1)-$A36)<(IF($A36-IFERROR(LARGE(IF(I$7:I$27<=$A36,I$7:I$27),1),I$19)<0,$A36+IFERROR(LARGE(IF(I$7:I$27<=$A36,I$7:I$27),1),I$27),$A36-IFERROR(LARGE(IF(I$7:I$27<=$A36,I$7:I$27),1),I$19))),SMALL(IF(I$7:I$27>=$A36,I$7:I$27),1),IFERROR(LARGE(IF(I$7:I$27<=$A36,I$7:I$27),1),I$27))} -> 800000 | L36: =B36 -> 13 | M36: 30 | N36: =N35+((($N$48-$N$34)/SUM($M$35:$M$48)*M36)) -> 271227.36 | O36: =SUMIF(P$7:P$118,N36,Q$7:Q$118) -> 12 | P36: {=IF((SMALL(IF(N$7:N$106>=$A36,N$7:N$106),1)-$A36)<(IF($A36-IFERROR(LARGE(IF(N$7:N$106<=$A36,N$7:N$106),1),N$106)<0,$A36+IFERROR(LARGE(IF(N$7:N$106<=$A36,N$7:N$106),1),N$106),$A36-IFERROR(LARGE(IF(N$7:N$106<=$A36,N$7:N$106),1),N$106))),SMALL(IF(N$7:N$106>=$A36,N$7:N$106),1),IFERROR(LARGE(IF(N$7:N$106<=$A36,N$7:N$106),1),N$106))} -> 749295.77 | Q36: =G36 -> 13 | R36: 30 | S36: =A36 -> 750000 | T36: =B36 -> 13 | U36: =R36 -> 30 | V36: =F36 -> 800000 | W36: =VLOOKUP(V36,D$7:E$19,2,0)/COUNTIF(V$7:V$118,V36) -> 22.4 | X36: =INDIRECT("C"&MATCH(V36,$D$7:$D$19,0)+6) -> 6 | Y36: =K36 -> 800000 | Z36: =VLOOKUP(Y36,$I$7:$J$27,2,0)/COUNTIF(Y$7:Y$118,Y36) -> 22.4 | AA36: =INDIRECT("H"&MATCH(Y36,$I$7:$I$27,0)+6) -> 9 | AB36: =P36 -> 749295.77 | AC36: =VLOOKUP(AB36,$N$7:$O$106,2,0)/COUNTIF(AB$7:AB$118,AB36) -> 9.5 | AD36: =INDIRECT("M"&MATCH(AB36,$N$7:$N$106,0)+6) -> 41 | AE36: =ROUND(AE37+(($AE$7-$AE$118)/SUM($AF$7:$AF$117)*AF36),0) -> 36 | AF36: 83
A37: 800000 | B37: 65 | F37: {=IF((SMALL(IF(D$7:D$19>=A37,D$7:D$19),1)-A37)<(IF(A37-IFERROR(LARGE(IF(D$7:D$19<=A37,D$7:D$19),1),D$19)<0,A37+IFERROR(LARGE(IF(D$7:D$19<=A37,D$7:D$19),1),D$19),A37-IFERROR(LARGE(IF(D$7:D$19<=A37,D$7:D$19),1),D$19))),SMALL(IF(D$7:D$19>=A37,D$7:D$19),1),IFERROR(LARGE(IF(D$7:D$19<=A37,D$7:D$19),1),D$19))} -> 800000 | G37: =B37 -> 65 | K37: {=IF((SMALL(IF(I$7:I$27>=$A37,I$7:I$27),1)-$A37)<(IF($A37-IFERROR(LARGE(IF(I$7:I$27<=$A37,I$7:I$27),1),I$19)<0,$A37+IFERROR(LARGE(IF(I$7:I$27<=$A37,I$7:I$27),1),I$27),$A37-IFERROR(LARGE(IF(I$7:I$27<=$A37,I$7:I$27),1),I$19))),SMALL(IF(I$7:I$27>=$A37,I$7:I$27),1),IFERROR(LARGE(IF(I$7:I$27<=$A37,I$7:I$27),1),I$27))} -> 800000 | L37: =B37 -> 65 | M37: 31 | N37: =N36+((($N$48-$N$34)/SUM($M$35:$M$48)*M37)) -> 308651.91 | O37: =SUMIF(P$7:P$118,N37,Q$7:Q$118) -> 159 | P37: {=IF((SMALL(IF(N$7:N$106>=$A37,N$7:N$106),1)-$A37)<(IF($A37-IFERROR(LARGE(IF(N$7:N$106<=$A37,N$7:N$106),1),N$106)<0,$A37+IFERROR(LARGE(IF(N$7:N$106<=$A37,N$7:N$106),1),N$106),$A37-IFERROR(LARGE(IF(N$7:N$106<=$A37,N$7:N$106),1),N$106))),SMALL(IF(N$7:N$106>=$A37,N$7:N$106),1),IFERROR(LARGE(IF(N$7:N$106<=$A37,N$7:N$106),1),N$106))} -> 800000 | Q37: =G37 -> 65 | R37: 31 | S37: =A37 -> 800000 | T37: =B37 -> 65 | U37: =R37 -> 31 | V37: =F37 -> 800000 | W37: =VLOOKUP(V37,D$7:E$19,2,0)/COUNTIF(V$7:V$118,V37) -> 22.4 | X37: =INDIRECT("C"&MATCH(V37,$D$7:$D$19,0)+6) -> 6 | Y37: =K37 -> 800000 | Z37: =VLOOKUP(Y37,$I$7:$J$27,2,0)/COUNTIF(Y$7:Y$118,Y37) -> 22.4 | AA37: =INDIRECT("H"&MATCH(Y37,$I$7:$I$27,0)+6) -> 9 | AB37: =P37 -> 800000 | AC37: =VLOOKUP(AB37,$N$7:$O$106,2,0)/COUNTIF(AB$7:AB$118,AB37) -> 35.5 | AD37: =INDIRECT("M"&MATCH(AB37,$N$7:$N$106,0)+6) -> 42 | AE37: =ROUND(AE38+(($AE$7-$AE$118)/SUM($AF$7:$AF$117)*AF37),0) -> 35 | AF37: 82
A38: 850000 | B38: 6 | F38: {=IF((SMALL(IF(D$7:D$19>=A38,D$7:D$19),1)-A38)<(IF(A38-IFERROR(LARGE(IF(D$7:D$19<=A38,D$7:D$19),1),D$19)<0,A38+IFERROR(LARGE(IF(D$7:D$19<=A38,D$7:D$19),1),D$19),A38-IFERROR(LARGE(IF(D$7:D$19<=A38,D$7:D$19),1),D$19))),SMALL(IF(D$7:D$19>=A38,D$7:D$19),1),IFERROR(LARGE(IF(D$7:D$19<=A38,D$7:D$19),1),D$19))} -> 800000 | G38: =B38 -> 6 | K38: {=IF((SMALL(IF(I$7:I$27>=$A38,I$7:I$27),1)-$A38)<(IF($A38-IFERROR(LARGE(IF(I$7:I$27<=$A38,I$7:I$27),1),I$19)<0,$A38+IFERROR(LARGE(IF(I$7:I$27<=$A38,I$7:I$27),1),I$27),$A38-IFERROR(LARGE(IF(I$7:I$27<=$A38,I$7:I$27),1),I$19))),SMALL(IF(I$7:I$27>=$A38,I$7:I$27),1),IFERROR(LARGE(IF(I$7:I$27<=$A38,I$7:I$27),1),I$27))} -> 800000 | L38: =B38 -> 6 | M38: 32 | N38: =N37+((($N$48-$N$34)/SUM($M$35:$M$48)*M38)) -> 347283.7 | O38: =SUMIF(P$7:P$118,N38,Q$7:Q$118) -> 29 | P38: {=IF((SMALL(IF(N$7:N$106>=$A38,N$7:N$106),1)-$A38)<(IF($A38-IFERROR(LARGE(IF(N$7:N$106<=$A38,N$7:N$106),1),N$106)<0,$A38+IFERROR(LARGE(IF(N$7:N$106<=$A38,N$7:N$106),1),N$106),$A38-IFERROR(LARGE(IF(N$7:N$106<=$A38,N$7:N$106),1),N$106))),SMALL(IF(N$7:N$106>=$A38,N$7:N$106),1),IFERROR(LARGE(IF(N$7:N$106<=$A38,N$7:N$106),1),N$106))} -> 800000 | Q38: =G38 -> 6 | R38: 32 | S38: =A38 -> 850000 | T38: =B38 -> 6 | U38: =R38 -> 32 | V38: =F38 -> 800000 | W38: =VLOOKUP(V38,D$7:E$19,2,0)/COUNTIF(V$7:V$118,V38) -> 22.4 | X38: =INDIRECT("C"&MATCH(V38,$D$7:$D$19,0)+6) -> 6 | Y38: =K38 -> 800000 | Z38: =VLOOKUP(Y38,$I$7:$J$27,2,0)/COUNTIF(Y$7:Y$118,Y38) -> 22.4 | AA38: =INDIRECT("H"&MATCH(Y38,$I$7:$I$27,0)+6) -> 9 | AB38: =P38 -> 800000 | AC38: =VLOOKUP(AB38,$N$7:$O$106,2,0)/COUNTIF(AB$7:AB$118,AB38) -> 35.5 | AD38: =INDIRECT("M"&MATCH(AB38,$N$7:$N$106,0)+6) -> 42 | AE38: =ROUND(AE39+(($AE$7-$AE$118)/SUM($AF$7:$AF$117)*AF38),0) -> 34 | AF38: 81
A39: 900000 | B39: 22 | F39: {=IF((SMALL(IF(D$7:D$19>=A39,D$7:D$19),1)-A39)<(IF(A39-IFERROR(LARGE(IF(D$7:D$19<=A39,D$7:D$19),1),D$19)<0,A39+IFERROR(LARGE(IF(D$7:D$19<=A39,D$7:D$19),1),D$19),A39-IFERROR(LARGE(IF(D$7:D$19<=A39,D$7:D$19),1),D$19))),SMALL(IF(D$7:D$19>=A39,D$7:D$19),1),IFERROR(LARGE(IF(D$7:D$19<=A39,D$7:D$19),1),D$19))} -> 800000 | G39: =B39 -> 22 | K39: {=IF((SMALL(IF(I$7:I$27>=$A39,I$7:I$27),1)-$A39)<(IF($A39-IFERROR(LARGE(IF(I$7:I$27<=$A39,I$7:I$27),1),I$19)<0,$A39+IFERROR(LARGE(IF(I$7:I$27<=$A39,I$7:I$27),1),I$27),$A39-IFERROR(LARGE(IF(I$7:I$27<=$A39,I$7:I$27),1),I$19))),SMALL(IF(I$7:I$27>=$A39,I$7:I$27),1),IFERROR(LARGE(IF(I$7:I$27<=$A39,I$7:I$27),1),I$27))} -> 800000 | L39: =B39 -> 22 | M39: 33 | N39: =N38+((($N$48-$N$34)/SUM($M$35:$M$48)*M39)) -> 387122.74 | O39: =SUMIF(P$7:P$118,N39,Q$7:Q$118) -> 98 | P39: {=IF((SMALL(IF(N$7:N$106>=$A39,N$7:N$106),1)-$A39)<(IF($A39-IFERROR(LARGE(IF(N$7:N$106<=$A39,N$7:N$106),1),N$106)<0,$A39+IFERROR(LARGE(IF(N$7:N$106<=$A39,N$7:N$106),1),N$106),$A39-IFERROR(LARGE(IF(N$7:N$106<=$A39,N$7:N$106),1),N$106))),SMALL(IF(N$7:N$106>=$A39,N$7:N$106),1),IFERROR(LARGE(IF(N$7:N$106<=$A39,N$7:N$106),1),N$106))} -> 936507.94 | Q39: =G39 -> 22 | R39: 33 | S39: =A39 -> 900000 | T39: =B39 -> 22 | U39: =R39 -> 33 | V39: =F39 -> 800000 | W39: =VLOOKUP(V39,D$7:E$19,2,0)/COUNTIF(V$7:V$118,V39) -> 22.4 | X39: =INDIRECT("C"&MATCH(V39,$D$7:$D$19,0)+6) -> 6 | Y39: =K39 -> 800000 | Z39: =VLOOKUP(Y39,$I$7:$J$27,2,0)/COUNTIF(Y$7:Y$118,Y39) -> 22.4 | AA39: =INDIRECT("H"&MATCH(Y39,$I$7:$I$27,0)+6) -> 9 | AB39: =P39 -> 936507.94 | AC39: =VLOOKUP(AB39,$N$7:$O$106,2,0)/COUNTIF(AB$7:AB$118,AB39) -> 34 | AD39: =INDIRECT("M"&MATCH(AB39,$N$7:$N$106,0)+6) -> 43 | AE39: =ROUND(AE40+(($AE$7-$AE$118)/SUM($AF$7:$AF$117)*AF39),0) -> 33 | AF39: 80
A40: 950000 | B40: 8 | F40: {=IF((SMALL(IF(D$7:D$19>=A40,D$7:D$19),1)-A40)<(IF(A40-IFERROR(LARGE(IF(D$7:D$19<=A40,D$7:D$19),1),D$19)<0,A40+IFERROR(LARGE(IF(D$7:D$19<=A40,D$7:D$19),1),D$19),A40-IFERROR(LARGE(IF(D$7:D$19<=A40,D$7:D$19),1),D$19))),SMALL(IF(D$7:D$19>=A40,D$7:D$19),1),IFERROR(LARGE(IF(D$7:D$19<=A40,D$7:D$19),1),D$19))} -> 800000 | G40: =B40 -> 8 | K40: {=IF((SMALL(IF(I$7:I$27>=$A40,I$7:I$27),1)-$A40)<(IF($A40-IFERROR(LARGE(IF(I$7:I$27<=$A40,I$7:I$27),1),I$19)<0,$A40+IFERROR(LARGE(IF(I$7:I$27<=$A40,I$7:I$27),1),I$27),$A40-IFERROR(LARGE(IF(I$7:I$27<=$A40,I$7:I$27),1),I$19))),SMALL(IF(I$7:I$27>=$A40,I$7:I$27),1),IFERROR(LARGE(IF(I$7:I$27<=$A40,I$7:I$27),1),I$27))} -> 1000000 | L40: =B40 -> 8 | M40: 34 | N40: =N39+((($N$48-$N$34)/SUM($M$35:$M$48)*M40)) -> 428169.01 | O40: =SUMIF(P$7:P$118,N40,Q$7:Q$118) -> 1 | P40: {=IF((SMALL(IF(N$7:N$106>=$A40,N$7:N$106),1)-$A40)<(IF($A40-IFERROR(LARGE(IF(N$7:N$106<=$A40,N$7:N$106),1),N$106)<0,$A40+IFERROR(LARGE(IF(N$7:N$106<=$A40,N$7:N$106),1),N$106),$A40-IFERROR(LARGE(IF(N$7:N$106<=$A40,N$7:N$106),1),N$106))),SMALL(IF(N$7:N$106>=$A40,N$7:N$106),1),IFERROR(LARGE(IF(N$7:N$106<=$A40,N$7:N$106),1),N$106))} -> 936507.94 | Q40: =G40 -> 8 | R40: 34 | S40: =A40 -> 950000 | T40: =B40 -> 8 | U40: =R40 -> 34 | V40: =F40 -> 800000 | W40: =VLOOKUP(V40,D$7:E$19,2,0)/COUNTIF(V$7:V$118,V40) -> 22.4 | X40: =INDIRECT("C"&MATCH(V40,$D$7:$D$19,0)+6) -> 6 | Y40: =K40 -> 1000000 | Z40: =VLOOKUP(Y40,$I$7:$J$27,2,0)/COUNTIF(Y$7:Y$118,Y40) -> 33.25 | AA40: =INDIRECT("H"&MATCH(Y40,$I$7:$I$27,0)+6) -> 10 | AB40: =P40 -> 936507.94 | AC40: =VLOOKUP(AB40,$N$7:$O$106,2,0)/COUNTIF(AB$7:AB$118,AB40) -> 34 | AD40: =INDIRECT("M"&MATCH(AB40,$N$7:$N$106,0)+6) -> 43 | AE40: =ROUND(AE41+(($AE$7-$AE$118)/SUM($AF$7:$AF$117)*AF40),0) -> 32 | AF40: 79
A41: 1000000 | B41: 72 | F41: {=IF((SMALL(IF(D$7:D$19>=A41,D$7:D$19),1)-A41)<(IF(A41-IFERROR(LARGE(IF(D$7:D$19<=A41,D$7:D$19),1),D$19)<0,A41+IFERROR(LARGE(IF(D$7:D$19<=A41,D$7:D$19),1),D$19),A41-IFERROR(LARGE(IF(D$7:D$19<=A41,D$7:D$19),1),D$19))),SMALL(IF(D$7:D$19>=A41,D$7:D$19),1),IFERROR(LARGE(IF(D$7:D$19<=A41,D$7:D$19),1),D$19))} -> 800000 | G41: =B41 -> 72 | K41: {=IF((SMALL(IF(I$7:I$27>=$A41,I$7:I$27),1)-$A41)<(IF($A41-IFERROR(LARGE(IF(I$7:I$27<=$A41,I$7:I$27),1),I$19)<0,$A41+IFERROR(LARGE(IF(I$7:I$27<=$A41,I$7:I$27),1),I$27),$A41-IFERROR(LARGE(IF(I$7:I$27<=$A41,I$7:I$27),1),I$19))),SMALL(IF(I$7:I$27>=$A41,I$7:I$27),1),IFERROR(LARGE(IF(I$7:I$27<=$A41,I$7:I$27),1),I$27))} -> 1000000 | L41: =B41 -> 72 | M41: 35 | N41: =N40+((($N$48-$N$34)/SUM($M$35:$M$48)*M41)) -> 470422.54 | O41: =SUMIF(P$7:P$118,N41,Q$7:Q$118) -> 46 | P41: {=IF((SMALL(IF(N$7:N$106>=$A41,N$7:N$106),1)-$A41)<(IF($A41-IFERROR(LARGE(IF(N$7:N$106<=$A41,N$7:N$106),1),N$106)<0,$A41+IFERROR(LARGE(IF(N$7:N$106<=$A41,N$7:N$106),1),N$106),$A41-IFERROR(LARGE(IF(N$7:N$106<=$A41,N$7:N$106),1),N$106))),SMALL(IF(N$7:N$106>=$A41,N$7:N$106),1),IFERROR(LARGE(IF(N$7:N$106<=$A41,N$7:N$106),1),N$106))} -> 936507.94 | Q41: =G41 -> 72 | R41: 35 | S41: =A41 -> 1000000 | T41: =B41 -> 72 | U41: =R41 -> 35 | V41: =F41 -> 800000 | W41: =VLOOKUP(V41,D$7:E$19,2,0)/COUNTIF(V$7:V$118,V41) -> 22.4 | X41: =INDIRECT("C"&MATCH(V41,$D$7:$D$19,0)+6) -> 6 | Y41: =K41 -> 1000000 | Z41: =VLOOKUP(Y41,$I$7:$J$27,2,0)/COUNTIF(Y$7:Y$118,Y41) -> 33.25 | AA41: =INDIRECT("H"&MATCH(Y41,$I$7:$I$27,0)+6) -> 10 | AB41: =P41 -> 936507.94 | AC41: =VLOOKUP(AB41,$N$7:$O$106,2,0)/COUNTIF(AB$7:AB$118,AB41) -> 34 | AD41: =INDIRECT("M"&MATCH(AB41,$N$7:$N$106,0)+6) -> 43 | AE41: =ROUND(AE42+(($AE$7-$AE$118)/SUM($AF$7:$AF$117)*AF41),0) -> 31 | AF41: 78
A42: 1100000 | B42: 5 | F42: {=IF((SMALL(IF(D$7:D$19>=A42,D$7:D$19),1)-A42)<(IF(A42-IFERROR(LARGE(IF(D$7:D$19<=A42,D$7:D$19),1),D$19)<0,A42+IFERROR(LARGE(IF(D$7:D$19<=A42,D$7:D$19),1),D$19),A42-IFERROR(LARGE(IF(D$7:D$19<=A42,D$7:D$19),1),D$19))),SMALL(IF(D$7:D$19>=A42,D$7:D$19),1),IFERROR(LARGE(IF(D$7:D$19<=A42,D$7:D$19),1),D$19))} -> 800000 | G42: =B42 -> 5 | K42: {=IF((SMALL(IF(I$7:I$27>=$A42,I$7:I$27),1)-$A42)<(IF($A42-IFERROR(LARGE(IF(I$7:I$27<=$A42,I$7:I$27),1),I$19)<0,$A42+IFERROR(LARGE(IF(I$7:I$27<=$A42,I$7:I$27),1),I$27),$A42-IFERROR(LARGE(IF(I$7:I$27<=$A42,I$7:I$27),1),I$19))),SMALL(IF(I$7:I$27>=$A42,I$7:I$27),1),IFERROR(LARGE(IF(I$7:I$27<=$A42,I$7:I$27),1),I$27))} -> 1000000 | L42: =B42 -> 5 | M42: 36 | N42: =N41+((($N$48-$N$34)/SUM($M$35:$M$48)*M42)) -> 513883.3 | O42: =SUMIF(P$7:P$118,N42,Q$7:Q$118) -> 50 | P42: {=IF((SMALL(IF(N$7:N$106>=$A42,N$7:N$106),1)-$A42)<(IF($A42-IFERROR(LARGE(IF(N$7:N$106<=$A42,N$7:N$106),1),N$106)<0,$A42+IFERROR(LARGE(IF(N$7:N$106<=$A42,N$7:N$106),1),N$106),$A42-IFERROR(LARGE(IF(N$7:N$106<=$A42,N$7:N$106),1),N$106))),SMALL(IF(N$7:N$106>=$A42,N$7:N$106),1),IFERROR(LARGE(IF(N$7:N$106<=$A42,N$7:N$106),1),N$106))} -> 1076190.5 | Q42: =G42 -> 5 | R42: 36 | S42: =A42 -> 1100000 | T42: =B42 -> 5 | U42: =R42 -> 36 | V42: =F42 -> 800000 | W42: =VLOOKUP(V42,D$7:E$19,2,0)/COUNTIF(V$7:V$118,V42) -> 22.4 | X42: =INDIRECT("C"&MATCH(V42,$D$7:$D$19,0)+6) -> 6 | Y42: =K42 -> 1000000 | Z42: =VLOOKUP(Y42,$I$7:$J$27,2,0)/COUNTIF(Y$7:Y$118,Y42) -> 33.25 | AA42: =INDIRECT("H"&MATCH(Y42,$I$7:$I$27,0)+6) -> 10 | AB42: =P42 -> 1076190.5 | AC42: =VLOOKUP(AB42,$N$7:$O$106,2,0)/COUNTIF(AB$7:AB$118,AB42) -> 5 | AD42: =INDIRECT("M"&MATCH(AB42,$N$7:$N$106,0)+6) -> 44 | AE42: =ROUND(AE43+(($AE$7-$AE$118)/SUM($AF$7:$AF$117)*AF42),0) -> 30 | AF42: 77
A43: 1200000 | B43: 48 | F43: {=IF((SMALL(IF(D$7:D$19>=A43,D$7:D$19),1)-A43)<(IF(A43-IFERROR(LARGE(IF(D$7:D$19<=A43,D$7:D$19),1),D$19)<0,A43+IFERROR(LARGE(IF(D$7:D$19<=A43,D$7:D$19),1),D$19),A43-IFERROR(LARGE(IF(D$7:D$19<=A43,D$7:D$19),1),D$19))),SMALL(IF(D$7:D$19>=A43,D$7:D$19),1),IFERROR(LARGE(IF(D$7:D$19<=A43,D$7:D$19),1),D$19))} -> 1500000 | G43: =B43 -> 48 | K43: {=IF((SMALL(IF(I$7:I$27>=$A43,I$7:I$27),1)-$A43)<(IF($A43-IFERROR(LARGE(IF(I$7:I$27<=$A43,I$7:I$27),1),I$19)<0,$A43+IFERROR(LARGE(IF(I$7:I$27<=$A43,I$7:I$27),1),I$27),$A43-IFERROR(LARGE(IF(I$7:I$27<=$A43,I$7:I$27),1),I$19))),SMALL(IF(I$7:I$27>=$A43,I$7:I$27),1),IFERROR(LARGE(IF(I$7:I$27<=$A43,I$7:I$27),1),I$27))} -> 1000000 | L43: =B43 -> 48 | M43: 37 | N43: =N42+((($N$48-$N$34)/SUM($M$35:$M$48)*M43)) -> 558551.31 | O43: =SUMIF(P$7:P$118,N43,Q$7:Q$118) -> 21 | P43: {=IF((SMALL(IF(N$7:N$106>=$A43,N$7:N$106),1)-$A43)<(IF($A43-IFERROR(LARGE(IF(N$7:N$106<=$A43,N$7:N$106),1),N$106)<0,$A43+IFERROR(LARGE(IF(N$7:N$106<=$A43,N$7:N$106),1),N$106),$A43-IFERROR(LARGE(IF(N$7:N$106<=$A43,N$7:N$106),1),N$106))),SMALL(IF(N$7:N$106>=$A43,N$7:N$106),1),IFERROR(LARGE(IF(N$7:N$106<=$A43,N$7:N$106),1),N$106))} -> 1219047.6 | Q43: =G43 -> 48 | R43: 37 | S43: =A43 -> 1200000 | T43: =B43 -> 48 | U43: =R43 -> 37 | V43: =F43 -> 1500000 | W43: =VLOOKUP(V43,D$7:E$19,2,0)/COUNTIF(V$7:V$118,V43) -> 17.333333 | X43: =INDIRECT("C"&MATCH(V43,$D$7:$D$19,0)+6) -> 7 | Y43: =K43 -> 1000000 | Z43: =VLOOKUP(Y43,$I$7:$J$27,2,0)/COUNTIF(Y$7:Y$118,Y43) -> 33.25 | AA43: =INDIRECT("H"&MATCH(Y43,$I$7:$I$27,0)+6) -> 10 | AB43: =P43 -> 1219047.6 | AC43: =VLOOKUP(AB43,$N$7:$O$106,2,0)/COUNTIF(AB$7:AB$118,AB43) -> 48 | AD43: =INDIRECT("M"&MATCH(AB43,$N$7:$N$106,0)+6) -> 45 | AE43: =ROUND(AE44+(($AE$7-$AE$118)/SUM($AF$7:$AF$117)*AF43),0) -> 29 | AF43: 76
A44: 1300000 | B44: 12 | F44: {=IF((SMALL(IF(D$7:D$19>=A44,D$7:D$19),1)-A44)<(IF(A44-IFERROR(LARGE(IF(D$7:D$19<=A44,D$7:D$19),1),D$19)<0,A44+IFERROR(LARGE(IF(D$7:D$19<=A44,D$7:D$19),1),D$19),A44-IFERROR(LARGE(IF(D$7:D$19<=A44,D$7:D$19),1),D$19))),SMALL(IF(D$7:D$19>=A44,D$7:D$19),1),IFERROR(LARGE(IF(D$7:D$19<=A44,D$7:D$19),1),D$19))} -> 1500000 | G44: =B44 -> 12 | K44: {=IF((SMALL(IF(I$7:I$27>=$A44,I$7:I$27),1)-$A44)<(IF($A44-IFERROR(LARGE(IF(I$7:I$27<=$A44,I$7:I$27),1),I$19)<0,$A44+IFERROR(LARGE(IF(I$7:I$27<=$A44,I$7:I$27),1),I$27),$A44-IFERROR(LARGE(IF(I$7:I$27<=$A44,I$7:I$27),1),I$19))),SMALL(IF(I$7:I$27>=$A44,I$7:I$27),1),IFERROR(LARGE(IF(I$7:I$27<=$A44,I$7:I$27),1),I$27))} -> 1500000 | L44: =B44 -> 12 | M44: 38 | N44: =N43+((($N$48-$N$34)/SUM($M$35:$M$48)*M44)) -> 604426.56 | O44: =SUMIF(P$7:P$118,N44,Q$7:Q$118) -> 59 | P44: {=IF((SMALL(IF(N$7:N$106>=$A44,N$7:N$106),1)-$A44)<(IF($A44-IFERROR(LARGE(IF(N$7:N$106<=$A44,N$7:N$106),1),N$106)<0,$A44+IFERROR(LARGE(IF(N$7:N$106<=$A44,N$7:N$106),1),N$106),$A44-IFERROR(LARGE(IF(N$7:N$106<=$A44,N$7:N$106),1),N$106))),SMALL(IF(N$7:N$106>=$A44,N$7:N$106),1),IFERROR(LARGE(IF(N$7:N$106<=$A44,N$7:N$106),1),N$106))} -> 1365079.4 | Q44: =G44 -> 12 | R44: 38 | S44: =A44 -> 1300000 | T44: =B44 -> 12 | U44: =R44 -> 38 | V44: =F44 -> 1500000 | W44: =VLOOKUP(V44,D$7:E$19,2,0)/COUNTIF(V$7:V$118,V44) -> 17.333333 | X44: =INDIRECT("C"&MATCH(V44,$D$7:$D$19,0)+6) -> 7 | Y44: =K44 -> 1500000 | Z44: =VLOOKUP(Y44,$I$7:$J$27,2,0)/COUNTIF(Y$7:Y$118,Y44) -> 15.333333 | AA44: =INDIRECT("H"&MATCH(Y44,$I$7:$I$27,0)+6) -> 11 | AB44: =P44 -> 1365079.4 | AC44: =VLOOKUP(AB44,$N$7:$O$106,2,0)/COUNTIF(AB$7:AB$118,AB44) -> 11.5 | AD44: =INDIRECT("M"&MATCH(AB44,$N$7:$N$106,0)+6) -> 46 | AE44: =ROUND(AE45+(($AE$7-$AE$118)/SUM($AF$7:$AF$117)*AF44),0) -> 28 | AF44: 75
A45: 1400000 | B45: 11 | F45: {=IF((SMALL(IF(D$7:D$19>=A45,D$7:D$19),1)-A45)<(IF(A45-IFERROR(LARGE(IF(D$7:D$19<=A45,D$7:D$19),1),D$19)<0,A45+IFERROR(LARGE(IF(D$7:D$19<=A45,D$7:D$19),1),D$19),A45-IFERROR(LARGE(IF(D$7:D$19<=A45,D$7:D$19),1),D$19))),SMALL(IF(D$7:D$19>=A45,D$7:D$19),1),IFERROR(LARGE(IF(D$7:D$19<=A45,D$7:D$19),1),D$19))} -> 1500000 | G45: =B45 -> 11 | K45: {=IF((SMALL(IF(I$7:I$27>=$A45,I$7:I$27),1)-$A45)<(IF($A45-IFERROR(LARGE(IF(I$7:I$27<=$A45,I$7:I$27),1),I$19)<0,$A45+IFERROR(LARGE(IF(I$7:I$27<=$A45,I$7:I$27),1),I$27),$A45-IFERROR(LARGE(IF(I$7:I$27<=$A45,I$7:I$27),1),I$19))),SMALL(IF(I$7:I$27>=$A45,I$7:I$27),1),IFERROR(LARGE(IF(I$7:I$27<=$A45,I$7:I$27),1),I$27))} -> 1500000 | L45: =B45 -> 11 | M45: 39 | N45: =N44+((($N$48-$N$34)/SUM($M$35:$M$48)*M45)) -> 651509.05 | O45: =SUMIF(P$7:P$118,N45,Q$7:Q$118) -> 31 | P45: {=IF((SMALL(IF(N$7:N$106>=$A45,N$7:N$106),1)-$A45)<(IF($A45-IFERROR(LARGE(IF(N$7:N$106<=$A45,N$7:N$106),1),N$106)<0,$A45+IFERROR(LARGE(IF(N$7:N$106<=$A45,N$7:N$106),1),N$106),$A45-IFERROR(LARGE(IF(N$7:N$106<=$A45,N$7:N$106),1),N$106))),SMALL(IF(N$7:N$106>=$A45,N$7:N$106),1),IFERROR(LARGE(IF(N$7:N$106<=$A45,N$7:N$106),1),N$106))} -> 1365079.4 | Q45: =G45 -> 11 | R45: 39 | S45: =A45 -> 1400000 | T45: =B45 -> 11 | U45: =R45 -> 39 | V45: =F45 -> 1500000 | W45: =VLOOKUP(V45,D$7:E$19,2,0)/COUNTIF(V$7:V$118,V45) -> 17.333333 | X45: =INDIRECT("C"&MATCH(V45,$D$7:$D$19,0)+6) -> 7 | Y45: =K45 -> 1500000 | Z45: =VLOOKUP(Y45,$I$7:$J$27,2,0)/COUNTIF(Y$7:Y$118,Y45) -> 15.333333 | AA45: =INDIRECT("H"&MATCH(Y45,$I$7:$I$27,0)+6) -> 11 | AB45: =P45 -> 1365079.4 | AC45: =VLOOKUP(AB45,$N$7:$O$106,2,0)/COUNTIF(AB$7:AB$118,AB45) -> 11.5 | AD45: =INDIRECT("M"&MATCH(AB45,$N$7:$N$106,0)+6) -> 46 | AE45: =ROUND(AE46+(($AE$7-$AE$118)/SUM($AF$7:$AF$117)*AF45),0) -> 27 | AF45: 74
A46: 1500000 | B46: 32 | F46: {=IF((SMALL(IF(D$7:D$19>=A46,D$7:D$19),1)-A46)<(IF(A46-IFERROR(LARGE(IF(D$7:D$19<=A46,D$7:D$19),1),D$19)<0,A46+IFERROR(LARGE(IF(D$7:D$19<=A46,D$7:D$19),1),D$19),A46-IFERROR(LARGE(IF(D$7:D$19<=A46,D$7:D$19),1),D$19))),SMALL(IF(D$7:D$19>=A46,D$7:D$19),1),IFERROR(LARGE(IF(D$7:D$19<=A46,D$7:D$19),1),D$19))} -> 1500000 | G46: =B46 -> 32 | K46: {=IF((SMALL(IF(I$7:I$27>=$A46,I$7:I$27),1)-$A46)<(IF($A46-IFERROR(LARGE(IF(I$7:I$27<=$A46,I$7:I$27),1),I$19)<0,$A46+IFERROR(LARGE(IF(I$7:I$27<=$A46,I$7:I$27),1),I$27),$A46-IFERROR(LARGE(IF(I$7:I$27<=$A46,I$7:I$27),1),I$19))),SMALL(IF(I$7:I$27>=$A46,I$7:I$27),1),IFERROR(LARGE(IF(I$7:I$27<=$A46,I$7:I$27),1),I$27))} -> 1500000 | L46: =B46 -> 32 | M46: 40 | N46: =N45+((($N$48-$N$34)/SUM($M$35:$M$48)*M46)) -> 699798.79 | O46: =SUMIF(P$7:P$118,N46,Q$7:Q$118) -> 21 | P46: {=IF((SMALL(IF(N$7:N$106>=$A46,N$7:N$106),1)-$A46)<(IF($A46-IFERROR(LARGE(IF(N$7:N$106<=$A46,N$7:N$106),1),N$106)<0,$A46+IFERROR(LARGE(IF(N$7:N$106<=$A46,N$7:N$106),1),N$106),$A46-IFERROR(LARGE(IF(N$7:N$106<=$A46,N$7:N$106),1),N$106))),SMALL(IF(N$7:N$106>=$A46,N$7:N$106),1),IFERROR(LARGE(IF(N$7:N$106<=$A46,N$7:N$106),1),N$106))} -> 1514285.7 | Q46: =G46 -> 32 | R46: 40 | S46: =A46 -> 1500000 | T46: =B46 -> 32 | U46: =R46 -> 40 | V46: =F46 -> 1500000 | W46: =VLOOKUP(V46,D$7:E$19,2,0)/COUNTIF(V$7:V$118,V46) -> 17.333333 | X46: =INDIRECT("C"&MATCH(V46,$D$7:$D$19,0)+6) -> 7 | Y46: =K46 -> 1500000 | Z46: =VLOOKUP(Y46,$I$7:$J$27,2,0)/COUNTIF(Y$7:Y$118,Y46) -> 15.333333 | AA46: =INDIRECT("H"&MATCH(Y46,$I$7:$I$27,0)+6) -> 11 | AB46: =P46 -> 1514285.7 | AC46: =VLOOKUP(AB46,$N$7:$O$106,2,0)/COUNTIF(AB$7:AB$118,AB46) -> 32 | AD46: =INDIRECT("M"&MATCH(AB46,$N$7:$N$106,0)+6) -> 47 | AE46: =ROUND(AE47+(($AE$7-$AE$118)/SUM($AF$7:$AF$117)*AF46),0) -> 26 | AF46: 73
A47: 1600000 | B47: 29 | F47: {=IF((SMALL(IF(D$7:D$19>=A47,D$7:D$19),1)-A47)<(IF(A47-IFERROR(LARGE(IF(D$7:D$19<=A47,D$7:D$19),1),D$19)<0,A47+IFERROR(LARGE(IF(D$7:D$19<=A47,D$7:D$19),1),D$19),A47-IFERROR(LARGE(IF(D$7:D$19<=A47,D$7:D$19),1),D$19))),SMALL(IF(D$7:D$19>=A47,D$7:D$19),1),IFERROR(LARGE(IF(D$7:D$19<=A47,D$7:D$19),1),D$19))} -> 1500000 | G47: =B47 -> 29 | K47: {=IF((SMALL(IF(I$7:I$27>=$A47,I$7:I$27),1)-$A47)<(IF($A47-IFERROR(LARGE(IF(I$7:I$27<=$A47,I$7:I$27),1),I$19)<0,$A47+IFERROR(LARGE(IF(I$7:I$27<=$A47,I$7:I$27),1),I$27),$A47-IFERROR(LARGE(IF(I$7:I$27<=$A47,I$7:I$27),1),I$19))),SMALL(IF(I$7:I$27>=$A47,I$7:I$27),1),IFERROR(LARGE(IF(I$7:I$27<=$A47,I$7:I$27),1),I$27))} -> 1500000 | L47: =B47 -> 29 | M47: 41 | N47: =N46+((($N$48-$N$34)/SUM($M$35:$M$48)*M47)) -> 749295.77 | O47: =SUMIF(P$7:P$118,N47,Q$7:Q$118) -> 19 | P47: {=IF((SMALL(IF(N$7:N$106>=$A47,N$7:N$106),1)-$A47)<(IF($A47-IFERROR(LARGE(IF(N$7:N$106<=$A47,N$7:N$106),1),N$106)<0,$A47+IFERROR(LARGE(IF(N$7:N$106<=$A47,N$7:N$106),1),N$106),$A47-IFERROR(LARGE(IF(N$7:N$106<=$A47,N$7:N$106),1),N$106))),SMALL(IF(N$7:N$106>=$A47,N$7:N$106),1),IFERROR(LARGE(IF(N$7:N$106<=$A47,N$7:N$106),1),N$106))} -> 1666666.7 | Q47: =G47 -> 29 | R47: 41 | S47: =A47 -> 1600000 | T47: =B47 -> 29 | U47: =R47 -> 41 | V47: =F47 -> 1500000 | W47: =VLOOKUP(V47,D$7:E$19,2,0)/COUNTIF(V$7:V$118,V47) -> 17.333333 | X47: =INDIRECT("C"&MATCH(V47,$D$7:$D$19,0)+6) -> 7 | Y47: =K47 -> 1500000 | Z47: =VLOOKUP(Y47,$I$7:$J$27,2,0)/COUNTIF(Y$7:Y$118,Y47) -> 15.333333 | AA47: =INDIRECT("H"&MATCH(Y47,$I$7:$I$27,0)+6) -> 11 | AB47: =P47 -> 1666666.7 | AC47: =VLOOKUP(AB47,$N$7:$O$106,2,0)/COUNTIF(AB$7:AB$118,AB47) -> 17.5 | AD47: =INDIRECT("M"&MATCH(AB47,$N$7:$N$106,0)+6) -> 48 | AE47: =ROUND(AE48+(($AE$7-$AE$118)/SUM($AF$7:$AF$117)*AF47),0) -> 25 | AF47: 72
A48: 1700000 | B48: 6 | F48: {=IF((SMALL(IF(D$7:D$19>=A48,D$7:D$19),1)-A48)<(IF(A48-IFERROR(LARGE(IF(D$7:D$19<=A48,D$7:D$19),1),D$19)<0,A48+IFERROR(LARGE(IF(D$7:D$19<=A48,D$7:D$19),1),D$19),A48-IFERROR(LARGE(IF(D$7:D$19<=A48,D$7:D$19),1),D$19))),SMALL(IF(D$7:D$19>=A48,D$7:D$19),1),IFERROR(LARGE(IF(D$7:D$19<=A48,D$7:D$19),1),D$19))} -> 1500000 | G48: =B48 -> 6 | K48: {=IF((SMALL(IF(I$7:I$27>=$A48,I$7:I$27),1)-$A48)<(IF($A48-IFERROR(LARGE(IF(I$7:I$27<=$A48,I$7:I$27),1),I$19)<0,$A48+IFERROR(LARGE(IF(I$7:I$27<=$A48,I$7:I$27),1),I$27),$A48-IFERROR(LARGE(IF(I$7:I$27<=$A48,I$7:I$27),1),I$19))),SMALL(IF(I$7:I$27>=$A48,I$7:I$27),1),IFERROR(LARGE(IF(I$7:I$27<=$A48,I$7:I$27),1),I$27))} -> 1500000 | L48: =B48 -> 6 | M48: 42 | N48: 800000 | O48: =SUMIF(P$7:P$118,N48,Q$7:Q$118) -> 71 | P48: {=IF((SMALL(IF(N$7:N$106>=$A48,N$7:N$106),1)-$A48)<(IF($A48-IFERROR(LARGE(IF(N$7:N$106<=$A48,N$7:N$106),1),N$106)<0,$A48+IFERROR(LARGE(IF(N$7:N$106<=$A48,N$7:N$106),1),N$106),$A48-IFERROR(LARGE(IF(N$7:N$106<=$A48,N$7:N$106),1),N$106))),SMALL(IF(N$7:N$106>=$A48,N$7:N$106),1),IFERROR(LARGE(IF(N$7:N$106<=$A48,N$7:N$106),1),N$106))} -> 1666666.7 | Q48: =G48 -> 6 | R48: 42 | S48: =A48 -> 1700000 | T48: =B48 -> 6 | U48: =R48 -> 42 | V48: =F48 -> 1500000 | W48: =VLOOKUP(V48,D$7:E$19,2,0)/COUNTIF(V$7:V$118,V48) -> 17.333333 | X48: =INDIRECT("C"&MATCH(V48,$D$7:$D$19,0)+6) -> 7 | Y48: =K48 -> 1500000 | Z48: =VLOOKUP(Y48,$I$7:$J$27,2,0)/COUNTIF(Y$7:Y$118,Y48) -> 15.333333 | AA48: =INDIRECT("H"&MATCH(Y48,$I$7:$I$27,0)+6) -> 11 | AB48: =P48 -> 1666666.7 | AC48: =VLOOKUP(AB48,$N$7:$O$106,2,0)/COUNTIF(AB$7:AB$118,AB48) -> 17.5 | AD48: =INDIRECT("M"&MATCH(AB48,$N$7:$N$106,0)+6) -> 48 | AE48: =ROUND(AE49+(($AE$7-$AE$118)/SUM($AF$7:$AF$117)*AF48),0) -> 24 | AF48: 71
A49: 1750000 | B49: 2 | F49: {=IF((SMALL(IF(D$7:D$19>=A49,D$7:D$19),1)-A49)<(IF(A49-IFERROR(LARGE(IF(D$7:D$19<=A49,D$7:D$19),1),D$19)<0,A49+IFERROR(LARGE(IF(D$7:D$19<=A49,D$7:D$19),1),D$19),A49-IFERROR(LARGE(IF(D$7:D$19<=A49,D$7:D$19),1),D$19))),SMALL(IF(D$7:D$19>=A49,D$7:D$19),1),IFERROR(LARGE(IF(D$7:D$19<=A49,D$7:D$19),1),D$19))} -> 1500000 | G49: =B49 -> 2 | K49: {=IF((SMALL(IF(I$7:I$27>=$A49,I$7:I$27),1)-$A49)<(IF($A49-IFERROR(LARGE(IF(I$7:I$27<=$A49,I$7:I$27),1),I$19)<0,$A49+IFERROR(LARGE(IF(I$7:I$27<=$A49,I$7:I$27),1),I$27),$A49-IFERROR(LARGE(IF(I$7:I$27<=$A49,I$7:I$27),1),I$19))),SMALL(IF(I$7:I$27>=$A49,I$7:I$27),1),IFERROR(LARGE(IF(I$7:I$27<=$A49,I$7:I$27),1),I$27))} -> 1500000 | L49: =B49 -> 2 | M49: 43 | N49: =N48+((($N$62-$N$48)/SUM($M$49:$M$62)*M49)) -> 936507.94 | O49: =SUMIF(P$7:P$118,N49,Q$7:Q$118) -> 102 | P49: {=IF((SMALL(IF(N$7:N$106>=$A49,N$7:N$106),1)-$A49)<(IF($A49-IFERROR(LARGE(IF(N$7:N$106<=$A49,N$7:N$106),1),N$106)<0,$A49+IFERROR(LARGE(IF(N$7:N$106<=$A49,N$7:N$106),1),N$106),$A49-IFERROR(LARGE(IF(N$7:N$106<=$A49,N$7:N$106),1),N$106))),SMALL(IF(N$7:N$106>=$A49,N$7:N$106),1),IFERROR(LARGE(IF(N$7:N$106<=$A49,N$7:N$106),1),N$106))} -> 1822222.2 | Q49: =G49 -> 2 | R49: 43 | S49: =A49 -> 1750000 | T49: =B49 -> 2 | U49: =R49 -> 43 | V49: =F49 -> 1500000 | W49: =VLOOKUP(V49,D$7:E$19,2,0)/COUNTIF(V$7:V$118,V49) -> 17.333333 | X49: =INDIRECT("C"&MATCH(V49,$D$7:$D$19,0)+6) -> 7 | Y49: =K49 -> 1500000 | Z49: =VLOOKUP(Y49,$I$7:$J$27,2,0)/COUNTIF(Y$7:Y$118,Y49) -> 15.333333 | AA49: =INDIRECT("H"&MATCH(Y49,$I$7:$I$27,0)+6) -> 11 | AB49: =P49 -> 1822222.2 | AC49: =VLOOKUP(AB49,$N$7:$O$106,2,0)/COUNTIF(AB$7:AB$118,AB49) -> 5.6666667 | AD49: =INDIRECT("M"&MATCH(AB49,$N$7:$N$106,0)+6) -> 49 | AE49: =ROUND(AE50+(($AE$7-$AE$118)/SUM($AF$7:$AF$117)*AF49),0) -> 23 | AF49: 70
A50: 1800000 | B50: 12 | F50: {=IF((SMALL(IF(D$7:D$19>=A50,D$7:D$19),1)-A50)<(IF(A50-IFERROR(LARGE(IF(D$7:D$19<=A50,D$7:D$19),1),D$19)<0,A50+IFERROR(LARGE(IF(D$7:D$19<=A50,D$7:D$19),1),D$19),A50-IFERROR(LARGE(IF(D$7:D$19<=A50,D$7:D$19),1),D$19))),SMALL(IF(D$7:D$19>=A50,D$7:D$19),1),IFERROR(LARGE(IF(D$7:D$19<=A50,D$7:D$19),1),D$19))} -> 1500000 | G50: =B50 -> 12 | K50: {=IF((SMALL(IF(I$7:I$27>=$A50,I$7:I$27),1)-$A50)<(IF($A50-IFERROR(LARGE(IF(I$7:I$27<=$A50,I$7:I$27),1),I$19)<0,$A50+IFERROR(LARGE(IF(I$7:I$27<=$A50,I$7:I$27),1),I$27),$A50-IFERROR(LARGE(IF(I$7:I$27<=$A50,I$7:I$27),1),I$19))),SMALL(IF(I$7:I$27>=$A50,I$7:I$27),1),IFERROR(LARGE(IF(I$7:I$27<=$A50,I$7:I$27),1),I$27))} -> 2000000 | L50: =B50 -> 12 | M50: 44 | N50: =N49+((($N$62-$N$48)/SUM($M$49:$M$62)*M50)) -> 1076190.5 | O50: =SUMIF(P$7:P$118,N50,Q$7:Q$118) -> 5 | P50: {=IF((SMALL(IF(N$7:N$106>=$A50,N$7:N$106),1)-$A50)<(IF($A50-IFERROR(LARGE(IF(N$7:N$106<=$A50,N$7:N$106),1),N$106)<0,$A50+IFERROR(LARGE(IF(N$7:N$106<=$A50,N$7:N$106),1),N$106),$A50-IFERROR(LARGE(IF(N$7:N$106<=$A50,N$7:N$106),1),N$106))),SMALL(IF(N$7:N$106>=$A50,N$7:N$106),1),IFERROR(LARGE(IF(N$7:N$106<=$A50,N$7:N$106),1),N$106))} -> 1822222.2 | Q50: =G50 -> 12 | R50: 44 | S50: =A50 -> 1800000 | T50: =B50 -> 12 | U50: =R50 -> 44 | V50: =F50 -> 1500000 | W50: =VLOOKUP(V50,D$7:E$19,2,0)/COUNTIF(V$7:V$118,V50) -> 17.333333 | X50: =INDIRECT("C"&MATCH(V50,$D$7:$D$19,0)+6) -> 7 | Y50: =K50 -> 2000000 | Z50: =VLOOKUP(Y50,$I$7:$J$27,2,0)/COUNTIF(Y$7:Y$118,Y50) -> 14.125 | AA50: =INDIRECT("H"&MATCH(Y50,$I$7:$I$27,0)+6) -> 12 | AB50: =P50 -> 1822222.2 | AC50: =VLOOKUP(AB50,$N$7:$O$106,2,0)/COUNTIF(AB$7:AB$118,AB50) -> 5.6666667 | AD50: =INDIRECT("M"&MATCH(AB50,$N$7:$N$106,0)+6) -> 49 | AE50: =ROUND(AE51+(($AE$7-$AE$118)/SUM($AF$7:$AF$117)*AF50),0) -> 22 | AF50: 69
A51: 1900000 | B51: 3 | F51: {=IF((SMALL(IF(D$7:D$19>=A51,D$7:D$19),1)-A51)<(IF(A51-IFERROR(LARGE(IF(D$7:D$19<=A51,D$7:D$19),1),D$19)<0,A51+IFERROR(LARGE(IF(D$7:D$19<=A51,D$7:D$19),1),D$19),A51-IFERROR(LARGE(IF(D$7:D$19<=A51,D$7:D$19),1),D$19))),SMALL(IF(D$7:D$19>=A51,D$7:D$19),1),IFERROR(LARGE(IF(D$7:D$19<=A51,D$7:D$19),1),D$19))} -> 1500000 | G51: =B51 -> 3 | K51: {=IF((SMALL(IF(I$7:I$27>=$A51,I$7:I$27),1)-$A51)<(IF($A51-IFERROR(LARGE(IF(I$7:I$27<=$A51,I$7:I$27),1),I$19)<0,$A51+IFERROR(LARGE(IF(I$7:I$27<=$A51,I$7:I$27),1),I$27),$A51-IFERROR(LARGE(IF(I$7:I$27<=$A51,I$7:I$27),1),I$19))),SMALL(IF(I$7:I$27>=$A51,I$7:I$27),1),IFERROR(LARGE(IF(I$7:I$27<=$A51,I$7:I$27),1),I$27))} -> 2000000 | L51: =B51 -> 3 | M51: 45 | N51: =N50+((($N$62-$N$48)/SUM($M$49:$M$62)*M51)) -> 1219047.6 | O51: =SUMIF(P$7:P$118,N51,Q$7:Q$118) -> 48 | P51: {=IF((SMALL(IF(N$7:N$106>=$A51,N$7:N$106),1)-$A51)<(IF($A51-IFERROR(LARGE(IF(N$7:N$106<=$A51,N$7:N$106),1),N$106)<0,$A51+IFERROR(LARGE(IF(N$7:N$106<=$A51,N$7:N$106),1),N$106),$A51-IFERROR(LARGE(IF(N$7:N$106<=$A51,N$7:N$106),1),N$106))),SMALL(IF(N$7:N$106>=$A51,N$7:N$106),1),IFERROR(LARGE(IF(N$7:N$106<=$A51,N$7:N$106),1),N$106))} -> 1822222.2 | Q51: =G51 -> 3 | R51: 45 | S51: =A51 -> 1900000 | T51: =B51 -> 3 | U51: =R51 -> 45 | V51: =F51 -> 1500000 | W51: =VLOOKUP(V51,D$7:E$19,2,0)/COUNTIF(V$7:V$118,V51) -> 17.333333 | X51: =INDIRECT("C"&MATCH(V51,$D$7:$D$19,0)+6) -> 7 | Y51: =K51 -> 2000000 | Z51: =VLOOKUP(Y51,$I$7:$J$27,2,0)/COUNTIF(Y$7:Y$118,Y51) -> 14.125 | AA51: =INDIRECT("H"&MATCH(Y51,$I$7:$I$27,0)+6) -> 12 | AB51: =P51 -> 1822222.2 | AC51: =VLOOKUP(AB51,$N$7:$O$106,2,0)/COUNTIF(AB$7:AB$118,AB51) -> 5.6666667 | AD51: =INDIRECT("M"&MATCH(AB51,$N$7:$N$106,0)+6) -> 49 | AE51: =ROUND(AE52+(($AE$7-$AE$118)/SUM($AF$7:$AF$117)*AF51),0) -> 21 | AF51: 68
A52: 2000000 | B52: 48 | F52: {=IF((SMALL(IF(D$7:D$19>=A52,D$7:D$19),1)-A52)<(IF(A52-IFERROR(LARGE(IF(D$7:D$19<=A52,D$7:D$19),1),D$19)<0,A52+IFERROR(LARGE(IF(D$7:D$19<=A52,D$7:D$19),1),D$19),A52-IFERROR(LARGE(IF(D$7:D$19<=A52,D$7:D$19),1),D$19))),SMALL(IF(D$7:D$19>=A52,D$7:D$19),1),IFERROR(LARGE(IF(D$7:D$19<=A52,D$7:D$19),1),D$19))} -> 1500000 | G52: =B52 -> 48 | K52: {=IF((SMALL(IF(I$7:I$27>=$A52,I$7:I$27),1)-$A52)<(IF($A52-IFERROR(LARGE(IF(I$7:I$27<=$A52,I$7:I$27),1),I$19)<0,$A52+IFERROR(LARGE(IF(I$7:I$27<=$A52,I$7:I$27),1),I$27),$A52-IFERROR(LARGE(IF(I$7:I$27<=$A52,I$7:I$27),1),I$19))),SMALL(IF(I$7:I$27>=$A52,I$7:I$27),1),IFERROR(LARGE(IF(I$7:I$27<=$A52,I$7:I$27),1),I$27))} -> 2000000 | L52: =B52 -> 48 | M52: 46 | N52: =N51+((($N$62-$N$48)/SUM($M$49:$M$62)*M52)) -> 1365079.4 | O52: =SUMIF(P$7:P$118,N52,Q$7:Q$118) -> 23 | P52: {=IF((SMALL(IF(N$7:N$106>=$A52,N$7:N$106),1)-$A52)<(IF($A52-IFERROR(LARGE(IF(N$7:N$106<=$A52,N$7:N$106),1),N$106)<0,$A52+IFERROR(LARGE(IF(N$7:N$106<=$A52,N$7:N$106),1),N$106),$A52-IFERROR(LARGE(IF(N$7:N$106<=$A52,N$7:N$106),1),N$106))),SMALL(IF(N$7:N$106>=$A52,N$7:N$106),1),IFERROR(LARGE(IF(N$7:N$106<=$A52,N$7:N$106),1),N$106))} -> 1980952.4 | Q52: =G52 -> 48 | R52: 46 | S52: =A52 -> 2000000 | T52: =B52 -> 48 | U52: =R52 -> 46 | V52: =F52 -> 1500000 | W52: =VLOOKUP(V52,D$7:E$19,2,0)/COUNTIF(V$7:V$118,V52) -> 17.333333 | X52: =INDIRECT("C"&MATCH(V52,$D$7:$D$19,0)+6) -> 7 | Y52: =K52 -> 2000000 | Z52: =VLOOKUP(Y52,$I$7:$J$27,2,0)/COUNTIF(Y$7:Y$118,Y52) -> 14.125 | AA52: =INDIRECT("H"&MATCH(Y52,$I$7:$I$27,0)+6) -> 12 | AB52: =P52 -> 1980952.4 | AC52: =VLOOKUP(AB52,$N$7:$O$106,2,0)/COUNTIF(AB$7:AB$118,AB52) -> 48 | AD52: =INDIRECT("M"&MATCH(AB52,$N$7:$N$106,0)+6) -> 50 | AE52: =ROUND(AE53+(($AE$7-$AE$118)/SUM($AF$7:$AF$117)*AF52),0) -> 20 | AF52: 67
A53: 2100000 | B53: 1 | F53: {=IF((SMALL(IF(D$7:D$19>=A53,D$7:D$19),1)-A53)<(IF(A53-IFERROR(LARGE(IF(D$7:D$19<=A53,D$7:D$19),1),D$19)<0,A53+IFERROR(LARGE(IF(D$7:D$19<=A53,D$7:D$19),1),D$19),A53-IFERROR(LARGE(IF(D$7:D$19<=A53,D$7:D$19),1),D$19))),SMALL(IF(D$7:D$19>=A53,D$7:D$19),1),IFERROR(LARGE(IF(D$7:D$19<=A53,D$7:D$19),1),D$19))} -> 1500000 | G53: =B53 -> 1 | K53: {=IF((SMALL(IF(I$7:I$27>=$A53,I$7:I$27),1)-$A53)<(IF($A53-IFERROR(LARGE(IF(I$7:I$27<=$A53,I$7:I$27),1),I$19)<0,$A53+IFERROR(LARGE(IF(I$7:I$27<=$A53,I$7:I$27),1),I$27),$A53-IFERROR(LARGE(IF(I$7:I$27<=$A53,I$7:I$27),1),I$19))),SMALL(IF(I$7:I$27>=$A53,I$7:I$27),1),IFERROR(LARGE(IF(I$7:I$27<=$A53,I$7:I$27),1),I$27))} -> 2000000 | L53: =B53 -> 1 | M53: 47 | N53: =N52+((($N$62-$N$48)/SUM($M$49:$M$62)*M53)) -> 1514285.7 | O53: =SUMIF(P$7:P$118,N53,Q$7:Q$118) -> 32 | P53: {=IF((SMALL(IF(N$7:N$106>=$A53,N$7:N$106),1)-$A53)<(IF($A53-IFERROR(LARGE(IF(N$7:N$106<=$A53,N$7:N$106),1),N$106)<0,$A53+IFERROR(LARGE(IF(N$7:N$106<=$A53,N$7:N$106),1),N$106),$A53-IFERROR(LARGE(IF(N$7:N$106<=$A53,N$7:N$106),1),N$106))),SMALL(IF(N$7:N$106>=$A53,N$7:N$106),1),IFERROR(LARGE(IF(N$7:N$106<=$A53,N$7:N$106),1),N$106))} -> 2142857.1 | Q53: =G53 -> 1 | R53: 47 | S53: =A53 -> 2100000 | T53: =B53 -> 1 | U53: =R53 -> 47 | V53: =F53 -> 1500000 | W53: =VLOOKUP(V53,D$7:E$19,2,0)/COUNTIF(V$7:V$118,V53) -> 17.333333 | X53: =INDIRECT("C"&MATCH(V53,$D$7:$D$19,0)+6) -> 7 | Y53: =K53 -> 2000000 | Z53: =VLOOKUP(Y53,$I$7:$J$27,2,0)/COUNTIF(Y$7:Y$118,Y53) -> 14.125 | AA53: =INDIRECT("H"&MATCH(Y53,$I$7:$I$27,0)+6) -> 12 | AB53: =P53 -> 2142857.1 | AC53: =VLOOKUP(AB53,$N$7:$O$106,2,0)/COUNTIF(AB$7:AB$118,AB53) -> 2.5 | AD53: =INDIRECT("M"&MATCH(AB53,$N$7:$N$106,0)+6) -> 51 | AE53: =ROUND(AE54+(($AE$7-$AE$118)/SUM($AF$7:$AF$117)*AF53),0) -> 19 | AF53: 66
A54: 2200000 | B54: 4 | F54: {=IF((SMALL(IF(D$7:D$19>=A54,D$7:D$19),1)-A54)<(IF(A54-IFERROR(LARGE(IF(D$7:D$19<=A54,D$7:D$19),1),D$19)<0,A54+IFERROR(LARGE(IF(D$7:D$19<=A54,D$7:D$19),1),D$19),A54-IFERROR(LARGE(IF(D$7:D$19<=A54,D$7:D$19),1),D$19))),SMALL(IF(D$7:D$19>=A54,D$7:D$19),1),IFERROR(LARGE(IF(D$7:D$19<=A54,D$7:D$19),1),D$19))} -> 1500000 | G54: =B54 -> 4 | K54: {=IF((SMALL(IF(I$7:I$27>=$A54,I$7:I$27),1)-$A54)<(IF($A54-IFERROR(LARGE(IF(I$7:I$27<=$A54,I$7:I$27),1),I$19)<0,$A54+IFERROR(LARGE(IF(I$7:I$27<=$A54,I$7:I$27),1),I$27),$A54-IFERROR(LARGE(IF(I$7:I$27<=$A54,I$7:I$27),1),I$19))),SMALL(IF(I$7:I$27>=$A54,I$7:I$27),1),IFERROR(LARGE(IF(I$7:I$27<=$A54,I$7:I$27),1),I$27))} -> 2000000 | L54: =B54 -> 4 | M54: 48 | N54: =N53+((($N$62-$N$48)/SUM($M$49:$M$62)*M54)) -> 1666666.7 | O54: =SUMIF(P$7:P$118,N54,Q$7:Q$118) -> 35 | P54: {=IF((SMALL(IF(N$7:N$106>=$A54,N$7:N$106),1)-$A54)<(IF($A54-IFERROR(LARGE(IF(N$7:N$106<=$A54,N$7:N$106),1),N$106)<0,$A54+IFERROR(LARGE(IF(N$7:N$106<=$A54,N$7:N$106),1),N$106),$A54-IFERROR(LARGE(IF(N$7:N$106<=$A54,N$7:N$106),1),N$106))),SMALL(IF(N$7:N$106>=$A54,N$7:N$106),1),IFERROR(LARGE(IF(N$7:N$106<=$A54,N$7:N$106),1),N$106))} -> 2142857.1 | Q54: =G54 -> 4 | R54: 48 | S54: =A54 -> 2200000 | T54: =B54 -> 4 | U54: =R54 -> 48 | V54: =F54 -> 1500000 | W54: =VLOOKUP(V54,D$7:E$19,2,0)/COUNTIF(V$7:V$118,V54) -> 17.333333 | X54: =INDIRECT("C"&MATCH(V54,$D$7:$D$19,0)+6) -> 7 | Y54: =K54 -> 2000000 | Z54: =VLOOKUP(Y54,$I$7:$J$27,2,0)/COUNTIF(Y$7:Y$118,Y54) -> 14.125 | AA54: =INDIRECT("H"&MATCH(Y54,$I$7:$I$27,0)+6) -> 12 | AB54: =P54 -> 2142857.1 | AC54: =VLOOKUP(AB54,$N$7:$O$106,2,0)/COUNTIF(AB$7:AB$118,AB54) -> 2.5 | AD54: =INDIRECT("M"&MATCH(AB54,$N$7:$N$106,0)+6) -> 51 | AE54: =ROUND(AE55+(($AE$7-$AE$118)/SUM($AF$7:$AF$117)*AF54),0) -> 18 | AF54: 65
A55: 2300000 | B55: 1 | F55: {=IF((SMALL(IF(D$7:D$19>=A55,D$7:D$19),1)-A55)<(IF(A55-IFERROR(LARGE(IF(D$7:D$19<=A55,D$7:D$19),1),D$19)<0,A55+IFERROR(LARGE(IF(D$7:D$19<=A55,D$7:D$19),1),D$19),A55-IFERROR(LARGE(IF(D$7:D$19<=A55,D$7:D$19),1),D$19))),SMALL(IF(D$7:D$19>=A55,D$7:D$19),1),IFERROR(LARGE(IF(D$7:D$19<=A55,D$7:D$19),1),D$19))} -> 3000000 | G55: =B55 -> 1 | K55: {=IF((SMALL(IF(I$7:I$27>=$A55,I$7:I$27),1)-$A55)<(IF($A55-IFERROR(LARGE(IF(I$7:I$27<=$A55,I$7:I$27),1),I$19)<0,$A55+IFERROR(LARGE(IF(I$7:I$27<=$A55,I$7:I$27),1),I$27),$A55-IFERROR(LARGE(IF(I$7:I$27<=$A55,I$7:I$27),1),I$19))),SMALL(IF(I$7:I$27>=$A55,I$7:I$27),1),IFERROR(LARGE(IF(I$7:I$27<=$A55,I$7:I$27),1),I$27))} -> 2000000 | L55: =B55 -> 1 | M55: 49 | N55: =N54+((($N$62-$N$48)/SUM($M$49:$M$62)*M55)) -> 1822222.2 | O55: =SUMIF(P$7:P$118,N55,Q$7:Q$118) -> 17 | P55: {=IF((SMALL(IF(N$7:N$106>=$A55,N$7:N$106),1)-$A55)<(IF($A55-IFERROR(LARGE(IF(N$7:N$106<=$A55,N$7:N$106),1),N$106)<0,$A55+IFERROR(LARGE(IF(N$7:N$106<=$A55,N$7:N$106),1),N$106),$A55-IFERROR(LARGE(IF(N$7:N$106<=$A55,N$7:N$106),1),N$106))),SMALL(IF(N$7:N$106>=$A55,N$7:N$106),1),IFERROR(LARGE(IF(N$7:N$106<=$A55,N$7:N$106),1),N$106))} -> 2307936.5 | Q55: =G55 -> 1 | R55: 49 | S55: =A55 -> 2300000 | T55: =B55 -> 1 | U55: =R55 -> 49 | V55: =F55 -> 3000000 | W55: =VLOOKUP(V55,D$7:E$19,2,0)/COUNTIF(V$7:V$118,V55) -> 15.125 | X55: =INDIRECT("C"&MATCH(V55,$D$7:$D$19,0)+6) -> 8 | Y55: =K55 -> 2000000 | Z55: =VLOOKUP(Y55,$I$7:$J$27,2,0)/COUNTIF(Y$7:Y$118,Y55) -> 14.125 | AA55: =INDIRECT("H"&MATCH(Y55,$I$7:$I$27,0)+6) -> 12 | AB55: =P55 -> 2307936.5 | AC55: =VLOOKUP(AB55,$N$7:$O$106,2,0)/COUNTIF(AB$7:AB$118,AB55) -> 1 | AD55: =INDIRECT("M"&MATCH(AB55,$N$7:$N$106,0)+6) -> 52 | AE55: =ROUND(AE56+(($AE$7-$AE$118)/SUM($AF$7:$AF$117)*AF55),0) -> 17 | AF55: 64
A56: 2400000 | B56: 15 | F56: {=IF((SMALL(IF(D$7:D$19>=A56,D$7:D$19),1)-A56)<(IF(A56-IFERROR(LARGE(IF(D$7:D$19<=A56,D$7:D$19),1),D$19)<0,A56+IFERROR(LARGE(IF(D$7:D$19<=A56,D$7:D$19),1),D$19),A56-IFERROR(LARGE(IF(D$7:D$19<=A56,D$7:D$19),1),D$19))),SMALL(IF(D$7:D$19>=A56,D$7:D$19),1),IFERROR(LARGE(IF(D$7:D$19<=A56,D$7:D$19),1),D$19))} -> 3000000 | G56: =B56 -> 15 | K56: {=IF((SMALL(IF(I$7:I$27>=$A56,I$7:I$27),1)-$A56)<(IF($A56-IFERROR(LARGE(IF(I$7:I$27<=$A56,I$7:I$27),1),I$19)<0,$A56+IFERROR(LARGE(IF(I$7:I$27<=$A56,I$7:I$27),1),I$27),$A56-IFERROR(LARGE(IF(I$7:I$27<=$A56,I$7:I$27),1),I$19))),SMALL(IF(I$7:I$27>=$A56,I$7:I$27),1),IFERROR(LARGE(IF(I$7:I$27<=$A56,I$7:I$27),1),I$27))} -> 2000000 | L56: =B56 -> 15 | M56: 50 | N56: =N55+((($N$62-$N$48)/SUM($M$49:$M$62)*M56)) -> 1980952.4 | O56: =SUMIF(P$7:P$118,N56,Q$7:Q$118) -> 48 | P56: {=IF((SMALL(IF(N$7:N$106>=$A56,N$7:N$106),1)-$A56)<(IF($A56-IFERROR(LARGE(IF(N$7:N$106<=$A56,N$7:N$106),1),N$106)<0,$A56+IFERROR(LARGE(IF(N$7:N$106<=$A56,N$7:N$106),1),N$106),$A56-IFERROR(LARGE(IF(N$7:N$106<=$A56,N$7:N$106),1),N$106))),SMALL(IF(N$7:N$106>=$A56,N$7:N$106),1),IFERROR(LARGE(IF(N$7:N$106<=$A56,N$7:N$106),1),N$106))} -> 2476190.5 | Q56: =G56 -> 15 | R56: 50 | S56: =A56 -> 2400000 | T56: =B56 -> 15 | U56: =R56 -> 50 | V56: =F56 -> 3000000 | W56: =VLOOKUP(V56,D$7:E$19,2,0)/COUNTIF(V$7:V$118,V56) -> 15.125 | X56: =INDIRECT("C"&MATCH(V56,$D$7:$D$19,0)+6) -> 8 | Y56: =K56 -> 2000000 | Z56: =VLOOKUP(Y56,$I$7:$J$27,2,0)/COUNTIF(Y$7:Y$118,Y56) -> 14.125 | AA56: =INDIRECT("H"&MATCH(Y56,$I$7:$I$27,0)+6) -> 12 | AB56: =P56 -> 2476190.5 | AC56: =VLOOKUP(AB56,$N$7:$O$106,2,0)/COUNTIF(AB$7:AB$118,AB56) -> 22 | AD56: =INDIRECT("M"&MATCH(AB56,$N$7:$N$106,0)+6) -> 53 | AE56: =ROUND(AE57+(($AE$7-$AE$118)/SUM($AF$7:$AF$117)*AF56),0) -> 16 | AF56: 63
A57: 2500000 | B57: 29 | F57: {=IF((SMALL(IF(D$7:D$19>=A57,D$7:D$19),1)-A57)<(IF(A57-IFERROR(LARGE(IF(D$7:D$19<=A57,D$7:D$19),1),D$19)<0,A57+IFERROR(LARGE(IF(D$7:D$19<=A57,D$7:D$19),1),D$19),A57-IFERROR(LARGE(IF(D$7:D$19<=A57,D$7:D$19),1),D$19))),SMALL(IF(D$7:D$19>=A57,D$7:D$19),1),IFERROR(LARGE(IF(D$7:D$19<=A57,D$7:D$19),1),D$19))} -> 3000000 | G57: =B57 -> 29 | K57: {=IF((SMALL(IF(I$7:I$27>=$A57,I$7:I$27),1)-$A57)<(IF($A57-IFERROR(LARGE(IF(I$7:I$27<=$A57,I$7:I$27),1),I$19)<0,$A57+IFERROR(LARGE(IF(I$7:I$27<=$A57,I$7:I$27),1),I$27),$A57-IFERROR(LARGE(IF(I$7:I$27<=$A57,I$7:I$27),1),I$19))),SMALL(IF(I$7:I$27>=$A57,I$7:I$27),1),IFERROR(LARGE(IF(I$7:I$27<=$A57,I$7:I$27),1),I$27))} -> 2000000 | L57: =B57 -> 29 | M57: 51 | N57: =N56+((($N$62-$N$48)/SUM($M$49:$M$62)*M57)) -> 2142857.1 | O57: =SUMIF(P$7:P$118,N57,Q$7:Q$118) -> 5 | P57: {=IF((SMALL(IF(N$7:N$106>=$A57,N$7:N$106),1)-$A57)<(IF($A57-IFERROR(LARGE(IF(N$7:N$106<=$A57,N$7:N$106),1),N$106)<0,$A57+IFERROR(LARGE(IF(N$7:N$106<=$A57,N$7:N$106),1),N$106),$A57-IFERROR(LARGE(IF(N$7:N$106<=$A57,N$7:N$106),1),N$106))),SMALL(IF(N$7:N$106>=$A57,N$7:N$106),1),IFERROR(LARGE(IF(N$7:N$106<=$A57,N$7:N$106),1),N$106))} -> 2476190.5 | Q57: =G57 -> 29 | R57: 51 | S57: =A57 -> 2500000 | T57: =B57 -> 29 | U57: =R57 -> 51 | V57: =F57 -> 3000000 | W57: =VLOOKUP(V57,D$7:E$19,2,0)/COUNTIF(V$7:V$118,V57) -> 15.125 | X57: =INDIRECT("C"&MATCH(V57,$D$7:$D$19,0)+6) -> 8 | Y57: =K57 -> 2000000 | Z57: =VLOOKUP(Y57,$I$7:$J$27,2,0)/COUNTIF(Y$7:Y$118,Y57) -> 14.125 | AA57: =INDIRECT("H"&MATCH(Y57,$I$7:$I$27,0)+6) -> 12 | AB57: =P57 -> 2476190.5 | AC57: =VLOOKUP(AB57,$N$7:$O$106,2,0)/COUNTIF(AB$7:AB$118,AB57) -> 22 | AD57: =INDIRECT("M"&MATCH(AB57,$N$7:$N$106,0)+6) -> 53 | AE57: =ROUND(AE58+(($AE$7-$AE$118)/SUM($AF$7:$AF$117)*AF57),0) -> 15 | AF57: 62
A58: 2700000 | B58: 2 | F58: {=IF((SMALL(IF(D$7:D$19>=A58,D$7:D$19),1)-A58)<(IF(A58-IFERROR(LARGE(IF(D$7:D$19<=A58,D$7:D$19),1),D$19)<0,A58+IFERROR(LARGE(IF(D$7:D$19<=A58,D$7:D$19),1),D$19),A58-IFERROR(LARGE(IF(D$7:D$19<=A58,D$7:D$19),1),D$19))),SMALL(IF(D$7:D$19>=A58,D$7:D$19),1),IFERROR(LARGE(IF(D$7:D$19<=A58,D$7:D$19),1),D$19))} -> 3000000 | G58: =B58 -> 2 | K58: {=IF((SMALL(IF(I$7:I$27>=$A58,I$7:I$27),1)-$A58)<(IF($A58-IFERROR(LARGE(IF(I$7:I$27<=$A58,I$7:I$27),1),I$19)<0,$A58+IFERROR(LARGE(IF(I$7:I$27<=$A58,I$7:I$27),1),I$27),$A58-IFERROR(LARGE(IF(I$7:I$27<=$A58,I$7:I$27),1),I$19))),SMALL(IF(I$7:I$27>=$A58,I$7:I$27),1),IFERROR(LARGE(IF(I$7:I$27<=$A58,I$7:I$27),1),I$27))} -> 3000000 | L58: =B58 -> 2 | M58: 52 | N58: =N57+((($N$62-$N$48)/SUM($M$49:$M$62)*M58)) -> 2307936.5 | O58: =SUMIF(P$7:P$118,N58,Q$7:Q$118) -> 1 | P58: {=IF((SMALL(IF(N$7:N$106>=$A58,N$7:N$106),1)-$A58)<(IF($A58-IFERROR(LARGE(IF(N$7:N$106<=$A58,N$7:N$106),1),N$106)<0,$A58+IFERROR(LARGE(IF(N$7:N$106<=$A58,N$7:N$106),1),N$106),$A58-IFERROR(LARGE(IF(N$7:N$106<=$A58,N$7:N$106),1),N$106))),SMALL(IF(N$7:N$106>=$A58,N$7:N$106),1),IFERROR(LARGE(IF(N$7:N$106<=$A58,N$7:N$106),1),N$106))} -> 2647619 | Q58: =G58 -> 2 | R58: 52 | S58: =A58 -> 2700000 | T58: =B58 -> 2 | U58: =R58 -> 52 | V58: =F58 -> 3000000 | W58: =VLOOKUP(V58,D$7:E$19,2,0)/COUNTIF(V$7:V$118,V58) -> 15.125 | X58: =INDIRECT("C"&MATCH(V58,$D$7:$D$19,0)+6) -> 8 | Y58: =K58 -> 3000000 | Z58: =VLOOKUP(Y58,$I$7:$J$27,2,0)/COUNTIF(Y$7:Y$118,Y58) -> 16.428571 | AA58: =INDIRECT("H"&MATCH(Y58,$I$7:$I$27,0)+6) -> 13 | AB58: =P58 -> 2647619 | AC58: =VLOOKUP(AB58,$N$7:$O$106,2,0)/COUNTIF(AB$7:AB$118,AB58) -> 2 | AD58: =INDIRECT("M"&MATCH(AB58,$N$7:$N$106,0)+6) -> 54 | AE58: =ROUND(AE59+(($AE$7-$AE$118)/SUM($AF$7:$AF$117)*AF58),0) -> 14 | AF58: 61
A59: 2800000 | B59: 9 | F59: {=IF((SMALL(IF(D$7:D$19>=A59,D$7:D$19),1)-A59)<(IF(A59-IFERROR(LARGE(IF(D$7:D$19<=A59,D$7:D$19),1),D$19)<0,A59+IFERROR(LARGE(IF(D$7:D$19<=A59,D$7:D$19),1),D$19),A59-IFERROR(LARGE(IF(D$7:D$19<=A59,D$7:D$19),1),D$19))),SMALL(IF(D$7:D$19>=A59,D$7:D$19),1),IFERROR(LARGE(IF(D$7:D$19<=A59,D$7:D$19),1),D$19))} -> 3000000 | G59: =B59 -> 9 | K59: {=IF((SMALL(IF(I$7:I$27>=$A59,I$7:I$27),1)-$A59)<(IF($A59-IFERROR(LARGE(IF(I$7:I$27<=$A59,I$7:I$27),1),I$19)<0,$A59+IFERROR(LARGE(IF(I$7:I$27<=$A59,I$7:I$27),1),I$27),$A59-IFERROR(LARGE(IF(I$7:I$27<=$A59,I$7:I$27),1),I$19))),SMALL(IF(I$7:I$27>=$A59,I$7:I$27),1),IFERROR(LARGE(IF(I$7:I$27<=$A59,I$7:I$27),1),I$27))} -> 3000000 | L59: =B59 -> 9 | M59: 53 | N59: =N58+((($N$62-$N$48)/SUM($M$49:$M$62)*M59)) -> 2476190.5 | O59: =SUMIF(P$7:P$118,N59,Q$7:Q$118) -> 44 | P59: {=IF((SMALL(IF(N$7:N$106>=$A59,N$7:N$106),1)-$A59)<(IF($A59-IFERROR(LARGE(IF(N$7:N$106<=$A59,N$7:N$106),1),N$106)<0,$A59+IFERROR(LARGE(IF(N$7:N$106<=$A59,N$7:N$106),1),N$106),$A59-IFERROR(LARGE(IF(N$7:N$106<=$A59,N$7:N$106),1),N$106))),SMALL(IF(N$7:N$106>=$A59,N$7:N$106),1),IFERROR(LARGE(IF(N$7:N$106<=$A59,N$7:N$106),1),N$106))} -> 2822222.2 | Q59: =G59 -> 9 | R59: 53 | S59: =A59 -> 2800000 | T59: =B59 -> 9 | U59: =R59 -> 53 | V59: =F59 -> 3000000 | W59: =VLOOKUP(V59,D$7:E$19,2,0)/COUNTIF(V$7:V$118,V59) -> 15.125 | X59: =INDIRECT("C"&MATCH(V59,$D$7:$D$19,0)+6) -> 8 | Y59: =K59 -> 3000000 | Z59: =VLOOKUP(Y59,$I$7:$J$27,2,0)/COUNTIF(Y$7:Y$118,Y59) -> 16.428571 | AA59: =INDIRECT("H"&MATCH(Y59,$I$7:$I$27,0)+6) -> 13 | AB59: =P59 -> 2822222.2 | AC59: =VLOOKUP(AB59,$N$7:$O$106,2,0)/COUNTIF(AB$7:AB$118,AB59) -> 9 | AD59: =INDIRECT("M"&MATCH(AB59,$N$7:$N$106,0)+6) -> 55 | AE59: =ROUND(AE60+(($AE$7-$AE$118)/SUM($AF$7:$AF$117)*AF59),0) -> 13 | AF59: 60
A60: 3000000 | B60: 28 | F60: {=IF((SMALL(IF(D$7:D$19>=A60,D$7:D$19),1)-A60)<(IF(A60-IFERROR(LARGE(IF(D$7:D$19<=A60,D$7:D$19),1),D$19)<0,A60+IFERROR(LARGE(IF(D$7:D$19<=A60,D$7:D$19),1),D$19),A60-IFERROR(LARGE(IF(D$7:D$19<=A60,D$7:D$19),1),D$19))),SMALL(IF(D$7:D$19>=A60,D$7:D$19),1),IFERROR(LARGE(IF(D$7:D$19<=A60,D$7:D$19),1),D$19))} -> 3000000 | G60: =B60 -> 28 | K60: {=IF((SMALL(IF(I$7:I$27>=$A60,I$7:I$27),1)-$A60)<(IF($A60-IFERROR(LARGE(IF(I$7:I$27<=$A60,I$7:I$27),1),I$19)<0,$A60+IFERROR(LARGE(IF(I$7:I$27<=$A60,I$7:I$27),1),I$27),$A60-IFERROR(LARGE(IF(I$7:I$27<=$A60,I$7:I$27),1),I$19))),SMALL(IF(I$7:I$27>=$A60,I$7:I$27),1),IFERROR(LARGE(IF(I$7:I$27<=$A60,I$7:I$27),1),I$27))} -> 3000000 | L60: =B60 -> 28 | M60: 54 | N60: =N59+((($N$62-$N$48)/SUM($M$49:$M$62)*M60)) -> 2647619 | O60: =SUMIF(P$7:P$118,N60,Q$7:Q$118) -> 2 | P60: {=IF((SMALL(IF(N$7:N$106>=$A60,N$7:N$106),1)-$A60)<(IF($A60-IFERROR(LARGE(IF(N$7:N$106<=$A60,N$7:N$106),1),N$106)<0,$A60+IFERROR(LARGE(IF(N$7:N$106<=$A60,N$7:N$106),1),N$106),$A60-IFERROR(LARGE(IF(N$7:N$106<=$A60,N$7:N$106),1),N$106))),SMALL(IF(N$7:N$106>=$A60,N$7:N$106),1),IFERROR(LARGE(IF(N$7:N$106<=$A60,N$7:N$106),1),N$106))} -> 3000000 | Q60: =G60 -> 28 | R60: 54 | S60: =A60 -> 3000000 | T60: =B60 -> 28 | U60: =R60 -> 54 | V60: =F60 -> 3000000 | W60: =VLOOKUP(V60,D$7:E$19,2,0)/COUNTIF(V$7:V$118,V60) -> 15.125 | X60: =INDIRECT("C"&MATCH(V60,$D$7:$D$19,0)+6) -> 8 | Y60: =K60 -> 3000000 | Z60: =VLOOKUP(Y60,$I$7:$J$27,2,0)/COUNTIF(Y$7:Y$118,Y60) -> 16.428571 | AA60: =INDIRECT("H"&MATCH(Y60,$I$7:$I$27,0)+6) -> 13 | AB60: =P60 -> 3000000 | AC60: =VLOOKUP(AB60,$N$7:$O$106,2,0)/COUNTIF(AB$7:AB$118,AB60) -> 16.25 | AD60: =INDIRECT("M"&MATCH(AB60,$N$7:$N$106,0)+6) -> 56 | AE60: =ROUND(AE61+(($AE$7-$AE$118)/SUM($AF$7:$AF$117)*AF60),0) -> 12 | AF60: 59
A61: 3200000 | B61: 6 | F61: {=IF((SMALL(IF(D$7:D$19>=A61,D$7:D$19),1)-A61)<(IF(A61-IFERROR(LARGE(IF(D$7:D$19<=A61,D$7:D$19),1),D$19)<0,A61+IFERROR(LARGE(IF(D$7:D$19<=A61,D$7:D$19),1),D$19),A61-IFERROR(LARGE(IF(D$7:D$19<=A61,D$7:D$19),1),D$19))),SMALL(IF(D$7:D$19>=A61,D$7:D$19),1),IFERROR(LARGE(IF(D$7:D$19<=A61,D$7:D$19),1),D$19))} -> 3000000 | G61: =B61 -> 6 | K61: {=IF((SMALL(IF(I$7:I$27>=$A61,I$7:I$27),1)-$A61)<(IF($A61-IFERROR(LARGE(IF(I$7:I$27<=$A61,I$7:I$27),1),I$19)<0,$A61+IFERROR(LARGE(IF(I$7:I$27<=$A61,I$7:I$27),1),I$27),$A61-IFERROR(LARGE(IF(I$7:I$27<=$A61,I$7:I$27),1),I$19))),SMALL(IF(I$7:I$27>=$A61,I$7:I$27),1),IFERROR(LARGE(IF(I$7:I$27<=$A61,I$7:I$27),1),I$27))} -> 3000000 | L61: =B61 -> 6 | M61: 55 | N61: =N60+((($N$62-$N$48)/SUM($M$49:$M$62)*M61)) -> 2822222.2 | O61: =SUMIF(P$7:P$118,N61,Q$7:Q$118) -> 9 | P61: {=IF((SMALL(IF(N$7:N$106>=$A61,N$7:N$106),1)-$A61)<(IF($A61-IFERROR(LARGE(IF(N$7:N$106<=$A61,N$7:N$106),1),N$106)<0,$A61+IFERROR(LARGE(IF(N$7:N$106<=$A61,N$7:N$106),1),N$106),$A61-IFERROR(LARGE(IF(N$7:N$106<=$A61,N$7:N$106),1),N$106))),SMALL(IF(N$7:N$106>=$A61,N$7:N$106),1),IFERROR(LARGE(IF(N$7:N$106<=$A61,N$7:N$106),1),N$106))} -> 3000000 | Q61: =G61 -> 6 | R61: 55 | S61: =A61 -> 3200000 | T61: =B61 -> 6 | U61: =R61 -> 55 | V61: =F61 -> 3000000 | W61: =VLOOKUP(V61,D$7:E$19,2,0)/COUNTIF(V$7:V$118,V61) -> 15.125 | X61: =INDIRECT("C"&MATCH(V61,$D$7:$D$19,0)+6) -> 8 | Y61: =K61 -> 3000000 | Z61: =VLOOKUP(Y61,$I$7:$J$27,2,0)/COUNTIF(Y$7:Y$118,Y61) -> 16.428571 | AA61: =INDIRECT("H"&MATCH(Y61,$I$7:$I$27,0)+6) -> 13 | AB61: =P61 -> 3000000 | AC61: =VLOOKUP(AB61,$N$7:$O$106,2,0)/COUNTIF(AB$7:AB$118,AB61) -> 16.25 | AD61: =INDIRECT("M"&MATCH(AB61,$N$7:$N$106,0)+6) -> 56 | AE61: =ROUND(AE62+(($AE$7-$AE$118)/SUM($AF$7:$AF$117)*AF61),0) -> 11 | AF61: 58
A62: 3500000 | B62: 29 | F62: {=IF((SMALL(IF(D$7:D$19>=A62,D$7:D$19),1)-A62)<(IF(A62-IFERROR(LARGE(IF(D$7:D$19<=A62,D$7:D$19),1),D$19)<0,A62+IFERROR(LARGE(IF(D$7:D$19<=A62,D$7:D$19),1),D$19),A62-IFERROR(LARGE(IF(D$7:D$19<=A62,D$7:D$19),1),D$19))),SMALL(IF(D$7:D$19>=A62,D$7:D$19),1),IFERROR(LARGE(IF(D$7:D$19<=A62,D$7:D$19),1),D$19))} -> 3000000 | G62: =B62 -> 29 | K62: {=IF((SMALL(IF(I$7:I$27>=$A62,I$7:I$27),1)-$A62)<(IF($A62-IFERROR(LARGE(IF(I$7:I$27<=$A62,I$7:I$27),1),I$19)<0,$A62+IFERROR(LARGE(IF(I$7:I$27<=$A62,I$7:I$27),1),I$27),$A62-IFERROR(LARGE(IF(I$7:I$27<=$A62,I$7:I$27),1),I$19))),SMALL(IF(I$7:I$27>=$A62,I$7:I$27),1),IFERROR(LARGE(IF(I$7:I$27<=$A62,I$7:I$27),1),I$27))} -> 3000000 | L62: =B62 -> 29 | M62: 56 | N62: 3000000 | O62: =SUMIF(P$7:P$118,N62,Q$7:Q$118) -> 65 | P62: {=IF((SMALL(IF(N$7:N$106>=$A62,N$7:N$106),1)-$A62)<(IF($A62-IFERROR(LARGE(IF(N$7:N$106<=$A62,N$7:N$106),1),N$106)<0,$A62+IFERROR(LARGE(IF(N$7:N$106<=$A62,N$7:N$106),1),N$106),$A62-IFERROR(LARGE(IF(N$7:N$106<=$A62,N$7:N$106),1),N$106))),SMALL(IF(N$7:N$106>=$A62,N$7:N$106),1),IFERROR(LARGE(IF(N$7:N$106<=$A62,N$7:N$106),1),N$106))} -> 3000000 | Q62: =G62 -> 29 | R62: 56 | S62: =A62 -> 3500000 | T62: =B62 -> 29 | U62: =R62 -> 56 | V62: =F62 -> 3000000 | W62: =VLOOKUP(V62,D$7:E$19,2,0)/COUNTIF(V$7:V$118,V62) -> 15.125 | X62: =INDIRECT("C"&MATCH(V62,$D$7:$D$19,0)+6) -> 8 | Y62: =K62 -> 3000000 | Z62: =VLOOKUP(Y62,$I$7:$J$27,2,0)/COUNTIF(Y$7:Y$118,Y62) -> 16.428571 | AA62: =INDIRECT("H"&MATCH(Y62,$I$7:$I$27,0)+6) -> 13 | AB62: =P62 -> 3000000 | AC62: =VLOOKUP(AB62,$N$7:$O$106,2,0)/COUNTIF(AB$7:AB$118,AB62) -> 16.25 | AD62: =INDIRECT("M"&MATCH(AB62,$N$7:$N$106,0)+6) -> 56 | AE62: =ROUND(AE63+(($AE$7-$AE$118)/SUM($AF$7:$AF$117)*AF62),0) -> 10 | AF62: 57
A63: 3700000 | B63: 2 | F63: {=IF((SMALL(IF(D$7:D$19>=A63,D$7:D$19),1)-A63)<(IF(A63-IFERROR(LARGE(IF(D$7:D$19<=A63,D$7:D$19),1),D$19)<0,A63+IFERROR(LARGE(IF(D$7:D$19<=A63,D$7:D$19),1),D$19),A63-IFERROR(LARGE(IF(D$7:D$19<=A63,D$7:D$19),1),D$19))),SMALL(IF(D$7:D$19>=A63,D$7:D$19),1),IFERROR(LARGE(IF(D$7:D$19<=A63,D$7:D$19),1),D$19))} -> 3000000 | G63: =B63 -> 2 | K63: {=IF((SMALL(IF(I$7:I$27>=$A63,I$7:I$27),1)-$A63)<(IF($A63-IFERROR(LARGE(IF(I$7:I$27<=$A63,I$7:I$27),1),I$19)<0,$A63+IFERROR(LARGE(IF(I$7:I$27<=$A63,I$7:I$27),1),I$27),$A63-IFERROR(LARGE(IF(I$7:I$27<=$A63,I$7:I$27),1),I$19))),SMALL(IF(I$7:I$27>=$A63,I$7:I$27),1),IFERROR(LARGE(IF(I$7:I$27<=$A63,I$7:I$27),1),I$27))} -> 3000000 | L63: =B63 -> 2 | M63: 57 | N63: =N62+((($N$76-$N$62)/SUM($M$63:$M$76)*M63)) -> 4731158.6 | O63: =SUMIF(P$7:P$118,N63,Q$7:Q$118) -> 88 | P63: {=IF((SMALL(IF(N$7:N$106>=$A63,N$7:N$106),1)-$A63)<(IF($A63-IFERROR(LARGE(IF(N$7:N$106<=$A63,N$7:N$106),1),N$106)<0,$A63+IFERROR(LARGE(IF(N$7:N$106<=$A63,N$7:N$106),1),N$106),$A63-IFERROR(LARGE(IF(N$7:N$106<=$A63,N$7:N$106),1),N$106))),SMALL(IF(N$7:N$106>=$A63,N$7:N$106),1),IFERROR(LARGE(IF(N$7:N$106<=$A63,N$7:N$106),1),N$106))} -> 3000000 | Q63: =G63 -> 2 | R63: 57 | S63: =A63 -> 3700000 | T63: =B63 -> 2 | U63: =R63 -> 57 | V63: =F63 -> 3000000 | W63: =VLOOKUP(V63,D$7:E$19,2,0)/COUNTIF(V$7:V$118,V63) -> 15.125 | X63: =INDIRECT("C"&MATCH(V63,$D$7:$D$19,0)+6) -> 8 | Y63: =K63 -> 3000000 | Z63: =VLOOKUP(Y63,$I$7:$J$27,2,0)/COUNTIF(Y$7:Y$118,Y63) -> 16.428571 | AA63: =INDIRECT("H"&MATCH(Y63,$I$7:$I$27,0)+6) -> 13 | AB63: =P63 -> 3000000 | AC63: =VLOOKUP(AB63,$N$7:$O$106,2,0)/COUNTIF(AB$7:AB$118,AB63) -> 16.25 | AD63: =INDIRECT("M"&MATCH(AB63,$N$7:$N$106,0)+6) -> 56 | AE63: =ROUND(AE64+(($AE$7-$AE$118)/SUM($AF$7:$AF$117)*AF63),0) -> 9 | AF63: 56
A64: 4000000 | B64: 39 | F64: {=IF((SMALL(IF(D$7:D$19>=A64,D$7:D$19),1)-A64)<(IF(A64-IFERROR(LARGE(IF(D$7:D$19<=A64,D$7:D$19),1),D$19)<0,A64+IFERROR(LARGE(IF(D$7:D$19<=A64,D$7:D$19),1),D$19),A64-IFERROR(LARGE(IF(D$7:D$19<=A64,D$7:D$19),1),D$19))),SMALL(IF(D$7:D$19>=A64,D$7:D$19),1),IFERROR(LARGE(IF(D$7:D$19<=A64,D$7:D$19),1),D$19))} -> 3000000 | G64: =B64 -> 39 | K64: {=IF((SMALL(IF(I$7:I$27>=$A64,I$7:I$27),1)-$A64)<(IF($A64-IFERROR(LARGE(IF(I$7:I$27<=$A64,I$7:I$27),1),I$19)<0,$A64+IFERROR(LARGE(IF(I$7:I$27<=$A64,I$7:I$27),1),I$27),$A64-IFERROR(LARGE(IF(I$7:I$27<=$A64,I$7:I$27),1),I$19))),SMALL(IF(I$7:I$27>=$A64,I$7:I$27),1),IFERROR(LARGE(IF(I$7:I$27<=$A64,I$7:I$27),1),I$27))} -> 3000000 | L64: =B64 -> 39 | M64: 58 | N64: =N63+((($N$76-$N$62)/SUM($M$63:$M$76)*M64)) -> 6492688.4 | O64: =SUMIF(P$7:P$118,N64,Q$7:Q$118) -> 50 | P64: {=IF((SMALL(IF(N$7:N$106>=$A64,N$7:N$106),1)-$A64)<(IF($A64-IFERROR(LARGE(IF(N$7:N$106<=$A64,N$7:N$106),1),N$106)<0,$A64+IFERROR(LARGE(IF(N$7:N$106<=$A64,N$7:N$106),1),N$106),$A64-IFERROR(LARGE(IF(N$7:N$106<=$A64,N$7:N$106),1),N$106))),SMALL(IF(N$7:N$106>=$A64,N$7:N$106),1),IFERROR(LARGE(IF(N$7:N$106<=$A64,N$7:N$106),1),N$106))} -> 4731158.6 | Q64: =G64 -> 39 | R64: 58 | S64: =A64 -> 4000000 | T64: =B64 -> 39 | U64: =R64 -> 58 | V64: =F64 -> 3000000 | W64: =VLOOKUP(V64,D$7:E$19,2,0)/COUNTIF(V$7:V$118,V64) -> 15.125 | X64: =INDIRECT("C"&MATCH(V64,$D$7:$D$19,0)+6) -> 8 | Y64: =K64 -> 3000000 | Z64: =VLOOKUP(Y64,$I$7:$J$27,2,0)/COUNTIF(Y$7:Y$118,Y64) -> 16.428571 | AA64: =INDIRECT("H"&MATCH(Y64,$I$7:$I$27,0)+6) -> 13 | AB64: =P64 -> 4731158.6 | AC64: =VLOOKUP(AB64,$N$7:$O$106,2,0)/COUNTIF(AB$7:AB$118,AB64) -> 17.6 | AD64: =INDIRECT("M"&MATCH(AB64,$N$7:$N$106,0)+6) -> 57 | AE64: =ROUND(AE65+(($AE$7-$AE$118)/SUM($AF$7:$AF$117)*AF64),0) -> 8 | AF64: 55
A65: 4500000 | B65: 10 | F65: {=IF((SMALL(IF(D$7:D$19>=A65,D$7:D$19),1)-A65)<(IF(A65-IFERROR(LARGE(IF(D$7:D$19<=A65,D$7:D$19),1),D$19)<0,A65+IFERROR(LARGE(IF(D$7:D$19<=A65,D$7:D$19),1),D$19),A65-IFERROR(LARGE(IF(D$7:D$19<=A65,D$7:D$19),1),D$19))),SMALL(IF(D$7:D$19>=A65,D$7:D$19),1),IFERROR(LARGE(IF(D$7:D$19<=A65,D$7:D$19),1),D$19))} -> 3000000 | G65: =B65 -> 10 | K65: {=IF((SMALL(IF(I$7:I$27>=$A65,I$7:I$27),1)-$A65)<(IF($A65-IFERROR(LARGE(IF(I$7:I$27<=$A65,I$7:I$27),1),I$19)<0,$A65+IFERROR(LARGE(IF(I$7:I$27<=$A65,I$7:I$27),1),I$27),$A65-IFERROR(LARGE(IF(I$7:I$27<=$A65,I$7:I$27),1),I$19))),SMALL(IF(I$7:I$27>=$A65,I$7:I$27),1),IFERROR(LARGE(IF(I$7:I$27<=$A65,I$7:I$27),1),I$27))} -> 5000000 | L65: =B65 -> 10 | M65: 59 | N65: =N64+((($N$76-$N$62)/SUM($M$63:$M$76)*M65)) -> 8284589.4 | O65: =SUMIF(P$7:P$118,N65,Q$7:Q$118) -> 31 | P65: {=IF((SMALL(IF(N$7:N$106>=$A65,N$7:N$106),1)-$A65)<(IF($A65-IFERROR(LARGE(IF(N$7:N$106<=$A65,N$7:N$106),1),N$106)<0,$A65+IFERROR(LARGE(IF(N$7:N$106<=$A65,N$7:N$106),1),N$106),$A65-IFERROR(LARGE(IF(N$7:N$106<=$A65,N$7:N$106),1),N$106))),SMALL(IF(N$7:N$106>=$A65,N$7:N$106),1),IFERROR(LARGE(IF(N$7:N$106<=$A65,N$7:N$106),1),N$106))} -> 4731158.6 | Q65: =G65 -> 10 | R65: 59 | S65: =A65 -> 4500000 | T65: =B65 -> 10 | U65: =R65 -> 59 | V65: =F65 -> 3000000 | W65: =VLOOKUP(V65,D$7:E$19,2,0)/COUNTIF(V$7:V$118,V65) -> 15.125 | X65: =INDIRECT("C"&MATCH(V65,$D$7:$D$19,0)+6) -> 8 | Y65: =K65 -> 5000000 | Z65: =VLOOKUP(Y65,$I$7:$J$27,2,0)/COUNTIF(Y$7:Y$118,Y65) -> 13.666667 | AA65: =INDIRECT("H"&MATCH(Y65,$I$7:$I$27,0)+6) -> 14 | AB65: =P65 -> 4731158.6 | AC65: =VLOOKUP(AB65,$N$7:$O$106,2,0)/COUNTIF(AB$7:AB$118,AB65) -> 17.6 | AD65: =INDIRECT("M"&MATCH(AB65,$N$7:$N$106,0)+6) -> 57 | AE65: =ROUND(AE66+(($AE$7-$AE$118)/SUM($AF$7:$AF$117)*AF65),0) -> 7 | AF65: 54
A66: 4800000 | B66: 3 | F66: {=IF((SMALL(IF(D$7:D$19>=A66,D$7:D$19),1)-A66)<(IF(A66-IFERROR(LARGE(IF(D$7:D$19<=A66,D$7:D$19),1),D$19)<0,A66+IFERROR(LARGE(IF(D$7:D$19<=A66,D$7:D$19),1),D$19),A66-IFERROR(LARGE(IF(D$7:D$19<=A66,D$7:D$19),1),D$19))),SMALL(IF(D$7:D$19>=A66,D$7:D$19),1),IFERROR(LARGE(IF(D$7:D$19<=A66,D$7:D$19),1),D$19))} -> 3000000 | G66: =B66 -> 3 | K66: {=IF((SMALL(IF(I$7:I$27>=$A66,I$7:I$27),1)-$A66)<(IF($A66-IFERROR(LARGE(IF(I$7:I$27<=$A66,I$7:I$27),1),I$19)<0,$A66+IFERROR(LARGE(IF(I$7:I$27<=$A66,I$7:I$27),1),I$27),$A66-IFERROR(LARGE(IF(I$7:I$27<=$A66,I$7:I$27),1),I$19))),SMALL(IF(I$7:I$27>=$A66,I$7:I$27),1),IFERROR(LARGE(IF(I$7:I$27<=$A66,I$7:I$27),1),I$27))} -> 5000000 | L66: =B66 -> 3 | M66: 60 | N66: =N65+((($N$76-$N$62)/SUM($M$63:$M$76)*M66)) -> 10106862 | O66: =SUMIF(P$7:P$118,N66,Q$7:Q$118) -> 32 | P66: {=IF((SMALL(IF(N$7:N$106>=$A66,N$7:N$106),1)-$A66)<(IF($A66-IFERROR(LARGE(IF(N$7:N$106<=$A66,N$7:N$106),1),N$106)<0,$A66+IFERROR(LARGE(IF(N$7:N$106<=$A66,N$7:N$106),1),N$106),$A66-IFERROR(LARGE(IF(N$7:N$106<=$A66,N$7:N$106),1),N$106))),SMALL(IF(N$7:N$106>=$A66,N$7:N$106),1),IFERROR(LARGE(IF(N$7:N$106<=$A66,N$7:N$106),1),N$106))} -> 4731158.6 | Q66: =G66 -> 3 | R66: 60 | S66: =A66 -> 4800000 | T66: =B66 -> 3 | U66: =R66 -> 60 | V66: =F66 -> 3000000 | W66: =VLOOKUP(V66,D$7:E$19,2,0)/COUNTIF(V$7:V$118,V66) -> 15.125 | X66: =INDIRECT("C"&MATCH(V66,$D$7:$D$19,0)+6) -> 8 | Y66: =K66 -> 5000000 | Z66: =VLOOKUP(Y66,$I$7:$J$27,2,0)/COUNTIF(Y$7:Y$118,Y66) -> 13.666667 | AA66: =INDIRECT("H"&MATCH(Y66,$I$7:$I$27,0)+6) -> 14 | AB66: =P66 -> 4731158.6 | AC66: =VLOOKUP(AB66,$N$7:$O$106,2,0)/COUNTIF(AB$7:AB$118,AB66) -> 17.6 | AD66: =INDIRECT("M"&MATCH(AB66,$N$7:$N$106,0)+6) -> 57 | AE66: =ROUND(AE67+(($AE$7-$AE$118)/SUM($AF$7:$AF$117)*AF66),0) -> 6 | AF66: 53
A67: 5000000 | B67: 25 | F67: {=IF((SMALL(IF(D$7:D$19>=A67,D$7:D$19),1)-A67)<(IF(A67-IFERROR(LARGE(IF(D$7:D$19<=A67,D$7:D$19),1),D$19)<0,A67+IFERROR(LARGE(IF(D$7:D$19<=A67,D$7:D$19),1),D$19),A67-IFERROR(LARGE(IF(D$7:D$19<=A67,D$7:D$19),1),D$19))),SMALL(IF(D$7:D$19>=A67,D$7:D$19),1),IFERROR(LARGE(IF(D$7:D$19<=A67,D$7:D$19),1),D$19))} -> 3000000 | G67: =B67 -> 25 | K67: {=IF((SMALL(IF(I$7:I$27>=$A67,I$7:I$27),1)-$A67)<(IF($A67-IFERROR(LARGE(IF(I$7:I$27<=$A67,I$7:I$27),1),I$19)<0,$A67+IFERROR(LARGE(IF(I$7:I$27<=$A67,I$7:I$27),1),I$27),$A67-IFERROR(LARGE(IF(I$7:I$27<=$A67,I$7:I$27),1),I$19))),SMALL(IF(I$7:I$27>=$A67,I$7:I$27),1),IFERROR(LARGE(IF(I$7:I$27<=$A67,I$7:I$27),1),I$27))} -> 5000000 | L67: =B67 -> 25 | M67: 61 | N67: =N66+((($N$76-$N$62)/SUM($M$63:$M$76)*M67)) -> 11959505 | O67: =SUMIF(P$7:P$118,N67,Q$7:Q$118) -> 26 | P67: {=IF((SMALL(IF(N$7:N$106>=$A67,N$7:N$106),1)-$A67)<(IF($A67-IFERROR(LARGE(IF(N$7:N$106<=$A67,N$7:N$106),1),N$106)<0,$A67+IFERROR(LARGE(IF(N$7:N$106<=$A67,N$7:N$106),1),N$106),$A67-IFERROR(LARGE(IF(N$7:N$106<=$A67,N$7:N$106),1),N$106))),SMALL(IF(N$7:N$106>=$A67,N$7:N$106),1),IFERROR(LARGE(IF(N$7:N$106<=$A67,N$7:N$106),1),N$106))} -> 4731158.6 | Q67: =G67 -> 25 | R67: 61 | S67: =A67 -> 5000000 | T67: =B67 -> 25 | U67: =R67 -> 61 | V67: =F67 -> 3000000 | W67: =VLOOKUP(V67,D$7:E$19,2,0)/COUNTIF(V$7:V$118,V67) -> 15.125 | X67: =INDIRECT("C"&MATCH(V67,$D$7:$D$19,0)+6) -> 8 | Y67: =K67 -> 5000000 | Z67: =VLOOKUP(Y67,$I$7:$J$27,2,0)/COUNTIF(Y$7:Y$118,Y67) -> 13.666667 | AA67: =INDIRECT("H"&MATCH(Y67,$I$7:$I$27,0)+6) -> 14 | AB67: =P67 -> 4731158.6 | AC67: =VLOOKUP(AB67,$N$7:$O$106,2,0)/COUNTIF(AB$7:AB$118,AB67) -> 17.6 | AD67: =INDIRECT("M"&MATCH(AB67,$N$7:$N$106,0)+6) -> 57 | AE67: =ROUND(AE68+(($AE$7-$AE$118)/SUM($AF$7:$AF$117)*AF67),0) -> 5 | AF67: 52
A68: 5500000 | B68: 11 | F68: {=IF((SMALL(IF(D$7:D$19>=A68,D$7:D$19),1)-A68)<(IF(A68-IFERROR(LARGE(IF(D$7:D$19<=A68,D$7:D$19),1),D$19)<0,A68+IFERROR(LARGE(IF(D$7:D$19<=A68,D$7:D$19),1),D$19),A68-IFERROR(LARGE(IF(D$7:D$19<=A68,D$7:D$19),1),D$19))),SMALL(IF(D$7:D$19>=A68,D$7:D$19),1),IFERROR(LARGE(IF(D$7:D$19<=A68,D$7:D$19),1),D$19))} -> 3000000 | G68: =B68 -> 11 | K68: {=IF((SMALL(IF(I$7:I$27>=$A68,I$7:I$27),1)-$A68)<(IF($A68-IFERROR(LARGE(IF(I$7:I$27<=$A68,I$7:I$27),1),I$19)<0,$A68+IFERROR(LARGE(IF(I$7:I$27<=$A68,I$7:I$27),1),I$27),$A68-IFERROR(LARGE(IF(I$7:I$27<=$A68,I$7:I$27),1),I$19))),SMALL(IF(I$7:I$27>=$A68,I$7:I$27),1),IFERROR(LARGE(IF(I$7:I$27<=$A68,I$7:I$27),1),I$27))} -> 5000000 | L68: =B68 -> 11 | M68: 62 | N68: =N67+((($N$76-$N$62)/SUM($M$63:$M$76)*M68)) -> 13842520 | O68: =SUMIF(P$7:P$118,N68,Q$7:Q$118) -> 13 | P68: {=IF((SMALL(IF(N$7:N$106>=$A68,N$7:N$106),1)-$A68)<(IF($A68-IFERROR(LARGE(IF(N$7:N$106<=$A68,N$7:N$106),1),N$106)<0,$A68+IFERROR(LARGE(IF(N$7:N$106<=$A68,N$7:N$106),1),N$106),$A68-IFERROR(LARGE(IF(N$7:N$106<=$A68,N$7:N$106),1),N$106))),SMALL(IF(N$7:N$106>=$A68,N$7:N$106),1),IFERROR(LARGE(IF(N$7:N$106<=$A68,N$7:N$106),1),N$106))} -> 4731158.6 | Q68: =G68 -> 11 | R68: 62 | S68: =A68 -> 5500000 | T68: =B68 -> 11 | U68: =R68 -> 62 | V68: =F68 -> 3000000 | W68: =VLOOKUP(V68,D$7:E$19,2,0)/COUNTIF(V$7:V$118,V68) -> 15.125 | X68: =INDIRECT("C"&MATCH(V68,$D$7:$D$19,0)+6) -> 8 | Y68: =K68 -> 5000000 | Z68: =VLOOKUP(Y68,$I$7:$J$27,2,0)/COUNTIF(Y$7:Y$118,Y68) -> 13.666667 | AA68: =INDIRECT("H"&MATCH(Y68,$I$7:$I$27,0)+6) -> 14 | AB68: =P68 -> 4731158.6 | AC68: =VLOOKUP(AB68,$N$7:$O$106,2,0)/COUNTIF(AB$7:AB$118,AB68) -> 17.6 | AD68: =INDIRECT("M"&MATCH(AB68,$N$7:$N$106,0)+6) -> 57 | AE68: =ROUND(AE69+(($AE$7-$AE$118)/SUM($AF$7:$AF$117)*AF68),0) -> 4 | AF68: 51
A69: 6000000 | B69: 15 | F69: {=IF((SMALL(IF(D$7:D$19>=A69,D$7:D$19),1)-A69)<(IF(A69-IFERROR(LARGE(IF(D$7:D$19<=A69,D$7:D$19),1),D$19)<0,A69+IFERROR(LARGE(IF(D$7:D$19<=A69,D$7:D$19),1),D$19),A69-IFERROR(LARGE(IF(D$7:D$19<=A69,D$7:D$19),1),D$19))),SMALL(IF(D$7:D$19>=A69,D$7:D$19),1),IFERROR(LARGE(IF(D$7:D$19<=A69,D$7:D$19),1),D$19))} -> 3000000 | G69: =B69 -> 15 | K69: {=IF((SMALL(IF(I$7:I$27>=$A69,I$7:I$27),1)-$A69)<(IF($A69-IFERROR(LARGE(IF(I$7:I$27<=$A69,I$7:I$27),1),I$19)<0,$A69+IFERROR(LARGE(IF(I$7:I$27<=$A69,I$7:I$27),1),I$27),$A69-IFERROR(LARGE(IF(I$7:I$27<=$A69,I$7:I$27),1),I$19))),SMALL(IF(I$7:I$27>=$A69,I$7:I$27),1),IFERROR(LARGE(IF(I$7:I$27<=$A69,I$7:I$27),1),I$27))} -> 5000000 | L69: =B69 -> 15 | M69: 63 | N69: =N68+((($N$76-$N$62)/SUM($M$63:$M$76)*M69)) -> 15755906 | O69: =SUMIF(P$7:P$118,N69,Q$7:Q$118) -> 22 | P69: {=IF((SMALL(IF(N$7:N$106>=$A69,N$7:N$106),1)-$A69)<(IF($A69-IFERROR(LARGE(IF(N$7:N$106<=$A69,N$7:N$106),1),N$106)<0,$A69+IFERROR(LARGE(IF(N$7:N$106<=$A69,N$7:N$106),1),N$106),$A69-IFERROR(LARGE(IF(N$7:N$106<=$A69,N$7:N$106),1),N$106))),SMALL(IF(N$7:N$106>=$A69,N$7:N$106),1),IFERROR(LARGE(IF(N$7:N$106<=$A69,N$7:N$106),1),N$106))} -> 6492688.4 | Q69: =G69 -> 15 | R69: 63 | S69: =A69 -> 6000000 | T69: =B69 -> 15 | U69: =R69 -> 63 | V69: =F69 -> 3000000 | W69: =VLOOKUP(V69,D$7:E$19,2,0)/COUNTIF(V$7:V$118,V69) -> 15.125 | X69: =INDIRECT("C"&MATCH(V69,$D$7:$D$19,0)+6) -> 8 | Y69: =K69 -> 5000000 | Z69: =VLOOKUP(Y69,$I$7:$J$27,2,0)/COUNTIF(Y$7:Y$118,Y69) -> 13.666667 | AA69: =INDIRECT("H"&MATCH(Y69,$I$7:$I$27,0)+6) -> 14 | AB69: =P69 -> 6492688.4 | AC69: =VLOOKUP(AB69,$N$7:$O$106,2,0)/COUNTIF(AB$7:AB$118,AB69) -> 16.666667 | AD69: =INDIRECT("M"&MATCH(AB69,$N$7:$N$106,0)+6) -> 58 | AE69: =ROUND(AE70+(($AE$7-$AE$118)/SUM($AF$7:$AF$117)*AF69),0) -> 3 | AF69: 50
A70: 6500000 | B70: 18 | F70: {=IF((SMALL(IF(D$7:D$19>=A70,D$7:D$19),1)-A70)<(IF(A70-IFERROR(LARGE(IF(D$7:D$19<=A70,D$7:D$19),1),D$19)<0,A70+IFERROR(LARGE(IF(D$7:D$19<=A70,D$7:D$19),1),D$19),A70-IFERROR(LARGE(IF(D$7:D$19<=A70,D$7:D$19),1),D$19))),SMALL(IF(D$7:D$19>=A70,D$7:D$19),1),IFERROR(LARGE(IF(D$7:D$19<=A70,D$7:D$19),1),D$19))} -> 3000000 | G70: =B70 -> 18 | K70: {=IF((SMALL(IF(I$7:I$27>=$A70,I$7:I$27),1)-$A70)<(IF($A70-IFERROR(LARGE(IF(I$7:I$27<=$A70,I$7:I$27),1),I$19)<0,$A70+IFERROR(LARGE(IF(I$7:I$27<=$A70,I$7:I$27),1),I$27),$A70-IFERROR(LARGE(IF(I$7:I$27<=$A70,I$7:I$27),1),I$19))),SMALL(IF(I$7:I$27>=$A70,I$7:I$27),1),IFERROR(LARGE(IF(I$7:I$27<=$A70,I$7:I$27),1),I$27))} -> 5000000 | L70: =B70 -> 18 | M70: 64 | N70: =N69+((($N$76-$N$62)/SUM($M$63:$M$76)*M70)) -> 17699663 | O70: =SUMIF(P$7:P$118,N70,Q$7:Q$118) -> 8 | P70: {=IF((SMALL(IF(N$7:N$106>=$A70,N$7:N$106),1)-$A70)<(IF($A70-IFERROR(LARGE(IF(N$7:N$106<=$A70,N$7:N$106),1),N$106)<0,$A70+IFERROR(LARGE(IF(N$7:N$106<=$A70,N$7:N$106),1),N$106),$A70-IFERROR(LARGE(IF(N$7:N$106<=$A70,N$7:N$106),1),N$106))),SMALL(IF(N$7:N$106>=$A70,N$7:N$106),1),IFERROR(LARGE(IF(N$7:N$106<=$A70,N$7:N$106),1),N$106))} -> 6492688.4 | Q70: =G70 -> 18 | R70: 64 | S70: =A70 -> 6500000 | T70: =B70 -> 18 | U70: =R70 -> 64 | V70: =F70 -> 3000000 | W70: =VLOOKUP(V70,D$7:E$19,2,0)/COUNTIF(V$7:V$118,V70) -> 15.125 | X70: =INDIRECT("C"&MATCH(V70,$D$7:$D$19,0)+6) -> 8 | Y70: =K70 -> 5000000 | Z70: =VLOOKUP(Y70,$I$7:$J$27,2,0)/COUNTIF(Y$7:Y$118,Y70) -> 13.666667 | AA70: =INDIRECT("H"&MATCH(Y70,$I$7:$I$27,0)+6) -> 14 | AB70: =P70 -> 6492688.4 | AC70: =VLOOKUP(AB70,$N$7:$O$106,2,0)/COUNTIF(AB$7:AB$118,AB70) -> 16.666667 | AD70: =INDIRECT("M"&MATCH(AB70,$N$7:$N$106,0)+6) -> 58 | AE70: =ROUND(AE71+(($AE$7-$AE$118)/SUM($AF$7:$AF$117)*AF70),0) -> 2 | AF70: 49
A71: 7000000 | B71: 17 | F71: {=IF((SMALL(IF(D$7:D$19>=A71,D$7:D$19),1)-A71)<(IF(A71-IFERROR(LARGE(IF(D$7:D$19<=A71,D$7:D$19),1),D$19)<0,A71+IFERROR(LARGE(IF(D$7:D$19<=A71,D$7:D$19),1),D$19),A71-IFERROR(LARGE(IF(D$7:D$19<=A71,D$7:D$19),1),D$19))),SMALL(IF(D$7:D$19>=A71,D$7:D$19),1),IFERROR(LARGE(IF(D$7:D$19<=A71,D$7:D$19),1),D$19))} -> 10000000 | G71: =B71 -> 17 | K71: {=IF((SMALL(IF(I$7:I$27>=$A71,I$7:I$27),1)-$A71)<(IF($A71-IFERROR(LARGE(IF(I$7:I$27<=$A71,I$7:I$27),1),I$19)<0,$A71+IFERROR(LARGE(IF(I$7:I$27<=$A71,I$7:I$27),1),I$27),$A71-IFERROR(LARGE(IF(I$7:I$27<=$A71,I$7:I$27),1),I$19))),SMALL(IF(I$7:I$27>=$A71,I$7:I$27),1),IFERROR(LARGE(IF(I$7:I$27<=$A71,I$7:I$27),1),I$27))} -> 8000000 | L71: =B71 -> 17 | M71: 65 | N71: =N70+((($N$76-$N$62)/SUM($M$63:$M$76)*M71)) -> 19673791 | O71: =SUMIF(P$7:P$118,N71,Q$7:Q$118) -> 12 | P71: {=IF((SMALL(IF(N$7:N$106>=$A71,N$7:N$106),1)-$A71)<(IF($A71-IFERROR(LARGE(IF(N$7:N$106<=$A71,N$7:N$106),1),N$106)<0,$A71+IFERROR(LARGE(IF(N$7:N$106<=$A71,N$7:N$106),1),N$106),$A71-IFERROR(LARGE(IF(N$7:N$106<=$A71,N$7:N$106),1),N$106))),SMALL(IF(N$7:N$106>=$A71,N$7:N$106),1),IFERROR(LARGE(IF(N$7:N$106<=$A71,N$7:N$106),1),N$106))} -> 6492688.4 | Q71: =G71 -> 17 | R71: 65 | S71: =A71 -> 7000000 | T71: =B71 -> 17 | U71: =R71 -> 65 | V71: =F71 -> 10000000 | W71: =VLOOKUP(V71,D$7:E$19,2,0)/COUNTIF(V$7:V$118,V71) -> 8.4736842 | X71: =INDIRECT("C"&MATCH(V71,$D$7:$D$19,0)+6) -> 9 | Y71: =K71 -> 8000000 | Z71: =VLOOKUP(Y71,$I$7:$J$27,2,0)/COUNTIF(Y$7:Y$118,Y71) -> 12 | AA71: =INDIRECT("H"&MATCH(Y71,$I$7:$I$27,0)+6) -> 15 | AB71: =P71 -> 6492688.4 | AC71: =VLOOKUP(AB71,$N$7:$O$106,2,0)/COUNTIF(AB$7:AB$118,AB71) -> 16.666667 | AD71: =INDIRECT("M"&MATCH(AB71,$N$7:$N$106,0)+6) -> 58 | AE71: =ROUND(AE72+(($AE$7-$AE$118)/SUM($AF$7:$AF$117)*AF71),0) -> 1 | AF71: 48
A72: 7500000 | B72: 5 | F72: {=IF((SMALL(IF(D$7:D$19>=A72,D$7:D$19),1)-A72)<(IF(A72-IFERROR(LARGE(IF(D$7:D$19<=A72,D$7:D$19),1),D$19)<0,A72+IFERROR(LARGE(IF(D$7:D$19<=A72,D$7:D$19),1),D$19),A72-IFERROR(LARGE(IF(D$7:D$19<=A72,D$7:D$19),1),D$19))),SMALL(IF(D$7:D$19>=A72,D$7:D$19),1),IFERROR(LARGE(IF(D$7:D$19<=A72,D$7:D$19),1),D$19))} -> 10000000 | G72: =B72 -> 5 | K72: {=IF((SMALL(IF(I$7:I$27>=$A72,I$7:I$27),1)-$A72)<(IF($A72-IFERROR(LARGE(IF(I$7:I$27<=$A72,I$7:I$27),1),I$19)<0,$A72+IFERROR(LARGE(IF(I$7:I$27<=$A72,I$7:I$27),1),I$27),$A72-IFERROR(LARGE(IF(I$7:I$27<=$A72,I$7:I$27),1),I$19))),SMALL(IF(I$7:I$27>=$A72,I$7:I$27),1),IFERROR(LARGE(IF(I$7:I$27<=$A72,I$7:I$27),1),I$27))} -> 8000000 | L72: =B72 -> 5 | M72: 66 | N72: =N71+((($N$76-$N$62)/SUM($M$63:$M$76)*M72)) -> 21678290 | O72: =SUMIF(P$7:P$118,N72,Q$7:Q$118) -> 10 | P72: {=IF((SMALL(IF(N$7:N$106>=$A72,N$7:N$106),1)-$A72)<(IF($A72-IFERROR(LARGE(IF(N$7:N$106<=$A72,N$7:N$106),1),N$106)<0,$A72+IFERROR(LARGE(IF(N$7:N$106<=$A72,N$7:N$106),1),N$106),$A72-IFERROR(LARGE(IF(N$7:N$106<=$A72,N$7:N$106),1),N$106))),SMALL(IF(N$7:N$106>=$A72,N$7:N$106),1),IFERROR(LARGE(IF(N$7:N$106<=$A72,N$7:N$106),1),N$106))} -> 8284589.4 | Q72: =G72 -> 5 | R72: 66 | S72: =A72 -> 7500000 | T72: =B72 -> 5 | U72: =R72 -> 66 | V72: =F72 -> 10000000 | W72: =VLOOKUP(V72,D$7:E$19,2,0)/COUNTIF(V$7:V$118,V72) -> 8.4736842 | X72: =INDIRECT("C"&MATCH(V72,$D$7:$D$19,0)+6) -> 9 | Y72: =K72 -> 8000000 | Z72: =VLOOKUP(Y72,$I$7:$J$27,2,0)/COUNTIF(Y$7:Y$118,Y72) -> 12 | AA72: =INDIRECT("H"&MATCH(Y72,$I$7:$I$27,0)+6) -> 15 | AB72: =P72 -> 8284589.4 | AC72: =VLOOKUP(AB72,$N$7:$O$106,2,0)/COUNTIF(AB$7:AB$118,AB72) -> 10.333333 | AD72: =INDIRECT("M"&MATCH(AB72,$N$7:$N$106,0)+6) -> 59 | AE72: =ROUND(AE73+(($AE$7-$AE$118)/SUM($AF$7:$AF$117)*AF72),0) -> 1 | AF72: 47
A73: 8000000 | B73: 21 | F73: {=IF((SMALL(IF(D$7:D$19>=A73,D$7:D$19),1)-A73)<(IF(A73-IFERROR(LARGE(IF(D$7:D$19<=A73,D$7:D$19),1),D$19)<0,A73+IFERROR(LARGE(IF(D$7:D$19<=A73,D$7:D$19),1),D$19),A73-IFERROR(LARGE(IF(D$7:D$19<=A73,D$7:D$19),1),D$19))),SMALL(IF(D$7:D$19>=A73,D$7:D$19),1),IFERROR(LARGE(IF(D$7:D$19<=A73,D$7:D$19),1),D$19))} -> 10000000 | G73: =B73 -> 21 | K73: {=IF((SMALL(IF(I$7:I$27>=$A73,I$7:I$27),1)-$A73)<(IF($A73-IFERROR(LARGE(IF(I$7:I$27<=$A73,I$7:I$27),1),I$19)<0,$A73+IFERROR(LARGE(IF(I$7:I$27<=$A73,I$7:I$27),1),I$27),$A73-IFERROR(LARGE(IF(I$7:I$27<=$A73,I$7:I$27),1),I$19))),SMALL(IF(I$7:I$27>=$A73,I$7:I$27),1),IFERROR(LARGE(IF(I$7:I$27<=$A73,I$7:I$27),1),I$27))} -> 8000000 | L73: =B73 -> 21 | M73: 67 | N73: =N72+((($N$76-$N$62)/SUM($M$63:$M$76)*M73)) -> 23713161 | O73: =SUMIF(P$7:P$118,N73,Q$7:Q$118) -> 5 | P73: {=IF((SMALL(IF(N$7:N$106>=$A73,N$7:N$106),1)-$A73)<(IF($A73-IFERROR(LARGE(IF(N$7:N$106<=$A73,N$7:N$106),1),N$106)<0,$A73+IFERROR(LARGE(IF(N$7:N$106<=$A73,N$7:N$106),1),N$106),$A73-IFERROR(LARGE(IF(N$7:N$106<=$A73,N$7:N$106),1),N$106))),SMALL(IF(N$7:N$106>=$A73,N$7:N$106),1),IFERROR(LARGE(IF(N$7:N$106<=$A73,N$7:N$106),1),N$106))} -> 8284589.4 | Q73: =G73 -> 21 | R73: 67 | S73: =A73 -> 8000000 | T73: =B73 -> 21 | U73: =R73 -> 67 | V73: =F73 -> 10000000 | W73: =VLOOKUP(V73,D$7:E$19,2,0)/COUNTIF(V$7:V$118,V73) -> 8.4736842 | X73: =INDIRECT("C"&MATCH(V73,$D$7:$D$19,0)+6) -> 9 | Y73: =K73 -> 8000000 | Z73: =VLOOKUP(Y73,$I$7:$J$27,2,0)/COUNTIF(Y$7:Y$118,Y73) -> 12 | AA73: =INDIRECT("H"&MATCH(Y73,$I$7:$I$27,0)+6) -> 15 | AB73: =P73 -> 8284589.4 | AC73: =VLOOKUP(AB73,$N$7:$O$106,2,0)/COUNTIF(AB$7:AB$118,AB73) -> 10.333333 | AD73: =INDIRECT("M"&MATCH(AB73,$N$7:$N$106,0)+6) -> 59 | AE73: =ROUND(AE74+(($AE$7-$AE$118)/SUM($AF$7:$AF$117)*AF73),0) -> 1 | AF73: 46
A74: 9000000 | B74: 5 | F74: {=IF((SMALL(IF(D$7:D$19>=A74,D$7:D$19),1)-A74)<(IF(A74-IFERROR(LARGE(IF(D$7:D$19<=A74,D$7:D$19),1),D$19)<0,A74+IFERROR(LARGE(IF(D$7:D$19<=A74,D$7:D$19),1),D$19),A74-IFERROR(LARGE(IF(D$7:D$19<=A74,D$7:D$19),1),D$19))),SMALL(IF(D$7:D$19>=A74,D$7:D$19),1),IFERROR(LARGE(IF(D$7:D$19<=A74,D$7:D$19),1),D$19))} -> 10000000 | G74: =B74 -> 5 | K74: {=IF((SMALL(IF(I$7:I$27>=$A74,I$7:I$27),1)-$A74)<(IF($A74-IFERROR(LARGE(IF(I$7:I$27<=$A74,I$7:I$27),1),I$19)<0,$A74+IFERROR(LARGE(IF(I$7:I$27<=$A74,I$7:I$27),1),I$27),$A74-IFERROR(LARGE(IF(I$7:I$27<=$A74,I$7:I$27),1),I$19))),SMALL(IF(I$7:I$27>=$A74,I$7:I$27),1),IFERROR(LARGE(IF(I$7:I$27<=$A74,I$7:I$27),1),I$27))} -> 8000000 | L74: =B74 -> 5 | M74: 68 | N74: =N73+((($N$76-$N$62)/SUM($M$63:$M$76)*M74)) -> 25778403 | O74: =SUMIF(P$7:P$118,N74,Q$7:Q$118) -> 10 | P74: {=IF((SMALL(IF(N$7:N$106>=$A74,N$7:N$106),1)-$A74)<(IF($A74-IFERROR(LARGE(IF(N$7:N$106<=$A74,N$7:N$106),1),N$106)<0,$A74+IFERROR(LARGE(IF(N$7:N$106<=$A74,N$7:N$106),1),N$106),$A74-IFERROR(LARGE(IF(N$7:N$106<=$A74,N$7:N$106),1),N$106))),SMALL(IF(N$7:N$106>=$A74,N$7:N$106),1),IFERROR(LARGE(IF(N$7:N$106<=$A74,N$7:N$106),1),N$106))} -> 8284589.4 | Q74: =G74 -> 5 | R74: 68 | S74: =A74 -> 9000000 | T74: =B74 -> 5 | U74: =R74 -> 68 | V74: =F74 -> 10000000 | W74: =VLOOKUP(V74,D$7:E$19,2,0)/COUNTIF(V$7:V$118,V74) -> 8.4736842 | X74: =INDIRECT("C"&MATCH(V74,$D$7:$D$19,0)+6) -> 9 | Y74: =K74 -> 8000000 | Z74: =VLOOKUP(Y74,$I$7:$J$27,2,0)/COUNTIF(Y$7:Y$118,Y74) -> 12 | AA74: =INDIRECT("H"&MATCH(Y74,$I$7:$I$27,0)+6) -> 15 | AB74: =P74 -> 8284589.4 | AC74: =VLOOKUP(AB74,$N$7:$O$106,2,0)/COUNTIF(AB$7:AB$118,AB74) -> 10.333333 | AD74: =INDIRECT("M"&MATCH(AB74,$N$7:$N$106,0)+6) -> 59 | AE74: =ROUND(AE75+(($AE$7-$AE$118)/SUM($AF$7:$AF$117)*AF74),0) -> 1 | AF74: 45
A75: 9500000 | B75: 3 | F75: {=IF((SMALL(IF(D$7:D$19>=A75,D$7:D$19),1)-A75)<(IF(A75-IFERROR(LARGE(IF(D$7:D$19<=A75,D$7:D$19),1),D$19)<0,A75+IFERROR(LARGE(IF(D$7:D$19<=A75,D$7:D$19),1),D$19),A75-IFERROR(LARGE(IF(D$7:D$19<=A75,D$7:D$19),1),D$19))),SMALL(IF(D$7:D$19>=A75,D$7:D$19),1),IFERROR(LARGE(IF(D$7:D$19<=A75,D$7:D$19),1),D$19))} -> 10000000 | G75: =B75 -> 3 | K75: {=IF((SMALL(IF(I$7:I$27>=$A75,I$7:I$27),1)-$A75)<(IF($A75-IFERROR(LARGE(IF(I$7:I$27<=$A75,I$7:I$27),1),I$19)<0,$A75+IFERROR(LARGE(IF(I$7:I$27<=$A75,I$7:I$27),1),I$27),$A75-IFERROR(LARGE(IF(I$7:I$27<=$A75,I$7:I$27),1),I$19))),SMALL(IF(I$7:I$27>=$A75,I$7:I$27),1),IFERROR(LARGE(IF(I$7:I$27<=$A75,I$7:I$27),1),I$27))} -> 10000000 | L75: =B75 -> 3 | M75: 69 | N75: =N74+((($N$76-$N$62)/SUM($M$63:$M$76)*M75)) -> 27874016 | O75: =SUMIF(P$7:P$118,N75,Q$7:Q$118) -> 6 | P75: {=IF((SMALL(IF(N$7:N$106>=$A75,N$7:N$106),1)-$A75)<(IF($A75-IFERROR(LARGE(IF(N$7:N$106<=$A75,N$7:N$106),1),N$106)<0,$A75+IFERROR(LARGE(IF(N$7:N$106<=$A75,N$7:N$106),1),N$106),$A75-IFERROR(LARGE(IF(N$7:N$106<=$A75,N$7:N$106),1),N$106))),SMALL(IF(N$7:N$106>=$A75,N$7:N$106),1),IFERROR(LARGE(IF(N$7:N$106<=$A75,N$7:N$106),1),N$106))} -> 10106862 | Q75: =G75 -> 3 | R75: 69 | S75: =A75 -> 9500000 | T75: =B75 -> 3 | U75: =R75 -> 69 | V75: =F75 -> 10000000 | W75: =VLOOKUP(V75,D$7:E$19,2,0)/COUNTIF(V$7:V$118,V75) -> 8.4736842 | X75: =INDIRECT("C"&MATCH(V75,$D$7:$D$19,0)+6) -> 9 | Y75: =K75 -> 10000000 | Z75: =VLOOKUP(Y75,$I$7:$J$27,2,0)/COUNTIF(Y$7:Y$118,Y75) -> 7.5333333 | AA75: =INDIRECT("H"&MATCH(Y75,$I$7:$I$27,0)+6) -> 16 | AB75: =P75 -> 10106862 | AC75: =VLOOKUP(AB75,$N$7:$O$106,2,0)/COUNTIF(AB$7:AB$118,AB75) -> 8 | AD75: =INDIRECT("M"&MATCH(AB75,$N$7:$N$106,0)+6) -> 60 | AE75: =ROUND(AE76+(($AE$7-$AE$118)/SUM($AF$7:$AF$117)*AF75),0) -> 1 | AF75: 44
A76: 10000000 | B76: 23 | F76: {=IF((SMALL(IF(D$7:D$19>=A76,D$7:D$19),1)-A76)<(IF(A76-IFERROR(LARGE(IF(D$7:D$19<=A76,D$7:D$19),1),D$19)<0,A76+IFERROR(LARGE(IF(D$7:D$19<=A76,D$7:D$19),1),D$19),A76-IFERROR(LARGE(IF(D$7:D$19<=A76,D$7:D$19),1),D$19))),SMALL(IF(D$7:D$19>=A76,D$7:D$19),1),IFERROR(LARGE(IF(D$7:D$19<=A76,D$7:D$19),1),D$19))} -> 10000000 | G76: =B76 -> 23 | K76: {=IF((SMALL(IF(I$7:I$27>=$A76,I$7:I$27),1)-$A76)<(IF($A76-IFERROR(LARGE(IF(I$7:I$27<=$A76,I$7:I$27),1),I$19)<0,$A76+IFERROR(LARGE(IF(I$7:I$27<=$A76,I$7:I$27),1),I$27),$A76-IFERROR(LARGE(IF(I$7:I$27<=$A76,I$7:I$27),1),I$19))),SMALL(IF(I$7:I$27>=$A76,I$7:I$27),1),IFERROR(LARGE(IF(I$7:I$27<=$A76,I$7:I$27),1),I$27))} -> 10000000 | L76: =B76 -> 23 | M76: 70 | N76: 30000000 | O76: =SUMIF(P$7:P$118,N76,Q$7:Q$118) -> 17 | P76: {=IF((SMALL(IF(N$7:N$106>=$A76,N$7:N$106),1)-$A76)<(IF($A76-IFERROR(LARGE(IF(N$7:N$106<=$A76,N$7:N$106),1),N$106)<0,$A76+IFERROR(LARGE(IF(N$7:N$106<=$A76,N$7:N$106),1),N$106),$A76-IFERROR(LARGE(IF(N$7:N$106<=$A76,N$7:N$106),1),N$106))),SMALL(IF(N$7:N$106>=$A76,N$7:N$106),1),IFERROR(LARGE(IF(N$7:N$106<=$A76,N$7:N$106),1),N$106))} -> 10106862 | Q76: =G76 -> 23 | R76: 70 | S76: =A76 -> 10000000 | T76: =B76 -> 23 | U76: =R76 -> 70 | V76: =F76 -> 10000000 | W76: =VLOOKUP(V76,D$7:E$19,2,0)/COUNTIF(V$7:V$118,V76) -> 8.4736842 | X76: =INDIRECT("C"&MATCH(V76,$D$7:$D$19,0)+6) -> 9 | Y76: =K76 -> 10000000 | Z76: =VLOOKUP(Y76,$I$7:$J$27,2,0)/COUNTIF(Y$7:Y$118,Y76) -> 7.5333333 | AA76: =INDIRECT("H"&MATCH(Y76,$I$7:$I$27,0)+6) -> 16 | AB76: =P76 -> 10106862 | AC76: =VLOOKUP(AB76,$N$7:$O$106,2,0)/COUNTIF(AB$7:AB$118,AB76) -> 8 | AD76: =INDIRECT("M"&MATCH(AB76,$N$7:$N$106,0)+6) -> 60 | AE76: =ROUND(AE77+(($AE$7-$AE$118)/SUM($AF$7:$AF$117)*AF76),0) -> 1 | AF76: 43
A77: 10500000 | B77: 2 | F77: {=IF((SMALL(IF(D$7:D$19>=A77,D$7:D$19),1)-A77)<(IF(A77-IFERROR(LARGE(IF(D$7:D$19<=A77,D$7:D$19),1),D$19)<0,A77+IFERROR(LARGE(IF(D$7:D$19<=A77,D$7:D$19),1),D$19),A77-IFERROR(LARGE(IF(D$7:D$19<=A77,D$7:D$19),1),D$19))),SMALL(IF(D$7:D$19>=A77,D$7:D$19),1),IFERROR(LARGE(IF(D$7:D$19<=A77,D$7:D$19),1),D$19))} -> 10000000 | G77: =B77 -> 2 | K77: {=IF((SMALL(IF(I$7:I$27>=$A77,I$7:I$27),1)-$A77)<(IF($A77-IFERROR(LARGE(IF(I$7:I$27<=$A77,I$7:I$27),1),I$19)<0,$A77+IFERROR(LARGE(IF(I$7:I$27<=$A77,I$7:I$27),1),I$27),$A77-IFERROR(LARGE(IF(I$7:I$27<=$A77,I$7:I$27),1),I$19))),SMALL(IF(I$7:I$27>=$A77,I$7:I$27),1),IFERROR(LARGE(IF(I$7:I$27<=$A77,I$7:I$27),1),I$27))} -> 10000000 | L77: =B77 -> 2 | M77: 71 | N77: =N76+((($N$90-$N$76)/SUM($M$77:$M$90)*M77)) -> 36543779 | O77: =SUMIF(P$7:P$118,N77,Q$7:Q$118) -> 6 | P77: {=IF((SMALL(IF(N$7:N$106>=$A77,N$7:N$106),1)-$A77)<(IF($A77-IFERROR(LARGE(IF(N$7:N$106<=$A77,N$7:N$106),1),N$106)<0,$A77+IFERROR(LARGE(IF(N$7:N$106<=$A77,N$7:N$106),1),N$106),$A77-IFERROR(LARGE(IF(N$7:N$106<=$A77,N$7:N$106),1),N$106))),SMALL(IF(N$7:N$106>=$A77,N$7:N$106),1),IFERROR(LARGE(IF(N$7:N$106<=$A77,N$7:N$106),1),N$106))} -> 10106862 | Q77: =G77 -> 2 | R77: 71 | S77: =A77 -> 10500000 | T77: =B77 -> 2 | U77: =R77 -> 71 | V77: =F77 -> 10000000 | W77: =VLOOKUP(V77,D$7:E$19,2,0)/COUNTIF(V$7:V$118,V77) -> 8.4736842 | X77: =INDIRECT("C"&MATCH(V77,$D$7:$D$19,0)+6) -> 9 | Y77: =K77 -> 10000000 | Z77: =VLOOKUP(Y77,$I$7:$J$27,2,0)/COUNTIF(Y$7:Y$118,Y77) -> 7.5333333 | AA77: =INDIRECT("H"&MATCH(Y77,$I$7:$I$27,0)+6) -> 16 | AB77: =P77 -> 10106862 | AC77: =VLOOKUP(AB77,$N$7:$O$106,2,0)/COUNTIF(AB$7:AB$118,AB77) -> 8 | AD77: =INDIRECT("M"&MATCH(AB77,$N$7:$N$106,0)+6) -> 60 | AE77: =ROUND(AE78+(($AE$7-$AE$118)/SUM($AF$7:$AF$117)*AF77),0) -> 1 | AF77: 42
A78: 11000000 | B78: 4 | F78: {=IF((SMALL(IF(D$7:D$19>=A78,D$7:D$19),1)-A78)<(IF(A78-IFERROR(LARGE(IF(D$7:D$19<=A78,D$7:D$19),1),D$19)<0,A78+IFERROR(LARGE(IF(D$7:D$19<=A78,D$7:D$19),1),D$19),A78-IFERROR(LARGE(IF(D$7:D$19<=A78,D$7:D$19),1),D$19))),SMALL(IF(D$7:D$19>=A78,D$7:D$19),1),IFERROR(LARGE(IF(D$7:D$19<=A78,D$7:D$19),1),D$19))} -> 10000000 | G78: =B78 -> 4 | K78: {=IF((SMALL(IF(I$7:I$27>=$A78,I$7:I$27),1)-$A78)<(IF($A78-IFERROR(LARGE(IF(I$7:I$27<=$A78,I$7:I$27),1),I$19)<0,$A78+IFERROR(LARGE(IF(I$7:I$27<=$A78,I$7:I$27),1),I$27),$A78-IFERROR(LARGE(IF(I$7:I$27<=$A78,I$7:I$27),1),I$19))),SMALL(IF(I$7:I$27>=$A78,I$7:I$27),1),IFERROR(LARGE(IF(I$7:I$27<=$A78,I$7:I$27),1),I$27))} -> 10000000 | L78: =B78 -> 4 | M78: 72 | N78: =N77+((($N$90-$N$76)/SUM($M$77:$M$90)*M78)) -> 43179724 | O78: =SUMIF(P$7:P$118,N78,Q$7:Q$118) -> 16 | P78: {=IF((SMALL(IF(N$7:N$106>=$A78,N$7:N$106),1)-$A78)<(IF($A78-IFERROR(LARGE(IF(N$7:N$106<=$A78,N$7:N$106),1),N$106)<0,$A78+IFERROR(LARGE(IF(N$7:N$106<=$A78,N$7:N$106),1),N$106),$A78-IFERROR(LARGE(IF(N$7:N$106<=$A78,N$7:N$106),1),N$106))),SMALL(IF(N$7:N$106>=$A78,N$7:N$106),1),IFERROR(LARGE(IF(N$7:N$106<=$A78,N$7:N$106),1),N$106))} -> 10106862 | Q78: =G78 -> 4 | R78: 72 | S78: =A78 -> 11000000 | T78: =B78 -> 4 | U78: =R78 -> 72 | V78: =F78 -> 10000000 | W78: =VLOOKUP(V78,D$7:E$19,2,0)/COUNTIF(V$7:V$118,V78) -> 8.4736842 | X78: =INDIRECT("C"&MATCH(V78,$D$7:$D$19,0)+6) -> 9 | Y78: =K78 -> 10000000 | Z78: =VLOOKUP(Y78,$I$7:$J$27,2,0)/COUNTIF(Y$7:Y$118,Y78) -> 7.5333333 | AA78: =INDIRECT("H"&MATCH(Y78,$I$7:$I$27,0)+6) -> 16 | AB78: =P78 -> 10106862 | AC78: =VLOOKUP(AB78,$N$7:$O$106,2,0)/COUNTIF(AB$7:AB$118,AB78) -> 8 | AD78: =INDIRECT("M"&MATCH(AB78,$N$7:$N$106,0)+6) -> 60 | AE78: =ROUND(AE79+(($AE$7-$AE$118)/SUM($AF$7:$AF$117)*AF78),0) -> 1 | AF78: 41
A79: 12000000 | B79: 25 | F79: {=IF((SMALL(IF(D$7:D$19>=A79,D$7:D$19),1)-A79)<(IF(A79-IFERROR(LARGE(IF(D$7:D$19<=A79,D$7:D$19),1),D$19)<0,A79+IFERROR(LARGE(IF(D$7:D$19<=A79,D$7:D$19),1),D$19),A79-IFERROR(LARGE(IF(D$7:D$19<=A79,D$7:D$19),1),D$19))),SMALL(IF(D$7:D$19>=A79,D$7:D$19),1),IFERROR(LARGE(IF(D$7:D$19<=A79,D$7:D$19),1),D$19))} -> 10000000 | G79: =B79 -> 25 | K79: {=IF((SMALL(IF(I$7:I$27>=$A79,I$7:I$27),1)-$A79)<(IF($A79-IFERROR(LARGE(IF(I$7:I$27<=$A79,I$7:I$27),1),I$19)<0,$A79+IFERROR(LARGE(IF(I$7:I$27<=$A79,I$7:I$27),1),I$27),$A79-IFERROR(LARGE(IF(I$7:I$27<=$A79,I$7:I$27),1),I$19))),SMALL(IF(I$7:I$27>=$A79,I$7:I$27),1),IFERROR(LARGE(IF(I$7:I$27<=$A79,I$7:I$27),1),I$27))} -> 10000000 | L79: =B79 -> 25 | M79: 73 | N79: =N78+((($N$90-$N$76)/SUM($M$77:$M$90)*M79)) -> 49907834 | O79: =SUMIF(P$7:P$118,N79,Q$7:Q$118) -> 5 | P79: {=IF((SMALL(IF(N$7:N$106>=$A79,N$7:N$106),1)-$A79)<(IF($A79-IFERROR(LARGE(IF(N$7:N$106<=$A79,N$7:N$106),1),N$106)<0,$A79+IFERROR(LARGE(IF(N$7:N$106<=$A79,N$7:N$106),1),N$106),$A79-IFERROR(LARGE(IF(N$7:N$106<=$A79,N$7:N$106),1),N$106))),SMALL(IF(N$7:N$106>=$A79,N$7:N$106),1),IFERROR(LARGE(IF(N$7:N$106<=$A79,N$7:N$106),1),N$106))} -> 11959505 | Q79: =G79 -> 25 | R79: 73 | S79: =A79 -> 12000000 | T79: =B79 -> 25 | U79: =R79 -> 73 | V79: =F79 -> 10000000 | W79: =VLOOKUP(V79,D$7:E$19,2,0)/COUNTIF(V$7:V$118,V79) -> 8.4736842 | X79: =INDIRECT("C"&MATCH(V79,$D$7:$D$19,0)+6) -> 9 | Y79: =K79 -> 10000000 | Z79: =VLOOKUP(Y79,$I$7:$J$27,2,0)/COUNTIF(Y$7:Y$118,Y79) -> 7.5333333 | AA79: =INDIRECT("H"&MATCH(Y79,$I$7:$I$27,0)+6) -> 16 | AB79: =P79 -> 11959505 | AC79: =VLOOKUP(AB79,$N$7:$O$106,2,0)/COUNTIF(AB$7:AB$118,AB79) -> 13 | AD79: =INDIRECT("M"&MATCH(AB79,$N$7:$N$106,0)+6) -> 61 | AE79: =ROUND(AE80+(($AE$7-$AE$118)/SUM($AF$7:$AF$117)*AF79),0) -> 1 | AF79: 40
A80: 12500000 | B80: 1 | F80: {=IF((SMALL(IF(D$7:D$19>=A80,D$7:D$19),1)-A80)<(IF(A80-IFERROR(LARGE(IF(D$7:D$19<=A80,D$7:D$19),1),D$19)<0,A80+IFERROR(LARGE(IF(D$7:D$19<=A80,D$7:D$19),1),D$19),A80-IFERROR(LARGE(IF(D$7:D$19<=A80,D$7:D$19),1),D$19))),SMALL(IF(D$7:D$19>=A80,D$7:D$19),1),IFERROR(LARGE(IF(D$7:D$19<=A80,D$7:D$19),1),D$19))} -> 10000000 | G80: =B80 -> 1 | K80: {=IF((SMALL(IF(I$7:I$27>=$A80,I$7:I$27),1)-$A80)<(IF($A80-IFERROR(LARGE(IF(I$7:I$27<=$A80,I$7:I$27),1),I$19)<0,$A80+IFERROR(LARGE(IF(I$7:I$27<=$A80,I$7:I$27),1),I$27),$A80-IFERROR(LARGE(IF(I$7:I$27<=$A80,I$7:I$27),1),I$19))),SMALL(IF(I$7:I$27>=$A80,I$7:I$27),1),IFERROR(LARGE(IF(I$7:I$27<=$A80,I$7:I$27),1),I$27))} -> 10000000 | L80: =B80 -> 1 | M80: 74 | N80: =N79+((($N$90-$N$76)/SUM($M$77:$M$90)*M80)) -> 56728111 | O80: =SUMIF(P$7:P$118,N80,Q$7:Q$118) -> 6 | P80: {=IF((SMALL(IF(N$7:N$106>=$A80,N$7:N$106),1)-$A80)<(IF($A80-IFERROR(LARGE(IF(N$7:N$106<=$A80,N$7:N$106),1),N$106)<0,$A80+IFERROR(LARGE(IF(N$7:N$106<=$A80,N$7:N$106),1),N$106),$A80-IFERROR(LARGE(IF(N$7:N$106<=$A80,N$7:N$106),1),N$106))),SMALL(IF(N$7:N$106>=$A80,N$7:N$106),1),IFERROR(LARGE(IF(N$7:N$106<=$A80,N$7:N$106),1),N$106))} -> 11959505 | Q80: =G80 -> 1 | R80: 74 | S80: =A80 -> 12500000 | T80: =B80 -> 1 | U80: =R80 -> 74 | V80: =F80 -> 10000000 | W80: =VLOOKUP(V80,D$7:E$19,2,0)/COUNTIF(V$7:V$118,V80) -> 8.4736842 | X80: =INDIRECT("C"&MATCH(V80,$D$7:$D$19,0)+6) -> 9 | Y80: =K80 -> 10000000 | Z80: =VLOOKUP(Y80,$I$7:$J$27,2,0)/COUNTIF(Y$7:Y$118,Y80) -> 7.5333333 | AA80: =INDIRECT("H"&MATCH(Y80,$I$7:$I$27,0)+6) -> 16 | AB80: =P80 -> 11959505 | AC80: =VLOOKUP(AB80,$N$7:$O$106,2,0)/COUNTIF(AB$7:AB$118,AB80) -> 13 | AD80: =INDIRECT("M"&MATCH(AB80,$N$7:$N$106,0)+6) -> 61 | AE80: =ROUND(AE81+(($AE$7-$AE$118)/SUM($AF$7:$AF$117)*AF80),0) -> 1 | AF80: 39
A81: 13000000 | B81: 8 | F81: {=IF((SMALL(IF(D$7:D$19>=A81,D$7:D$19),1)-A81)<(IF(A81-IFERROR(LARGE(IF(D$7:D$19<=A81,D$7:D$19),1),D$19)<0,A81+IFERROR(LARGE(IF(D$7:D$19<=A81,D$7:D$19),1),D$19),A81-IFERROR(LARGE(IF(D$7:D$19<=A81,D$7:D$19),1),D$19))),SMALL(IF(D$7:D$19>=A81,D$7:D$19),1),IFERROR(LARGE(IF(D$7:D$19<=A81,D$7:D$19),1),D$19))} -> 10000000 | G81: =B81 -> 8 | K81: {=IF((SMALL(IF(I$7:I$27>=$A81,I$7:I$27),1)-$A81)<(IF($A81-IFERROR(LARGE(IF(I$7:I$27<=$A81,I$7:I$27),1),I$19)<0,$A81+IFERROR(LARGE(IF(I$7:I$27<=$A81,I$7:I$27),1),I$27),$A81-IFERROR(LARGE(IF(I$7:I$27<=$A81,I$7:I$27),1),I$19))),SMALL(IF(I$7:I$27>=$A81,I$7:I$27),1),IFERROR(LARGE(IF(I$7:I$27<=$A81,I$7:I$27),1),I$27))} -> 10000000 | L81: =B81 -> 8 | M81: 75 | N81: =N80+((($N$90-$N$76)/SUM($M$77:$M$90)*M81)) -> 63640553 | O81: =SUMIF(P$7:P$118,N81,Q$7:Q$118) -> 0 | P81: {=IF((SMALL(IF(N$7:N$106>=$A81,N$7:N$106),1)-$A81)<(IF($A81-IFERROR(LARGE(IF(N$7:N$106<=$A81,N$7:N$106),1),N$106)<0,$A81+IFERROR(LARGE(IF(N$7:N$106<=$A81,N$7:N$106),1),N$106),$A81-IFERROR(LARGE(IF(N$7:N$106<=$A81,N$7:N$106),1),N$106))),SMALL(IF(N$7:N$106>=$A81,N$7:N$106),1),IFERROR(LARGE(IF(N$7:N$106<=$A81,N$7:N$106),1),N$106))} -> 13842520 | Q81: =G81 -> 8 | R81: 75 | S81: =A81 -> 13000000 | T81: =B81 -> 8 | U81: =R81 -> 75 | V81: =F81 -> 10000000 | W81: =VLOOKUP(V81,D$7:E$19,2,0)/COUNTIF(V$7:V$118,V81) -> 8.4736842 | X81: =INDIRECT("C"&MATCH(V81,$D$7:$D$19,0)+6) -> 9 | Y81: =K81 -> 10000000 | Z81: =VLOOKUP(Y81,$I$7:$J$27,2,0)/COUNTIF(Y$7:Y$118,Y81) -> 7.5333333 | AA81: =INDIRECT("H"&MATCH(Y81,$I$7:$I$27,0)+6) -> 16 | AB81: =P81 -> 13842520 | AC81: =VLOOKUP(AB81,$N$7:$O$106,2,0)/COUNTIF(AB$7:AB$118,AB81) -> 4.3333333 | AD81: =INDIRECT("M"&MATCH(AB81,$N$7:$N$106,0)+6) -> 62 | AE81: =ROUND(AE82+(($AE$7-$AE$118)/SUM($AF$7:$AF$117)*AF81),0) -> 1 | AF81: 38
A82: 13500000 | B82: 1 | F82: {=IF((SMALL(IF(D$7:D$19>=A82,D$7:D$19),1)-A82)<(IF(A82-IFERROR(LARGE(IF(D$7:D$19<=A82,D$7:D$19),1),D$19)<0,A82+IFERROR(LARGE(IF(D$7:D$19<=A82,D$7:D$19),1),D$19),A82-IFERROR(LARGE(IF(D$7:D$19<=A82,D$7:D$19),1),D$19))),SMALL(IF(D$7:D$19>=A82,D$7:D$19),1),IFERROR(LARGE(IF(D$7:D$19<=A82,D$7:D$19),1),D$19))} -> 10000000 | G82: =B82 -> 1 | K82: {=IF((SMALL(IF(I$7:I$27>=$A82,I$7:I$27),1)-$A82)<(IF($A82-IFERROR(LARGE(IF(I$7:I$27<=$A82,I$7:I$27),1),I$19)<0,$A82+IFERROR(LARGE(IF(I$7:I$27<=$A82,I$7:I$27),1),I$27),$A82-IFERROR(LARGE(IF(I$7:I$27<=$A82,I$7:I$27),1),I$19))),SMALL(IF(I$7:I$27>=$A82,I$7:I$27),1),IFERROR(LARGE(IF(I$7:I$27<=$A82,I$7:I$27),1),I$27))} -> 10000000 | L82: =B82 -> 1 | M82: 76 | N82: =N81+((($N$90-$N$76)/SUM($M$77:$M$90)*M82)) -> 70645161 | O82: =SUMIF(P$7:P$118,N82,Q$7:Q$118) -> 4 | P82: {=IF((SMALL(IF(N$7:N$106>=$A82,N$7:N$106),1)-$A82)<(IF($A82-IFERROR(LARGE(IF(N$7:N$106<=$A82,N$7:N$106),1),N$106)<0,$A82+IFERROR(LARGE(IF(N$7:N$106<=$A82,N$7:N$106),1),N$106),$A82-IFERROR(LARGE(IF(N$7:N$106<=$A82,N$7:N$106),1),N$106))),SMALL(IF(N$7:N$106>=$A82,N$7:N$106),1),IFERROR(LARGE(IF(N$7:N$106<=$A82,N$7:N$106),1),N$106))} -> 13842520 | Q82: =G82 -> 1 | R82: 76 | S82: =A82 -> 13500000 | T82: =B82 -> 1 | U82: =R82 -> 76 | V82: =F82 -> 10000000 | W82: =VLOOKUP(V82,D$7:E$19,2,0)/COUNTIF(V$7:V$118,V82) -> 8.4736842 | X82: =INDIRECT("C"&MATCH(V82,$D$7:$D$19,0)+6) -> 9 | Y82: =K82 -> 10000000 | Z82: =VLOOKUP(Y82,$I$7:$J$27,2,0)/COUNTIF(Y$7:Y$118,Y82) -> 7.5333333 | AA82: =INDIRECT("H"&MATCH(Y82,$I$7:$I$27,0)+6) -> 16 | AB82: =P82 -> 13842520 | AC82: =VLOOKUP(AB82,$N$7:$O$106,2,0)/COUNTIF(AB$7:AB$118,AB82) -> 4.3333333 | AD82: =INDIRECT("M"&MATCH(AB82,$N$7:$N$106,0)+6) -> 62 | AE82: =ROUND(AE83+(($AE$7-$AE$118)/SUM($AF$7:$AF$117)*AF82),0) -> 1 | AF82: 37
A83: 14000000 | B83: 4 | F83: {=IF((SMALL(IF(D$7:D$19>=A83,D$7:D$19),1)-A83)<(IF(A83-IFERROR(LARGE(IF(D$7:D$19<=A83,D$7:D$19),1),D$19)<0,A83+IFERROR(LARGE(IF(D$7:D$19<=A83,D$7:D$19),1),D$19),A83-IFERROR(LARGE(IF(D$7:D$19<=A83,D$7:D$19),1),D$19))),SMALL(IF(D$7:D$19>=A83,D$7:D$19),1),IFERROR(LARGE(IF(D$7:D$19<=A83,D$7:D$19),1),D$19))} -> 10000000 | G83: =B83 -> 4 | K83: {=IF((SMALL(IF(I$7:I$27>=$A83,I$7:I$27),1)-$A83)<(IF($A83-IFERROR(LARGE(IF(I$7:I$27<=$A83,I$7:I$27),1),I$19)<0,$A83+IFERROR(LARGE(IF(I$7:I$27<=$A83,I$7:I$27),1),I$27),$A83-IFERROR(LARGE(IF(I$7:I$27<=$A83,I$7:I$27),1),I$19))),SMALL(IF(I$7:I$27>=$A83,I$7:I$27),1),IFERROR(LARGE(IF(I$7:I$27<=$A83,I$7:I$27),1),I$27))} -> 10000000 | L83: =B83 -> 4 | M83: 77 | N83: =N82+((($N$90-$N$76)/SUM($M$77:$M$90)*M83)) -> 77741935 | O83: =SUMIF(P$7:P$118,N83,Q$7:Q$118) -> 4 | P83: {=IF((SMALL(IF(N$7:N$106>=$A83,N$7:N$106),1)-$A83)<(IF($A83-IFERROR(LARGE(IF(N$7:N$106<=$A83,N$7:N$106),1),N$106)<0,$A83+IFERROR(LARGE(IF(N$7:N$106<=$A83,N$7:N$106),1),N$106),$A83-IFERROR(LARGE(IF(N$7:N$106<=$A83,N$7:N$106),1),N$106))),SMALL(IF(N$7:N$106>=$A83,N$7:N$106),1),IFERROR(LARGE(IF(N$7:N$106<=$A83,N$7:N$106),1),N$106))} -> 13842520 | Q83: =G83 -> 4 | R83: 77 | S83: =A83 -> 14000000 | T83: =B83 -> 4 | U83: =R83 -> 77 | V83: =F83 -> 10000000 | W83: =VLOOKUP(V83,D$7:E$19,2,0)/COUNTIF(V$7:V$118,V83) -> 8.4736842 | X83: =INDIRECT("C"&MATCH(V83,$D$7:$D$19,0)+6) -> 9 | Y83: =K83 -> 10000000 | Z83: =VLOOKUP(Y83,$I$7:$J$27,2,0)/COUNTIF(Y$7:Y$118,Y83) -> 7.5333333 | AA83: =INDIRECT("H"&MATCH(Y83,$I$7:$I$27,0)+6) -> 16 | AB83: =P83 -> 13842520 | AC83: =VLOOKUP(AB83,$N$7:$O$106,2,0)/COUNTIF(AB$7:AB$118,AB83) -> 4.3333333 | AD83: =INDIRECT("M"&MATCH(AB83,$N$7:$N$106,0)+6) -> 62 | AE83: =ROUND(AE84+(($AE$7-$AE$118)/SUM($AF$7:$AF$117)*AF83),0) -> 1 | AF83: 36
A84: 15000000 | B84: 13 | F84: {=IF((SMALL(IF(D$7:D$19>=A84,D$7:D$19),1)-A84)<(IF(A84-IFERROR(LARGE(IF(D$7:D$19<=A84,D$7:D$19),1),D$19)<0,A84+IFERROR(LARGE(IF(D$7:D$19<=A84,D$7:D$19),1),D$19),A84-IFERROR(LARGE(IF(D$7:D$19<=A84,D$7:D$19),1),D$19))),SMALL(IF(D$7:D$19>=A84,D$7:D$19),1),IFERROR(LARGE(IF(D$7:D$19<=A84,D$7:D$19),1),D$19))} -> 10000000 | G84: =B84 -> 13 | K84: {=IF((SMALL(IF(I$7:I$27>=$A84,I$7:I$27),1)-$A84)<(IF($A84-IFERROR(LARGE(IF(I$7:I$27<=$A84,I$7:I$27),1),I$19)<0,$A84+IFERROR(LARGE(IF(I$7:I$27<=$A84,I$7:I$27),1),I$27),$A84-IFERROR(LARGE(IF(I$7:I$27<=$A84,I$7:I$27),1),I$19))),SMALL(IF(I$7:I$27>=$A84,I$7:I$27),1),IFERROR(LARGE(IF(I$7:I$27<=$A84,I$7:I$27),1),I$27))} -> 10000000 | L84: =B84 -> 13 | M84: 78 | N84: =N83+((($N$90-$N$76)/SUM($M$77:$M$90)*M84)) -> 84930876 | O84: =SUMIF(P$7:P$118,N84,Q$7:Q$118) -> 1 | P84: {=IF((SMALL(IF(N$7:N$106>=$A84,N$7:N$106),1)-$A84)<(IF($A84-IFERROR(LARGE(IF(N$7:N$106<=$A84,N$7:N$106),1),N$106)<0,$A84+IFERROR(LARGE(IF(N$7:N$106<=$A84,N$7:N$106),1),N$106),$A84-IFERROR(LARGE(IF(N$7:N$106<=$A84,N$7:N$106),1),N$106))),SMALL(IF(N$7:N$106>=$A84,N$7:N$106),1),IFERROR(LARGE(IF(N$7:N$106<=$A84,N$7:N$106),1),N$106))} -> 15755906 | Q84: =G84 -> 13 | R84: 78 | S84: =A84 -> 15000000 | T84: =B84 -> 13 | U84: =R84 -> 78 | V84: =F84 -> 10000000 | W84: =VLOOKUP(V84,D$7:E$19,2,0)/COUNTIF(V$7:V$118,V84) -> 8.4736842 | X84: =INDIRECT("C"&MATCH(V84,$D$7:$D$19,0)+6) -> 9 | Y84: =K84 -> 10000000 | Z84: =VLOOKUP(Y84,$I$7:$J$27,2,0)/COUNTIF(Y$7:Y$118,Y84) -> 7.5333333 | AA84: =INDIRECT("H"&MATCH(Y84,$I$7:$I$27,0)+6) -> 16 | AB84: =P84 -> 15755906 | AC84: =VLOOKUP(AB84,$N$7:$O$106,2,0)/COUNTIF(AB$7:AB$118,AB84) -> 11 | AD84: =INDIRECT("M"&MATCH(AB84,$N$7:$N$106,0)+6) -> 63 | AE84: =ROUND(AE85+(($AE$7-$AE$118)/SUM($AF$7:$AF$117)*AF84),0) -> 1 | AF84: 35
A85: 16000000 | B85: 9 | F85: {=IF((SMALL(IF(D$7:D$19>=A85,D$7:D$19),1)-A85)<(IF(A85-IFERROR(LARGE(IF(D$7:D$19<=A85,D$7:D$19),1),D$19)<0,A85+IFERROR(LARGE(IF(D$7:D$19<=A85,D$7:D$19),1),D$19),A85-IFERROR(LARGE(IF(D$7:D$19<=A85,D$7:D$19),1),D$19))),SMALL(IF(D$7:D$19>=A85,D$7:D$19),1),IFERROR(LARGE(IF(D$7:D$19<=A85,D$7:D$19),1),D$19))} -> 10000000 | G85: =B85 -> 9 | K85: {=IF((SMALL(IF(I$7:I$27>=$A85,I$7:I$27),1)-$A85)<(IF($A85-IFERROR(LARGE(IF(I$7:I$27<=$A85,I$7:I$27),1),I$19)<0,$A85+IFERROR(LARGE(IF(I$7:I$27<=$A85,I$7:I$27),1),I$27),$A85-IFERROR(LARGE(IF(I$7:I$27<=$A85,I$7:I$27),1),I$19))),SMALL(IF(I$7:I$27>=$A85,I$7:I$27),1),IFERROR(LARGE(IF(I$7:I$27<=$A85,I$7:I$27),1),I$27))} -> 10000000 | L85: =B85 -> 9 | M85: 79 | N85: =N84+((($N$90-$N$76)/SUM($M$77:$M$90)*M85)) -> 92211982 | O85: =SUMIF(P$7:P$118,N85,Q$7:Q$118) -> 1 | P85: {=IF((SMALL(IF(N$7:N$106>=$A85,N$7:N$106),1)-$A85)<(IF($A85-IFERROR(LARGE(IF(N$7:N$106<=$A85,N$7:N$106),1),N$106)<0,$A85+IFERROR(LARGE(IF(N$7:N$106<=$A85,N$7:N$106),1),N$106),$A85-IFERROR(LARGE(IF(N$7:N$106<=$A85,N$7:N$106),1),N$106))),SMALL(IF(N$7:N$106>=$A85,N$7:N$106),1),IFERROR(LARGE(IF(N$7:N$106<=$A85,N$7:N$106),1),N$106))} -> 15755906 | Q85: =G85 -> 9 | R85: 79 | S85: =A85 -> 16000000 | T85: =B85 -> 9 | U85: =R85 -> 79 | V85: =F85 -> 10000000 | W85: =VLOOKUP(V85,D$7:E$19,2,0)/COUNTIF(V$7:V$118,V85) -> 8.4736842 | X85: =INDIRECT("C"&MATCH(V85,$D$7:$D$19,0)+6) -> 9 | Y85: =K85 -> 10000000 | Z85: =VLOOKUP(Y85,$I$7:$J$27,2,0)/COUNTIF(Y$7:Y$118,Y85) -> 7.5333333 | AA85: =INDIRECT("H"&MATCH(Y85,$I$7:$I$27,0)+6) -> 16 | AB85: =P85 -> 15755906 | AC85: =VLOOKUP(AB85,$N$7:$O$106,2,0)/COUNTIF(AB$7:AB$118,AB85) -> 11 | AD85: =INDIRECT("M"&MATCH(AB85,$N$7:$N$106,0)+6) -> 63 | AE85: =ROUND(AE86+(($AE$7-$AE$118)/SUM($AF$7:$AF$117)*AF85),0) -> 1 | AF85: 34
A86: 17500000 | B86: 2 | F86: {=IF((SMALL(IF(D$7:D$19>=A86,D$7:D$19),1)-A86)<(IF(A86-IFERROR(LARGE(IF(D$7:D$19<=A86,D$7:D$19),1),D$19)<0,A86+IFERROR(LARGE(IF(D$7:D$19<=A86,D$7:D$19),1),D$19),A86-IFERROR(LARGE(IF(D$7:D$19<=A86,D$7:D$19),1),D$19))),SMALL(IF(D$7:D$19>=A86,D$7:D$19),1),IFERROR(LARGE(IF(D$7:D$19<=A86,D$7:D$19),1),D$19))} -> 10000000 | G86: =B86 -> 2 | K86: {=IF((SMALL(IF(I$7:I$27>=$A86,I$7:I$27),1)-$A86)<(IF($A86-IFERROR(LARGE(IF(I$7:I$27<=$A86,I$7:I$27),1),I$19)<0,$A86+IFERROR(LARGE(IF(I$7:I$27<=$A86,I$7:I$27),1),I$27),$A86-IFERROR(LARGE(IF(I$7:I$27<=$A86,I$7:I$27),1),I$19))),SMALL(IF(I$7:I$27>=$A86,I$7:I$27),1),IFERROR(LARGE(IF(I$7:I$27<=$A86,I$7:I$27),1),I$27))} -> 10000000 | L86: =B86 -> 2 | M86: 80 | N86: =N85+((($N$90-$N$76)/SUM($M$77:$M$90)*M86)) -> 99585253 | O86: =SUMIF(P$7:P$118,N86,Q$7:Q$118) -> 0 | P86: {=IF((SMALL(IF(N$7:N$106>=$A86,N$7:N$106),1)-$A86)<(IF($A86-IFERROR(LARGE(IF(N$7:N$106<=$A86,N$7:N$106),1),N$106)<0,$A86+IFERROR(LARGE(IF(N$7:N$106<=$A86,N$7:N$106),1),N$106),$A86-IFERROR(LARGE(IF(N$7:N$106<=$A86,N$7:N$106),1),N$106))),SMALL(IF(N$7:N$106>=$A86,N$7:N$106),1),IFERROR(LARGE(IF(N$7:N$106<=$A86,N$7:N$106),1),N$106))} -> 17699663 | Q86: =G86 -> 2 | R86: 80 | S86: =A86 -> 17500000 | T86: =B86 -> 2 | U86: =R86 -> 80 | V86: =F86 -> 10000000 | W86: =VLOOKUP(V86,D$7:E$19,2,0)/COUNTIF(V$7:V$118,V86) -> 8.4736842 | X86: =INDIRECT("C"&MATCH(V86,$D$7:$D$19,0)+6) -> 9 | Y86: =K86 -> 10000000 | Z86: =VLOOKUP(Y86,$I$7:$J$27,2,0)/COUNTIF(Y$7:Y$118,Y86) -> 7.5333333 | AA86: =INDIRECT("H"&MATCH(Y86,$I$7:$I$27,0)+6) -> 16 | AB86: =P86 -> 17699663 | AC86: =VLOOKUP(AB86,$N$7:$O$106,2,0)/COUNTIF(AB$7:AB$118,AB86) -> 4 | AD86: =INDIRECT("M"&MATCH(AB86,$N$7:$N$106,0)+6) -> 64 | AE86: =ROUND(AE87+(($AE$7-$AE$118)/SUM($AF$7:$AF$117)*AF86),0) -> 1 | AF86: 33
A87: 18000000 | B87: 6 | F87: {=IF((SMALL(IF(D$7:D$19>=A87,D$7:D$19),1)-A87)<(IF(A87-IFERROR(LARGE(IF(D$7:D$19<=A87,D$7:D$19),1),D$19)<0,A87+IFERROR(LARGE(IF(D$7:D$19<=A87,D$7:D$19),1),D$19),A87-IFERROR(LARGE(IF(D$7:D$19<=A87,D$7:D$19),1),D$19))),SMALL(IF(D$7:D$19>=A87,D$7:D$19),1),IFERROR(LARGE(IF(D$7:D$19<=A87,D$7:D$19),1),D$19))} -> 10000000 | G87: =B87 -> 6 | K87: {=IF((SMALL(IF(I$7:I$27>=$A87,I$7:I$27),1)-$A87)<(IF($A87-IFERROR(LARGE(IF(I$7:I$27<=$A87,I$7:I$27),1),I$19)<0,$A87+IFERROR(LARGE(IF(I$7:I$27<=$A87,I$7:I$27),1),I$27),$A87-IFERROR(LARGE(IF(I$7:I$27<=$A87,I$7:I$27),1),I$19))),SMALL(IF(I$7:I$27>=$A87,I$7:I$27),1),IFERROR(LARGE(IF(I$7:I$27<=$A87,I$7:I$27),1),I$27))} -> 10000000 | L87: =B87 -> 6 | M87: 81 | N87: =N86+((($N$90-$N$76)/SUM($M$77:$M$90)*M87)) -> 1.0705069e+08 | O87: =SUMIF(P$7:P$118,N87,Q$7:Q$118) -> 0 | P87: {=IF((SMALL(IF(N$7:N$106>=$A87,N$7:N$106),1)-$A87)<(IF($A87-IFERROR(LARGE(IF(N$7:N$106<=$A87,N$7:N$106),1),N$106)<0,$A87+IFERROR(LARGE(IF(N$7:N$106<=$A87,N$7:N$106),1),N$106),$A87-IFERROR(LARGE(IF(N$7:N$106<=$A87,N$7:N$106),1),N$106))),SMALL(IF(N$7:N$106>=$A87,N$7:N$106),1),IFERROR(LARGE(IF(N$7:N$106<=$A87,N$7:N$106),1),N$106))} -> 17699663 | Q87: =G87 -> 6 | R87: 81 | S87: =A87 -> 18000000 | T87: =B87 -> 6 | U87: =R87 -> 81 | V87: =F87 -> 10000000 | W87: =VLOOKUP(V87,D$7:E$19,2,0)/COUNTIF(V$7:V$118,V87) -> 8.4736842 | X87: =INDIRECT("C"&MATCH(V87,$D$7:$D$19,0)+6) -> 9 | Y87: =K87 -> 10000000 | Z87: =VLOOKUP(Y87,$I$7:$J$27,2,0)/COUNTIF(Y$7:Y$118,Y87) -> 7.5333333 | AA87: =INDIRECT("H"&MATCH(Y87,$I$7:$I$27,0)+6) -> 16 | AB87: =P87 -> 17699663 | AC87: =VLOOKUP(AB87,$N$7:$O$106,2,0)/COUNTIF(AB$7:AB$118,AB87) -> 4 | AD87: =INDIRECT("M"&MATCH(AB87,$N$7:$N$106,0)+6) -> 64 | AE87: =ROUND(AE88+(($AE$7-$AE$118)/SUM($AF$7:$AF$117)*AF87),0) -> 1 | AF87: 32
A88: 19000000 | B88: 1 | F88: {=IF((SMALL(IF(D$7:D$19>=A88,D$7:D$19),1)-A88)<(IF(A88-IFERROR(LARGE(IF(D$7:D$19<=A88,D$7:D$19),1),D$19)<0,A88+IFERROR(LARGE(IF(D$7:D$19<=A88,D$7:D$19),1),D$19),A88-IFERROR(LARGE(IF(D$7:D$19<=A88,D$7:D$19),1),D$19))),SMALL(IF(D$7:D$19>=A88,D$7:D$19),1),IFERROR(LARGE(IF(D$7:D$19<=A88,D$7:D$19),1),D$19))} -> 10000000 | G88: =B88 -> 1 | K88: {=IF((SMALL(IF(I$7:I$27>=$A88,I$7:I$27),1)-$A88)<(IF($A88-IFERROR(LARGE(IF(I$7:I$27<=$A88,I$7:I$27),1),I$19)<0,$A88+IFERROR(LARGE(IF(I$7:I$27<=$A88,I$7:I$27),1),I$27),$A88-IFERROR(LARGE(IF(I$7:I$27<=$A88,I$7:I$27),1),I$19))),SMALL(IF(I$7:I$27>=$A88,I$7:I$27),1),IFERROR(LARGE(IF(I$7:I$27<=$A88,I$7:I$27),1),I$27))} -> 10000000 | L88: =B88 -> 1 | M88: 82 | N88: =N87+((($N$90-$N$76)/SUM($M$77:$M$90)*M88)) -> 1.1460829e+08 | O88: =SUMIF(P$7:P$118,N88,Q$7:Q$118) -> 0 | P88: {=IF((SMALL(IF(N$7:N$106>=$A88,N$7:N$106),1)-$A88)<(IF($A88-IFERROR(LARGE(IF(N$7:N$106<=$A88,N$7:N$106),1),N$106)<0,$A88+IFERROR(LARGE(IF(N$7:N$106<=$A88,N$7:N$106),1),N$106),$A88-IFERROR(LARGE(IF(N$7:N$106<=$A88,N$7:N$106),1),N$106))),SMALL(IF(N$7:N$106>=$A88,N$7:N$106),1),IFERROR(LARGE(IF(N$7:N$106<=$A88,N$7:N$106),1),N$106))} -> 19673791 | Q88: =G88 -> 1 | R88: 82 | S88: =A88 -> 19000000 | T88: =B88 -> 1 | U88: =R88 -> 82 | V88: =F88 -> 10000000 | W88: =VLOOKUP(V88,D$7:E$19,2,0)/COUNTIF(V$7:V$118,V88) -> 8.4736842 | X88: =INDIRECT("C"&MATCH(V88,$D$7:$D$19,0)+6) -> 9 | Y88: =K88 -> 10000000 | Z88: =VLOOKUP(Y88,$I$7:$J$27,2,0)/COUNTIF(Y$7:Y$118,Y88) -> 7.5333333 | AA88: =INDIRECT("H"&MATCH(Y88,$I$7:$I$27,0)+6) -> 16 | AB88: =P88 -> 19673791 | AC88: =VLOOKUP(AB88,$N$7:$O$106,2,0)/COUNTIF(AB$7:AB$118,AB88) -> 6 | AD88: =INDIRECT("M"&MATCH(AB88,$N$7:$N$106,0)+6) -> 65 | AE88: =ROUND(AE89+(($AE$7-$AE$118)/SUM($AF$7:$AF$117)*AF88),0) -> 1 | AF88: 31
A89: 20000000 | B89: 11 | F89: {=IF((SMALL(IF(D$7:D$19>=A89,D$7:D$19),1)-A89)<(IF(A89-IFERROR(LARGE(IF(D$7:D$19<=A89,D$7:D$19),1),D$19)<0,A89+IFERROR(LARGE(IF(D$7:D$19<=A89,D$7:D$19),1),D$19),A89-IFERROR(LARGE(IF(D$7:D$19<=A89,D$7:D$19),1),D$19))),SMALL(IF(D$7:D$19>=A89,D$7:D$19),1),IFERROR(LARGE(IF(D$7:D$19<=A89,D$7:D$19),1),D$19))} -> 10000000 | G89: =B89 -> 11 | K89: {=IF((SMALL(IF(I$7:I$27>=$A89,I$7:I$27),1)-$A89)<(IF($A89-IFERROR(LARGE(IF(I$7:I$27<=$A89,I$7:I$27),1),I$19)<0,$A89+IFERROR(LARGE(IF(I$7:I$27<=$A89,I$7:I$27),1),I$27),$A89-IFERROR(LARGE(IF(I$7:I$27<=$A89,I$7:I$27),1),I$19))),SMALL(IF(I$7:I$27>=$A89,I$7:I$27),1),IFERROR(LARGE(IF(I$7:I$27<=$A89,I$7:I$27),1),I$27))} -> 10000000 | L89: =B89 -> 11 | M89: 83 | N89: =N88+((($N$90-$N$76)/SUM($M$77:$M$90)*M89)) -> 1.2225806e+08 | O89: =SUMIF(P$7:P$118,N89,Q$7:Q$118) -> 3 | P89: {=IF((SMALL(IF(N$7:N$106>=$A89,N$7:N$106),1)-$A89)<(IF($A89-IFERROR(LARGE(IF(N$7:N$106<=$A89,N$7:N$106),1),N$106)<0,$A89+IFERROR(LARGE(IF(N$7:N$106<=$A89,N$7:N$106),1),N$106),$A89-IFERROR(LARGE(IF(N$7:N$106<=$A89,N$7:N$106),1),N$106))),SMALL(IF(N$7:N$106>=$A89,N$7:N$106),1),IFERROR(LARGE(IF(N$7:N$106<=$A89,N$7:N$106),1),N$106))} -> 19673791 | Q89: =G89 -> 11 | R89: 83 | S89: =A89 -> 20000000 | T89: =B89 -> 11 | U89: =R89 -> 83 | V89: =F89 -> 10000000 | W89: =VLOOKUP(V89,D$7:E$19,2,0)/COUNTIF(V$7:V$118,V89) -> 8.4736842 | X89: =INDIRECT("C"&MATCH(V89,$D$7:$D$19,0)+6) -> 9 | Y89: =K89 -> 10000000 | Z89: =VLOOKUP(Y89,$I$7:$J$27,2,0)/COUNTIF(Y$7:Y$118,Y89) -> 7.5333333 | AA89: =INDIRECT("H"&MATCH(Y89,$I$7:$I$27,0)+6) -> 16 | AB89: =P89 -> 19673791 | AC89: =VLOOKUP(AB89,$N$7:$O$106,2,0)/COUNTIF(AB$7:AB$118,AB89) -> 6 | AD89: =INDIRECT("M"&MATCH(AB89,$N$7:$N$106,0)+6) -> 65 | AE89: =ROUND(AE90+(($AE$7-$AE$118)/SUM($AF$7:$AF$117)*AF89),0) -> 1 | AF89: 30
A90: 21500000 | B90: 1 | F90: {=IF((SMALL(IF(D$7:D$19>=A90,D$7:D$19),1)-A90)<(IF(A90-IFERROR(LARGE(IF(D$7:D$19<=A90,D$7:D$19),1),D$19)<0,A90+IFERROR(LARGE(IF(D$7:D$19<=A90,D$7:D$19),1),D$19),A90-IFERROR(LARGE(IF(D$7:D$19<=A90,D$7:D$19),1),D$19))),SMALL(IF(D$7:D$19>=A90,D$7:D$19),1),IFERROR(LARGE(IF(D$7:D$19<=A90,D$7:D$19),1),D$19))} -> 30000000 | G90: =B90 -> 1 | K90: {=IF((SMALL(IF(I$7:I$27>=$A90,I$7:I$27),1)-$A90)<(IF($A90-IFERROR(LARGE(IF(I$7:I$27<=$A90,I$7:I$27),1),I$19)<0,$A90+IFERROR(LARGE(IF(I$7:I$27<=$A90,I$7:I$27),1),I$27),$A90-IFERROR(LARGE(IF(I$7:I$27<=$A90,I$7:I$27),1),I$19))),SMALL(IF(I$7:I$27>=$A90,I$7:I$27),1),IFERROR(LARGE(IF(I$7:I$27<=$A90,I$7:I$27),1),I$27))} -> 30000000 | L90: =B90 -> 1 | M90: 84 | N90: 130000000 | O90: =SUMIF(P$7:P$118,N90,Q$7:Q$118) -> 2 | P90: {=IF((SMALL(IF(N$7:N$106>=$A90,N$7:N$106),1)-$A90)<(IF($A90-IFERROR(LARGE(IF(N$7:N$106<=$A90,N$7:N$106),1),N$106)<0,$A90+IFERROR(LARGE(IF(N$7:N$106<=$A90,N$7:N$106),1),N$106),$A90-IFERROR(LARGE(IF(N$7:N$106<=$A90,N$7:N$106),1),N$106))),SMALL(IF(N$7:N$106>=$A90,N$7:N$106),1),IFERROR(LARGE(IF(N$7:N$106<=$A90,N$7:N$106),1),N$106))} -> 21678290 | Q90: =G90 -> 1 | R90: 84 | S90: =A90 -> 21500000 | T90: =B90 -> 1 | U90: =R90 -> 84 | V90: =F90 -> 30000000 | W90: =VLOOKUP(V90,D$7:E$19,2,0)/COUNTIF(V$7:V$118,V90) -> 3.9473684 | X90: =INDIRECT("C"&MATCH(V90,$D$7:$D$19,0)+6) -> 10 | Y90: =K90 -> 30000000 | Z90: =VLOOKUP(Y90,$I$7:$J$27,2,0)/COUNTIF(Y$7:Y$118,Y90) -> 4.1176471 | AA90: =INDIRECT("H"&MATCH(Y90,$I$7:$I$27,0)+6) -> 17 | AB90: =P90 -> 21678290 | AC90: =VLOOKUP(AB90,$N$7:$O$106,2,0)/COUNTIF(AB$7:AB$118,AB90) -> 3.3333333 | AD90: =INDIRECT("M"&MATCH(AB90,$N$7:$N$106,0)+6) -> 66 | AE90: =ROUND(AE91+(($AE$7-$AE$118)/SUM($AF$7:$AF$117)*AF90),0) -> 1 | AF90: 29
A91: 22000000 | B91: 8 | F91: {=IF((SMALL(IF(D$7:D$19>=A91,D$7:D$19),1)-A91)<(IF(A91-IFERROR(LARGE(IF(D$7:D$19<=A91,D$7:D$19),1),D$19)<0,A91+IFERROR(LARGE(IF(D$7:D$19<=A91,D$7:D$19),1),D$19),A91-IFERROR(LARGE(IF(D$7:D$19<=A91,D$7:D$19),1),D$19))),SMALL(IF(D$7:D$19>=A91,D$7:D$19),1),IFERROR(LARGE(IF(D$7:D$19<=A91,D$7:D$19),1),D$19))} -> 30000000 | G91: =B91 -> 8 | K91: {=IF((SMALL(IF(I$7:I$27>=$A91,I$7:I$27),1)-$A91)<(IF($A91-IFERROR(LARGE(IF(I$7:I$27<=$A91,I$7:I$27),1),I$19)<0,$A91+IFERROR(LARGE(IF(I$7:I$27<=$A91,I$7:I$27),1),I$27),$A91-IFERROR(LARGE(IF(I$7:I$27<=$A91,I$7:I$27),1),I$19))),SMALL(IF(I$7:I$27>=$A91,I$7:I$27),1),IFERROR(LARGE(IF(I$7:I$27<=$A91,I$7:I$27),1),I$27))} -> 30000000 | L91: =B91 -> 8 | M91: 85 | N91: =N90+((($N$97-$N$90)/SUM($M$91:$M$97)*M91)) -> 1.4655844e+08 | O91: =SUMIF(P$7:P$118,N91,Q$7:Q$118) -> 0 | P91: {=IF((SMALL(IF(N$7:N$106>=$A91,N$7:N$106),1)-$A91)<(IF($A91-IFERROR(LARGE(IF(N$7:N$106<=$A91,N$7:N$106),1),N$106)<0,$A91+IFERROR(LARGE(IF(N$7:N$106<=$A91,N$7:N$106),1),N$106),$A91-IFERROR(LARGE(IF(N$7:N$106<=$A91,N$7:N$106),1),N$106))),SMALL(IF(N$7:N$106>=$A91,N$7:N$106),1),IFERROR(LARGE(IF(N$7:N$106<=$A91,N$7:N$106),1),N$106))} -> 21678290 | Q91: =G91 -> 8 | R91: 85 | S91: =A91 -> 22000000 | T91: =B91 -> 8 | U91: =R91 -> 85 | V91: =F91 -> 30000000 | W91: =VLOOKUP(V91,D$7:E$19,2,0)/COUNTIF(V$7:V$118,V91) -> 3.9473684 | X91: =INDIRECT("C"&MATCH(V91,$D$7:$D$19,0)+6) -> 10 | Y91: =K91 -> 30000000 | Z91: =VLOOKUP(Y91,$I$7:$J$27,2,0)/COUNTIF(Y$7:Y$118,Y91) -> 4.1176471 | AA91: =INDIRECT("H"&MATCH(Y91,$I$7:$I$27,0)+6) -> 17 | AB91: =P91 -> 21678290 | AC91: =VLOOKUP(AB91,$N$7:$O$106,2,0)/COUNTIF(AB$7:AB$118,AB91) -> 3.3333333 | AD91: =INDIRECT("M"&MATCH(AB91,$N$7:$N$106,0)+6) -> 66 | AE91: =ROUND(AE92+(($AE$7-$AE$118)/SUM($AF$7:$AF$117)*AF91),0) -> 1 | AF91: 28
A92: 22500000 | B92: 1 | F92: {=IF((SMALL(IF(D$7:D$19>=A92,D$7:D$19),1)-A92)<(IF(A92-IFERROR(LARGE(IF(D$7:D$19<=A92,D$7:D$19),1),D$19)<0,A92+IFERROR(LARGE(IF(D$7:D$19<=A92,D$7:D$19),1),D$19),A92-IFERROR(LARGE(IF(D$7:D$19<=A92,D$7:D$19),1),D$19))),SMALL(IF(D$7:D$19>=A92,D$7:D$19),1),IFERROR(LARGE(IF(D$7:D$19<=A92,D$7:D$19),1),D$19))} -> 30000000 | G92: =B92 -> 1 | K92: {=IF((SMALL(IF(I$7:I$27>=$A92,I$7:I$27),1)-$A92)<(IF($A92-IFERROR(LARGE(IF(I$7:I$27<=$A92,I$7:I$27),1),I$19)<0,$A92+IFERROR(LARGE(IF(I$7:I$27<=$A92,I$7:I$27),1),I$27),$A92-IFERROR(LARGE(IF(I$7:I$27<=$A92,I$7:I$27),1),I$19))),SMALL(IF(I$7:I$27>=$A92,I$7:I$27),1),IFERROR(LARGE(IF(I$7:I$27<=$A92,I$7:I$27),1),I$27))} -> 30000000 | L92: =B92 -> 1 | M92: 86 | N92: =N91+((($N$97-$N$90)/SUM($M$91:$M$97)*M92)) -> 1.6331169e+08 | O92: =SUMIF(P$7:P$118,N92,Q$7:Q$118) -> 0 | P92: {=IF((SMALL(IF(N$7:N$106>=$A92,N$7:N$106),1)-$A92)<(IF($A92-IFERROR(LARGE(IF(N$7:N$106<=$A92,N$7:N$106),1),N$106)<0,$A92+IFERROR(LARGE(IF(N$7:N$106<=$A92,N$7:N$106),1),N$106),$A92-IFERROR(LARGE(IF(N$7:N$106<=$A92,N$7:N$106),1),N$106))),SMALL(IF(N$7:N$106>=$A92,N$7:N$106),1),IFERROR(LARGE(IF(N$7:N$106<=$A92,N$7:N$106),1),N$106))} -> 21678290 | Q92: =G92 -> 1 | R92: 86 | S92: =A92 -> 22500000 | T92: =B92 -> 1 | U92: =R92 -> 86 | V92: =F92 -> 30000000 | W92: =VLOOKUP(V92,D$7:E$19,2,0)/COUNTIF(V$7:V$118,V92) -> 3.9473684 | X92: =INDIRECT("C"&MATCH(V92,$D$7:$D$19,0)+6) -> 10 | Y92: =K92 -> 30000000 | Z92: =VLOOKUP(Y92,$I$7:$J$27,2,0)/COUNTIF(Y$7:Y$118,Y92) -> 4.1176471 | AA92: =INDIRECT("H"&MATCH(Y92,$I$7:$I$27,0)+6) -> 17 | AB92: =P92 -> 21678290 | AC92: =VLOOKUP(AB92,$N$7:$O$106,2,0)/COUNTIF(AB$7:AB$118,AB92) -> 3.3333333 | AD92: =INDIRECT("M"&MATCH(AB92,$N$7:$N$106,0)+6) -> 66 | AE92: =ROUND(AE93+(($AE$7-$AE$118)/SUM($AF$7:$AF$117)*AF92),0) -> 1 | AF92: 27
A93: 23000000 | B93: 2 | F93: {=IF((SMALL(IF(D$7:D$19>=A93,D$7:D$19),1)-A93)<(IF(A93-IFERROR(LARGE(IF(D$7:D$19<=A93,D$7:D$19),1),D$19)<0,A93+IFERROR(LARGE(IF(D$7:D$19<=A93,D$7:D$19),1),D$19),A93-IFERROR(LARGE(IF(D$7:D$19<=A93,D$7:D$19),1),D$19))),SMALL(IF(D$7:D$19>=A93,D$7:D$19),1),IFERROR(LARGE(IF(D$7:D$19<=A93,D$7:D$19),1),D$19))} -> 30000000 | G93: =B93 -> 2 | K93: {=IF((SMALL(IF(I$7:I$27>=$A93,I$7:I$27),1)-$A93)<(IF($A93-IFERROR(LARGE(IF(I$7:I$27<=$A93,I$7:I$27),1),I$19)<0,$A93+IFERROR(LARGE(IF(I$7:I$27<=$A93,I$7:I$27),1),I$27),$A93-IFERROR(LARGE(IF(I$7:I$27<=$A93,I$7:I$27),1),I$19))),SMALL(IF(I$7:I$27>=$A93,I$7:I$27),1),IFERROR(LARGE(IF(I$7:I$27<=$A93,I$7:I$27),1),I$27))} -> 30000000 | L93: =B93 -> 2 | M93: 87 | N93: =N92+((($N$97-$N$90)/SUM($M$91:$M$97)*M93)) -> 1.8025974e+08 | O93: =SUMIF(P$7:P$118,N93,Q$7:Q$118) -> 0 | P93: {=IF((SMALL(IF(N$7:N$106>=$A93,N$7:N$106),1)-$A93)<(IF($A93-IFERROR(LARGE(IF(N$7:N$106<=$A93,N$7:N$106),1),N$106)<0,$A93+IFERROR(LARGE(IF(N$7:N$106<=$A93,N$7:N$106),1),N$106),$A93-IFERROR(LARGE(IF(N$7:N$106<=$A93,N$7:N$106),1),N$106))),SMALL(IF(N$7:N$106>=$A93,N$7:N$106),1),IFERROR(LARGE(IF(N$7:N$106<=$A93,N$7:N$106),1),N$106))} -> 23713161 | Q93: =G93 -> 2 | R93: 87 | S93: =A93 -> 23000000 | T93: =B93 -> 2 | U93: =R93 -> 87 | V93: =F93 -> 30000000 | W93: =VLOOKUP(V93,D$7:E$19,2,0)/COUNTIF(V$7:V$118,V93) -> 3.9473684 | X93: =INDIRECT("C"&MATCH(V93,$D$7:$D$19,0)+6) -> 10 | Y93: =K93 -> 30000000 | Z93: =VLOOKUP(Y93,$I$7:$J$27,2,0)/COUNTIF(Y$7:Y$118,Y93) -> 4.1176471 | AA93: =INDIRECT("H"&MATCH(Y93,$I$7:$I$27,0)+6) -> 17 | AB93: =P93 -> 23713161 | AC93: =VLOOKUP(AB93,$N$7:$O$106,2,0)/COUNTIF(AB$7:AB$118,AB93) -> 2.5 | AD93: =INDIRECT("M"&MATCH(AB93,$N$7:$N$106,0)+6) -> 67 | AE93: =ROUND(AE94+(($AE$7-$AE$118)/SUM($AF$7:$AF$117)*AF93),0) -> 1 | AF93: 26
A94: 24000000 | B94: 3 | F94: {=IF((SMALL(IF(D$7:D$19>=A94,D$7:D$19),1)-A94)<(IF(A94-IFERROR(LARGE(IF(D$7:D$19<=A94,D$7:D$19),1),D$19)<0,A94+IFERROR(LARGE(IF(D$7:D$19<=A94,D$7:D$19),1),D$19),A94-IFERROR(LARGE(IF(D$7:D$19<=A94,D$7:D$19),1),D$19))),SMALL(IF(D$7:D$19>=A94,D$7:D$19),1),IFERROR(LARGE(IF(D$7:D$19<=A94,D$7:D$19),1),D$19))} -> 30000000 | G94: =B94 -> 3 | K94: {=IF((SMALL(IF(I$7:I$27>=$A94,I$7:I$27),1)-$A94)<(IF($A94-IFERROR(LARGE(IF(I$7:I$27<=$A94,I$7:I$27),1),I$19)<0,$A94+IFERROR(LARGE(IF(I$7:I$27<=$A94,I$7:I$27),1),I$27),$A94-IFERROR(LARGE(IF(I$7:I$27<=$A94,I$7:I$27),1),I$19))),SMALL(IF(I$7:I$27>=$A94,I$7:I$27),1),IFERROR(LARGE(IF(I$7:I$27<=$A94,I$7:I$27),1),I$27))} -> 30000000 | L94: =B94 -> 3 | M94: 88 | N94: =N93+((($N$97-$N$90)/SUM($M$91:$M$97)*M94)) -> 1.974026e+08 | O94: =SUMIF(P$7:P$118,N94,Q$7:Q$118) -> 0 | P94: {=IF((SMALL(IF(N$7:N$106>=$A94,N$7:N$106),1)-$A94)<(IF($A94-IFERROR(LARGE(IF(N$7:N$106<=$A94,N$7:N$106),1),N$106)<0,$A94+IFERROR(LARGE(IF(N$7:N$106<=$A94,N$7:N$106),1),N$106),$A94-IFERROR(LARGE(IF(N$7:N$106<=$A94,N$7:N$106),1),N$106))),SMALL(IF(N$7:N$106>=$A94,N$7:N$106),1),IFERROR(LARGE(IF(N$7:N$106<=$A94,N$7:N$106),1),N$106))} -> 23713161 | Q94: =G94 -> 3 | R94: 88 | S94: =A94 -> 24000000 | T94: =B94 -> 3 | U94: =R94 -> 88 | V94: =F94 -> 30000000 | W94: =VLOOKUP(V94,D$7:E$19,2,0)/COUNTIF(V$7:V$118,V94) -> 3.9473684 | X94: =INDIRECT("C"&MATCH(V94,$D$7:$D$19,0)+6) -> 10 | Y94: =K94 -> 30000000 | Z94: =VLOOKUP(Y94,$I$7:$J$27,2,0)/COUNTIF(Y$7:Y$118,Y94) -> 4.1176471 | AA94: =INDIRECT("H"&MATCH(Y94,$I$7:$I$27,0)+6) -> 17 | AB94: =P94 -> 23713161 | AC94: =VLOOKUP(AB94,$N$7:$O$106,2,0)/COUNTIF(AB$7:AB$118,AB94) -> 2.5 | AD94: =INDIRECT("M"&MATCH(AB94,$N$7:$N$106,0)+6) -> 67 | AE94: =ROUND(AE95+(($AE$7-$AE$118)/SUM($AF$7:$AF$117)*AF94),0) -> 1 | AF94: 25
A95: 25000000 | B95: 9 | F95: {=IF((SMALL(IF(D$7:D$19>=A95,D$7:D$19),1)-A95)<(IF(A95-IFERROR(LARGE(IF(D$7:D$19<=A95,D$7:D$19),1),D$19)<0,A95+IFERROR(LARGE(IF(D$7:D$19<=A95,D$7:D$19),1),D$19),A95-IFERROR(LARGE(IF(D$7:D$19<=A95,D$7:D$19),1),D$19))),SMALL(IF(D$7:D$19>=A95,D$7:D$19),1),IFERROR(LARGE(IF(D$7:D$19<=A95,D$7:D$19),1),D$19))} -> 30000000 | G95: =B95 -> 9 | K95: {=IF((SMALL(IF(I$7:I$27>=$A95,I$7:I$27),1)-$A95)<(IF($A95-IFERROR(LARGE(IF(I$7:I$27<=$A95,I$7:I$27),1),I$19)<0,$A95+IFERROR(LARGE(IF(I$7:I$27<=$A95,I$7:I$27),1),I$27),$A95-IFERROR(LARGE(IF(I$7:I$27<=$A95,I$7:I$27),1),I$19))),SMALL(IF(I$7:I$27>=$A95,I$7:I$27),1),IFERROR(LARGE(IF(I$7:I$27<=$A95,I$7:I$27),1),I$27))} -> 30000000 | L95: =B95 -> 9 | M95: 89 | N95: =N94+((($N$97-$N$90)/SUM($M$91:$M$97)*M95)) -> 2.1474026e+08 | O95: =SUMIF(P$7:P$118,N95,Q$7:Q$118) -> 0 | P95: {=IF((SMALL(IF(N$7:N$106>=$A95,N$7:N$106),1)-$A95)<(IF($A95-IFERROR(LARGE(IF(N$7:N$106<=$A95,N$7:N$106),1),N$106)<0,$A95+IFERROR(LARGE(IF(N$7:N$106<=$A95,N$7:N$106),1),N$106),$A95-IFERROR(LARGE(IF(N$7:N$106<=$A95,N$7:N$106),1),N$106))),SMALL(IF(N$7:N$106>=$A95,N$7:N$106),1),IFERROR(LARGE(IF(N$7:N$106<=$A95,N$7:N$106),1),N$106))} -> 25778403 | Q95: =G95 -> 9 | R95: 89 | S95: =A95 -> 25000000 | T95: =B95 -> 9 | U95: =R95 -> 89 | V95: =F95 -> 30000000 | W95: =VLOOKUP(V95,D$7:E$19,2,0)/COUNTIF(V$7:V$118,V95) -> 3.9473684 | X95: =INDIRECT("C"&MATCH(V95,$D$7:$D$19,0)+6) -> 10 | Y95: =K95 -> 30000000 | Z95: =VLOOKUP(Y95,$I$7:$J$27,2,0)/COUNTIF(Y$7:Y$118,Y95) -> 4.1176471 | AA95: =INDIRECT("H"&MATCH(Y95,$I$7:$I$27,0)+6) -> 17 | AB95: =P95 -> 25778403 | AC95: =VLOOKUP(AB95,$N$7:$O$106,2,0)/COUNTIF(AB$7:AB$118,AB95) -> 5 | AD95: =INDIRECT("M"&MATCH(AB95,$N$7:$N$106,0)+6) -> 68 | AE95: =ROUND(AE96+(($AE$7-$AE$118)/SUM($AF$7:$AF$117)*AF95),0) -> 1 | AF95: 24
A96: 25500000 | B96: 1 | F96: {=IF((SMALL(IF(D$7:D$19>=A96,D$7:D$19),1)-A96)<(IF(A96-IFERROR(LARGE(IF(D$7:D$19<=A96,D$7:D$19),1),D$19)<0,A96+IFERROR(LARGE(IF(D$7:D$19<=A96,D$7:D$19),1),D$19),A96-IFERROR(LARGE(IF(D$7:D$19<=A96,D$7:D$19),1),D$19))),SMALL(IF(D$7:D$19>=A96,D$7:D$19),1),IFERROR(LARGE(IF(D$7:D$19<=A96,D$7:D$19),1),D$19))} -> 30000000 | G96: =B96 -> 1 | K96: {=IF((SMALL(IF(I$7:I$27>=$A96,I$7:I$27),1)-$A96)<(IF($A96-IFERROR(LARGE(IF(I$7:I$27<=$A96,I$7:I$27),1),I$19)<0,$A96+IFERROR(LARGE(IF(I$7:I$27<=$A96,I$7:I$27),1),I$27),$A96-IFERROR(LARGE(IF(I$7:I$27<=$A96,I$7:I$27),1),I$19))),SMALL(IF(I$7:I$27>=$A96,I$7:I$27),1),IFERROR(LARGE(IF(I$7:I$27<=$A96,I$7:I$27),1),I$27))} -> 30000000 | L96: =B96 -> 1 | M96: 90 | N96: =N95+((($N$97-$N$90)/SUM($M$91:$M$97)*M96)) -> 2.3227273e+08 | O96: =SUMIF(P$7:P$118,N96,Q$7:Q$118) -> 0 | P96: {=IF((SMALL(IF(N$7:N$106>=$A96,N$7:N$106),1)-$A96)<(IF($A96-IFERROR(LARGE(IF(N$7:N$106<=$A96,N$7:N$106),1),N$106)<0,$A96+IFERROR(LARGE(IF(N$7:N$106<=$A96,N$7:N$106),1),N$106),$A96-IFERROR(LARGE(IF(N$7:N$106<=$A96,N$7:N$106),1),N$106))),SMALL(IF(N$7:N$106>=$A96,N$7:N$106),1),IFERROR(LARGE(IF(N$7:N$106<=$A96,N$7:N$106),1),N$106))} -> 25778403 | Q96: =G96 -> 1 | R96: 90 | S96: =A96 -> 25500000 | T96: =B96 -> 1 | U96: =R96 -> 90 | V96: =F96 -> 30000000 | W96: =VLOOKUP(V96,D$7:E$19,2,0)/COUNTIF(V$7:V$118,V96) -> 3.9473684 | X96: =INDIRECT("C"&MATCH(V96,$D$7:$D$19,0)+6) -> 10 | Y96: =K96 -> 30000000 | Z96: =VLOOKUP(Y96,$I$7:$J$27,2,0)/COUNTIF(Y$7:Y$118,Y96) -> 4.1176471 | AA96: =INDIRECT("H"&MATCH(Y96,$I$7:$I$27,0)+6) -> 17 | AB96: =P96 -> 25778403 | AC96: =VLOOKUP(AB96,$N$7:$O$106,2,0)/COUNTIF(AB$7:AB$118,AB96) -> 5 | AD96: =INDIRECT("M"&MATCH(AB96,$N$7:$N$106,0)+6) -> 68 | AE96: =ROUND(AE97+(($AE$7-$AE$118)/SUM($AF$7:$AF$117)*AF96),0) -> 1 | AF96: 23
A97: 27000000 | B97: 1 | F97: {=IF((SMALL(IF(D$7:D$19>=A97,D$7:D$19),1)-A97)<(IF(A97-IFERROR(LARGE(IF(D$7:D$19<=A97,D$7:D$19),1),D$19)<0,A97+IFERROR(LARGE(IF(D$7:D$19<=A97,D$7:D$19),1),D$19),A97-IFERROR(LARGE(IF(D$7:D$19<=A97,D$7:D$19),1),D$19))),SMALL(IF(D$7:D$19>=A97,D$7:D$19),1),IFERROR(LARGE(IF(D$7:D$19<=A97,D$7:D$19),1),D$19))} -> 30000000 | G97: =B97 -> 1 | K97: {=IF((SMALL(IF(I$7:I$27>=$A97,I$7:I$27),1)-$A97)<(IF($A97-IFERROR(LARGE(IF(I$7:I$27<=$A97,I$7:I$27),1),I$19)<0,$A97+IFERROR(LARGE(IF(I$7:I$27<=$A97,I$7:I$27),1),I$27),$A97-IFERROR(LARGE(IF(I$7:I$27<=$A97,I$7:I$27),1),I$19))),SMALL(IF(I$7:I$27>=$A97,I$7:I$27),1),IFERROR(LARGE(IF(I$7:I$27<=$A97,I$7:I$27),1),I$27))} -> 30000000 | L97: =B97 -> 1 | M97: 91 | N97: 250000000 | O97: =SUMIF(P$7:P$118,N97,Q$7:Q$118) -> 0 | P97: {=IF((SMALL(IF(N$7:N$106>=$A97,N$7:N$106),1)-$A97)<(IF($A97-IFERROR(LARGE(IF(N$7:N$106<=$A97,N$7:N$106),1),N$106)<0,$A97+IFERROR(LARGE(IF(N$7:N$106<=$A97,N$7:N$106),1),N$106),$A97-IFERROR(LARGE(IF(N$7:N$106<=$A97,N$7:N$106),1),N$106))),SMALL(IF(N$7:N$106>=$A97,N$7:N$106),1),IFERROR(LARGE(IF(N$7:N$106<=$A97,N$7:N$106),1),N$106))} -> 27874016 | Q97: =G97 -> 1 | R97: 91 | S97: =A97 -> 27000000 | T97: =B97 -> 1 | U97: =R97 -> 91 | V97: =F97 -> 30000000 | W97: =VLOOKUP(V97,D$7:E$19,2,0)/COUNTIF(V$7:V$118,V97) -> 3.9473684 | X97: =INDIRECT("C"&MATCH(V97,$D$7:$D$19,0)+6) -> 10 | Y97: =K97 -> 30000000 | Z97: =VLOOKUP(Y97,$I$7:$J$27,2,0)/COUNTIF(Y$7:Y$118,Y97) -> 4.1176471 | AA97: =INDIRECT("H"&MATCH(Y97,$I$7:$I$27,0)+6) -> 17 | AB97: =P97 -> 27874016 | AC97: =VLOOKUP(AB97,$N$7:$O$106,2,0)/COUNTIF(AB$7:AB$118,AB97) -> 3 | AD97: =INDIRECT("M"&MATCH(AB97,$N$7:$N$106,0)+6) -> 69 | AE97: =ROUND(AE98+(($AE$7-$AE$118)/SUM($AF$7:$AF$117)*AF97),0) -> 1 | AF97: 22
A98: 28000000 | B98: 5 | F98: {=IF((SMALL(IF(D$7:D$19>=A98,D$7:D$19),1)-A98)<(IF(A98-IFERROR(LARGE(IF(D$7:D$19<=A98,D$7:D$19),1),D$19)<0,A98+IFERROR(LARGE(IF(D$7:D$19<=A98,D$7:D$19),1),D$19),A98-IFERROR(LARGE(IF(D$7:D$19<=A98,D$7:D$19),1),D$19))),SMALL(IF(D$7:D$19>=A98,D$7:D$19),1),IFERROR(LARGE(IF(D$7:D$19<=A98,D$7:D$19),1),D$19))} -> 30000000 | G98: =B98 -> 5 | K98: {=IF((SMALL(IF(I$7:I$27>=$A98,I$7:I$27),1)-$A98)<(IF($A98-IFERROR(LARGE(IF(I$7:I$27<=$A98,I$7:I$27),1),I$19)<0,$A98+IFERROR(LARGE(IF(I$7:I$27<=$A98,I$7:I$27),1),I$27),$A98-IFERROR(LARGE(IF(I$7:I$27<=$A98,I$7:I$27),1),I$19))),SMALL(IF(I$7:I$27>=$A98,I$7:I$27),1),IFERROR(LARGE(IF(I$7:I$27<=$A98,I$7:I$27),1),I$27))} -> 30000000 | L98: =B98 -> 5 | M98: 92 | N98: =N97+((($N$106-$N$97)/SUM($M$98:$M$106)*M98)) -> 2.8194444e+08 | O98: =SUMIF(P$7:P$118,N98,Q$7:Q$118) -> 0 | P98: {=IF((SMALL(IF(N$7:N$106>=$A98,N$7:N$106),1)-$A98)<(IF($A98-IFERROR(LARGE(IF(N$7:N$106<=$A98,N$7:N$106),1),N$106)<0,$A98+IFERROR(LARGE(IF(N$7:N$106<=$A98,N$7:N$106),1),N$106),$A98-IFERROR(LARGE(IF(N$7:N$106<=$A98,N$7:N$106),1),N$106))),SMALL(IF(N$7:N$106>=$A98,N$7:N$106),1),IFERROR(LARGE(IF(N$7:N$106<=$A98,N$7:N$106),1),N$106))} -> 27874016 | Q98: =G98 -> 5 | R98: 92 | S98: =A98 -> 28000000 | T98: =B98 -> 5 | U98: =R98 -> 92 | V98: =F98 -> 30000000 | W98: =VLOOKUP(V98,D$7:E$19,2,0)/COUNTIF(V$7:V$118,V98) -> 3.9473684 | X98: =INDIRECT("C"&MATCH(V98,$D$7:$D$19,0)+6) -> 10 | Y98: =K98 -> 30000000 | Z98: =VLOOKUP(Y98,$I$7:$J$27,2,0)/COUNTIF(Y$7:Y$118,Y98) -> 4.1176471 | AA98: =INDIRECT("H"&MATCH(Y98,$I$7:$I$27,0)+6) -> 17 | AB98: =P98 -> 27874016 | AC98: =VLOOKUP(AB98,$N$7:$O$106,2,0)/COUNTIF(AB$7:AB$118,AB98) -> 3 | AD98: =INDIRECT("M"&MATCH(AB98,$N$7:$N$106,0)+6) -> 69 | AE98: =ROUND(AE99+(($AE$7-$AE$118)/SUM($AF$7:$AF$117)*AF98),0) -> 1 | AF98: 21
A99: 29500000 | B99: 1 | F99: {=IF((SMALL(IF(D$7:D$19>=A99,D$7:D$19),1)-A99)<(IF(A99-IFERROR(LARGE(IF(D$7:D$19<=A99,D$7:D$19),1),D$19)<0,A99+IFERROR(LARGE(IF(D$7:D$19<=A99,D$7:D$19),1),D$19),A99-IFERROR(LARGE(IF(D$7:D$19<=A99,D$7:D$19),1),D$19))),SMALL(IF(D$7:D$19>=A99,D$7:D$19),1),IFERROR(LARGE(IF(D$7:D$19<=A99,D$7:D$19),1),D$19))} -> 30000000 | G99: =B99 -> 1 | K99: {=IF((SMALL(IF(I$7:I$27>=$A99,I$7:I$27),1)-$A99)<(IF($A99-IFERROR(LARGE(IF(I$7:I$27<=$A99,I$7:I$27),1),I$19)<0,$A99+IFERROR(LARGE(IF(I$7:I$27<=$A99,I$7:I$27),1),I$27),$A99-IFERROR(LARGE(IF(I$7:I$27<=$A99,I$7:I$27),1),I$19))),SMALL(IF(I$7:I$27>=$A99,I$7:I$27),1),IFERROR(LARGE(IF(I$7:I$27<=$A99,I$7:I$27),1),I$27))} -> 30000000 | L99: =B99 -> 1 | M99: 93 | N99: =N98+((($N$106-$N$97)/SUM($M$98:$M$106)*M99)) -> 3.1423611e+08 | O99: =SUMIF(P$7:P$118,N99,Q$7:Q$118) -> 0 | P99: {=IF((SMALL(IF(N$7:N$106>=$A99,N$7:N$106),1)-$A99)<(IF($A99-IFERROR(LARGE(IF(N$7:N$106<=$A99,N$7:N$106),1),N$106)<0,$A99+IFERROR(LARGE(IF(N$7:N$106<=$A99,N$7:N$106),1),N$106),$A99-IFERROR(LARGE(IF(N$7:N$106<=$A99,N$7:N$106),1),N$106))),SMALL(IF(N$7:N$106>=$A99,N$7:N$106),1),IFERROR(LARGE(IF(N$7:N$106<=$A99,N$7:N$106),1),N$106))} -> 30000000 | Q99: =G99 -> 1 | R99: 93 | S99: =A99 -> 29500000 | T99: =B99 -> 1 | U99: =R99 -> 93 | V99: =F99 -> 30000000 | W99: =VLOOKUP(V99,D$7:E$19,2,0)/COUNTIF(V$7:V$118,V99) -> 3.9473684 | X99: =INDIRECT("C"&MATCH(V99,$D$7:$D$19,0)+6) -> 10 | Y99: =K99 -> 30000000 | Z99: =VLOOKUP(Y99,$I$7:$J$27,2,0)/COUNTIF(Y$7:Y$118,Y99) -> 4.1176471 | AA99: =INDIRECT("H"&MATCH(Y99,$I$7:$I$27,0)+6) -> 17 | AB99: =P99 -> 30000000 | AC99: =VLOOKUP(AB99,$N$7:$O$106,2,0)/COUNTIF(AB$7:AB$118,AB99) -> 5.6666667 | AD99: =INDIRECT("M"&MATCH(AB99,$N$7:$N$106,0)+6) -> 70 | AE99: =ROUND(AE100+(($AE$7-$AE$118)/SUM($AF$7:$AF$117)*AF99),0) -> 1 | AF99: 20
